Workbook
Name Z_20966C26_2FB0_458A_A419_418535DD5D43_.wvu.Cols: #REF!
Name Z_20966C26_2FB0_458A_A419_418535DD5D43_.wvu.Cols: Upute!$B:$IT
Name Z_20966C26_2FB0_458A_A419_418535DD5D43_.wvu.PrintArea: OBVEZE!$A$3:$D$109
Name Z_20966C26_2FB0_458A_A419_418535DD5D43_.wvu.PrintTitles: OBVEZE!$A$3:$IQ$3
Name Z_20966C26_2FB0_458A_A419_418535DD5D43_.wvu.Rows: #REF!
Name Z_20966C26_2FB0_458A_A419_418535DD5D43_.wvu.Rows: Upute!$A$23:$IT$65535

Sheet Skriveni
A1: VP | B1: AOP | C1: IZNOS01 | D1: IZNOS02 | E1: IZNOS03 | F1: IZNOS04 | G1: KONTRBR | H1: RAZLIKA | I1: RAZLIKA1 | J1: POLJE | K1: TEKST | L1: BROJ
A2: 151 | B2: 1 | C2: ='PR-RAS'!D6 -> 2207435.8 | D2: ='PR-RAS'!E6 -> 2286119.2 | E2: 0 | F2: 0 | G2: =(B2/1000)*(C2*1+D2*2) -> 6779.6743 | H2: =ABS(C2-ROUND(C2,0))+ABS(D2-ROUND(D2,0)) -> 0.42 | I2: 0
A3: 151 | B3: 2 | C3: ='PR-RAS'!D7 -> 361293.24 | D3: ='PR-RAS'!E7 -> 391852.77 | E3: 0 | F3: 0 | G3: =(B3/1000)*(C3*1+D3*2) -> 2289.9976 | H3: =ABS(C3-ROUND(C3,0))+ABS(D3-ROUND(D3,0)) -> 0.47 | I3: 0
A4: 151 | B4: 3 | C4: ='PR-RAS'!D8 -> 312867.5 | D4: ='PR-RAS'!E8 -> 345100.98 | E4: 0 | F4: 0 | G4: =(B4/1000)*(C4*1+D4*2) -> 3009.2084 | H4: =ABS(C4-ROUND(C4,0))+ABS(D4-ROUND(D4,0)) -> 0.52 | I4: 0
A5: 151 | B5: 4 | C5: ='PR-RAS'!D9 -> 319031.19 | D5: ='PR-RAS'!E9 -> 390530.68 | E5: 0 | F5: 0 | G5: =(B5/1000)*(C5*1+D5*2) -> 4400.3702 | H5: =ABS(C5-ROUND(C5,0))+ABS(D5-ROUND(D5,0)) -> 0.51 | I5: 0
A6: 151 | B6: 5 | C6: ='PR-RAS'!D10 -> 31632.43 | D6: ='PR-RAS'!E10 -> 29460.27 | E6: 0 | F6: 0 | G6: =(B6/1000)*(C6*1+D6*2) -> 452.76485 | H6: =ABS(C6-ROUND(C6,0))+ABS(D6-ROUND(D6,0)) -> 0.7 | I6: 0
A7: 151 | B7: 6 | C7: ='PR-RAS'!D11 -> 16154.37 | D7: ='PR-RAS'!E11 -> 14342.39 | E7: 0 | F7: 0 | G7: =(B7/1000)*(C7*1+D7*2) -> 269.0349 | H7: =ABS(C7-ROUND(C7,0))+ABS(D7-ROUND(D7,0)) -> 0.76 | I7: 0
A8: 151 | B8: 7 | C8: ='PR-RAS'!D12 -> 7825.85 | D8: ='PR-RAS'!E12 -> 5754.61 | E8: 0 | F8: 0 | G8: =(B8/1000)*(C8*1+D8*2) -> 135.34549 | H8: =ABS(C8-ROUND(C8,0))+ABS(D8-ROUND(D8,0)) -> 0.54 | I8: 0
A9: 151 | B9: 8 | C9: ='PR-RAS'!D13 -> 22874.75 | D9: ='PR-RAS'!E13 -> 8300.3 | E9: 0 | F9: 0 | G9: =(B9/1000)*(C9*1+D9*2) -> 315.8028 | H9: =ABS(C9-ROUND(C9,0))+ABS(D9-ROUND(D9,0)) -> 0.55 | I9: 0
A10: 151 | B10: 9 | C10: ='PR-RAS'!D14 -> 0 | D10: ='PR-RAS'!E14 -> 0 | E10: 0 | F10: 0 | G10: =(B10/1000)*(C10*1+D10*2) -> 0 | H10: =ABS(C10-ROUND(C10,0))+ABS(D10-ROUND(D10,0)) -> 0 | I10: 0
A11: 151 | B11: 10 | C11: ='PR-RAS'!D15 -> 84651.09 | D11: ='PR-RAS'!E15 -> 103287.27 | E11: 0 | F11: 0 | G11: =(B11/1000)*(C11*1+D11*2) -> 2912.2563 | H11: =ABS(C11-ROUND(C11,0))+ABS(D11-ROUND(D11,0)) -> 0.36 | I11: 0
A12: 151 | B12: 11 | C12: ='PR-RAS'!D16 -> 0 | D12: ='PR-RAS'!E16 -> 0 | E12: 0 | F12: 0 | G12: =(B12/1000)*(C12*1+D12*2) -> 0 | H12: =ABS(C12-ROUND(C12,0))+ABS(D12-ROUND(D12,0)) -> 0 | I12: 0
A13: 151 | B13: 12 | C13: ='PR-RAS'!D17 -> 0 | D13: ='PR-RAS'!E17 -> 0 | E13: 0 | F13: 0 | G13: =(B13/1000)*(C13*1+D13*2) -> 0 | H13: =ABS(C13-ROUND(C13,0))+ABS(D13-ROUND(D13,0)) -> 0 | I13: 0
... A302: 151 | B302: 301 | C302: ='PR-RAS'!D306 -> 0 | D302: ='PR-RAS'!E306 -> 0 | E302: 0 | F302: 0 | G302: =(B302/1000)*(C302*1+D302*2) -> 0 | H302: =ABS(C302-ROUND(C302,0))+ABS(D302-ROUND(D302,0)) -> 0 | I302: 0
A303: 151 | B303: 302 | C303: ='PR-RAS'!D308 -> 0 | D303: ='PR-RAS'!E308 -> 0 | E303: 0 | F303: 0 | G303: =(B303/1000)*(C303*1+D303*2) -> 0 | H303: =ABS(C303-ROUND(C303,0))+ABS(D303-ROUND(D303,0)) -> 0 | I303: 0
A304: 151 | B304: 303 | C304: ='PR-RAS'!D309 -> 0 | D304: ='PR-RAS'!E309 -> 0 | E304: 0 | F304: 0 | G304: =(B304/1000)*(C304*1+D304*2) -> 0 | H304: =ABS(C304-ROUND(C304,0))+ABS(D304-ROUND(D304,0)) -> 0 | I304: 0
A305: 151 | B305: 304 | C305: ='PR-RAS'!D310 -> 0 | D305: ='PR-RAS'!E310 -> 0 | E305: 0 | F305: 0 | G305: =(B305/1000)*(C305*1+D305*2) -> 0 | H305: =ABS(C305-ROUND(C305,0))+ABS(D305-ROUND(D305,0)) -> 0 | I305: 0
A306: 151 | B306: 305 | C306: ='PR-RAS'!D311 -> 0 | D306: ='PR-RAS'!E311 -> 0 | E306: 0 | F306: 0 | G306: =(B306/1000)*(C306*1+D306*2) -> 0 | H306: =ABS(C306-ROUND(C306,0))+ABS(D306-ROUND(D306,0)) -> 0 | I306: 0
A307: 151 | B307: 306 | C307: ='PR-RAS'!D312 -> 0 | D307: ='PR-RAS'!E312 -> 0 | E307: 0 | F307: 0 | G307: =(B307/1000)*(C307*1+D307*2) -> 0 | H307: =ABS(C307-ROUND(C307,0))+ABS(D307-ROUND(D307,0)) -> 0 | I307: 0
A308: 151 | B308: 307 | C308: ='PR-RAS'!D313 -> 0 | D308: ='PR-RAS'!E313 -> 0 | E308: 0 | F308: 0 | G308: =(B308/1000)*(C308*1+D308*2) -> 0 | H308: =ABS(C308-ROUND(C308,0))+ABS(D308-ROUND(D308,0)) -> 0 | I308: 0
A309: 151 | B309: 308 | C309: ='PR-RAS'!D314 -> 0 | D309: ='PR-RAS'!E314 -> 0 | E309: 0 | F309: 0 | G309: =(B309/1000)*(C309*1+D309*2) -> 0 | H309: =ABS(C309-ROUND(C309,0))+ABS(D309-ROUND(D309,0)) -> 0 | I309: 0
A310: 151 | B310: 309 | C310: ='PR-RAS'!D315 -> 0 | D310: ='PR-RAS'!E315 -> 0 | E310: 0 | F310: 0 | G310: =(B310/1000)*(C310*1+D310*2) -> 0 | H310: =ABS(C310-ROUND(C310,0))+ABS(D310-ROUND(D310,0)) -> 0 | I310: 0
A311: 151 | B311: 310 | C311: ='PR-RAS'!D316 -> 0 | D311: ='PR-RAS'!E316 -> 0 | E311: 0 | F311: 0 | G311: =(B311/1000)*(C311*1+D311*2) -> 0 | H311: =ABS(C311-ROUND(C311,0))+ABS(D311-ROUND(D311,0)) -> 0 | I311: 0
A312: 151 | B312: 311 | C312: ='PR-RAS'!D317 -> 0 | D312: ='PR-RAS'!E317 -> 0 | E312: 0 | F312: 0 | G312: =(B312/1000)*(C312*1+D312*2) -> 0 | H312: =ABS(C312-ROUND(C312,0))+ABS(D312-ROUND(D312,0)) -> 0 | I312: 0
A313: 151 | B313: 312 | C313: ='PR-RAS'!D318 -> 0 | D313: ='PR-RAS'!E318 -> 0 | E313: 0 | F313: 0 | G313: =(B313/1000)*(C313*1+D313*2) -> 0 | H313: =ABS(C313-ROUND(C313,0))+ABS(D313-ROUND(D313,0)) -> 0 | I313: 0
A314: 151 | B314: 313 | C314: ='PR-RAS'!D319 -> 0 | D314: ='PR-RAS'!E319 -> 0 | E314: 0 | F314: 0 | G314: =(B314/1000)*(C314*1+D314*2) -> 0 | H314: =ABS(C314-ROUND(C314,0))+ABS(D314-ROUND(D314,0)) -> 0 | I314: 0
... A423: 151 | B423: 422 | C423: ='PR-RAS'!D428 -> 16929.67 | D423: ='PR-RAS'!E428 -> 34404.24 | E423: 0 | F423: 0 | G423: =(B423/1000)*(C423*1+D423*2) -> 36181.499 | H423: =ABS(C423-ROUND(C423,0))+ABS(D423-ROUND(D423,0)) -> 0.57 | I423: 0
A424: 151 | B424: 423 | C424: ='PR-RAS'!D430 -> 365013.55 | D424: ='PR-RAS'!E430 -> 167512.73 | E424: 0 | F424: 0 | G424: =(B424/1000)*(C424*1+D424*2) -> 296116.5 | H424: =ABS(C424-ROUND(C424,0))+ABS(D424-ROUND(D424,0)) -> 0.72 | I424: 0
A425: 151 | B425: 424 | C425: ='PR-RAS'!D431 -> 1883.55 | D425: ='PR-RAS'!E431 -> 3502.2 | E425: 0 | F425: 0 | G425: =(B425/1000)*(C425*1+D425*2) -> 3768.4908 | H425: =ABS(C425-ROUND(C425,0))+ABS(D425-ROUND(D425,0)) -> 0.65 | I425: 0
A426: 151 | B426: 425 | C426: ='PR-RAS'!D432 -> 0 | D426: ='PR-RAS'!E432 -> 0 | E426: 0 | F426: 0 | G426: =(B426/1000)*(C426*1+D426*2) -> 0 | H426: =ABS(C426-ROUND(C426,0))+ABS(D426-ROUND(D426,0)) -> 0 | I426: 0
A427: 151 | B427: 426 | C427: ='PR-RAS'!D433 -> 0 | D427: ='PR-RAS'!E433 -> 0 | E427: 0 | F427: 0 | G427: =(B427/1000)*(C427*1+D427*2) -> 0 | H427: =ABS(C427-ROUND(C427,0))+ABS(D427-ROUND(D427,0)) -> 0 | I427: 0
A428: 151 | B428: 427 | C428: ='PR-RAS'!D434 -> 0 | D428: ='PR-RAS'!E434 -> 0 | E428: 0 | F428: 0 | G428: =(B428/1000)*(C428*1+D428*2) -> 0 | H428: =ABS(C428-ROUND(C428,0))+ABS(D428-ROUND(D428,0)) -> 0 | I428: 0
A429: 151 | B429: 428 | C429: ='PR-RAS'!D435 -> 0 | D429: ='PR-RAS'!E435 -> 0 | E429: 0 | F429: 0 | G429: =(B429/1000)*(C429*1+D429*2) -> 0 | H429: =ABS(C429-ROUND(C429,0))+ABS(D429-ROUND(D429,0)) -> 0 | I429: 0
A430: 151 | B430: 429 | C430: ='PR-RAS'!D436 -> 0 | D430: ='PR-RAS'!E436 -> 0 | E430: 0 | F430: 0 | G430: =(B430/1000)*(C430*1+D430*2) -> 0 | H430: =ABS(C430-ROUND(C430,0))+ABS(D430-ROUND(D430,0)) -> 0 | I430: 0
A431: 151 | B431: 430 | C431: ='PR-RAS'!D437 -> 1883.55 | D431: ='PR-RAS'!E437 -> 3502.2 | E431: 0 | F431: 0 | G431: =(B431/1000)*(C431*1+D431*2) -> 3821.8185 | H431: =ABS(C431-ROUND(C431,0))+ABS(D431-ROUND(D431,0)) -> 0.65 | I431: 0
A432: 151 | B432: 431 | C432: ='PR-RAS'!D438 -> 1883.55 | D432: ='PR-RAS'!E438 -> 3502.2 | E432: 0 | F432: 0 | G432: =(B432/1000)*(C432*1+D432*2) -> 3830.7064 | H432: =ABS(C432-ROUND(C432,0))+ABS(D432-ROUND(D432,0)) -> 0.65 | I432: 0
A433: 151 | B433: 432 | C433: ='PR-RAS'!D439 -> 0 | D433: ='PR-RAS'!E439 -> 0 | E433: 0 | F433: 0 | G433: =(B433/1000)*(C433*1+D433*2) -> 0 | H433: =ABS(C433-ROUND(C433,0))+ABS(D433-ROUND(D433,0)) -> 0 | I433: 0
A434: 151 | B434: 433 | C434: ='PR-RAS'!D440 -> 0 | D434: ='PR-RAS'!E440 -> 0 | E434: 0 | F434: 0 | G434: =(B434/1000)*(C434*1+D434*2) -> 0 | H434: =ABS(C434-ROUND(C434,0))+ABS(D434-ROUND(D434,0)) -> 0 | I434: 0
A435: 151 | B435: 434 | C435: ='PR-RAS'!D441 -> 0 | D435: ='PR-RAS'!E441 -> 0 | E435: 0 | F435: 0 | G435: =(B435/1000)*(C435*1+D435*2) -> 0 | H435: =ABS(C435-ROUND(C435,0))+ABS(D435-ROUND(D435,0)) -> 0 | I435: 0
... A645: 151 | B645: 644 | C645: ='PR-RAS'!D651 -> 32358.99 | D645: ='PR-RAS'!E651 -> 72 | E645: 0 | F645: 0 | G645: =(B645/1000)*(C645*1+D645*2) -> 20931.926 | H645: =ABS(C645-ROUND(C645,0))+ABS(D645-ROUND(D645,0)) -> 0.01 | I645: 0
A646: 151 | B646: 645 | C646: ='PR-RAS'!D653 -> 13395.93 | D646: ='PR-RAS'!E653 -> 6570.2 | E646: 0 | F646: 0 | G646: =(B646/1000)*(C646*1+D646*2) -> 17115.933 | H646: =ABS(C646-ROUND(C646,0))+ABS(D646-ROUND(D646,0)) -> 0.27 | I646: 0
A647: 151 | B647: 646 | C647: ='PR-RAS'!D654 -> 3180597.9 | D647: ='PR-RAS'!E654 -> 3246205.4 | E647: 0 | F647: 0 | G647: =(B647/1000)*(C647*1+D647*2) -> 6248763.6 | H647: =ABS(C647-ROUND(C647,0))+ABS(D647-ROUND(D647,0)) -> 0.46 | I647: 0
A648: 151 | B648: 647 | C648: ='PR-RAS'!D655 -> 3187423.6 | D648: ='PR-RAS'!E655 -> 3246079 | E648: 0 | F648: 0 | G648: =(B648/1000)*(C648*1+D648*2) -> 6262689.3 | H648: =ABS(C648-ROUND(C648,0))+ABS(D648-ROUND(D648,0)) -> 0.35 | I648: 0
A649: 151 | B649: 648 | C649: ='PR-RAS'!D656 -> 6570.2 | D649: ='PR-RAS'!E656 -> 6696.58 | E649: 0 | F649: 0 | G649: =(B649/1000)*(C649*1+D649*2) -> 12936.257 | H649: =ABS(C649-ROUND(C649,0))+ABS(D649-ROUND(D649,0)) -> 0.62 | I649: 0
A650: 151 | B650: 649 | C650: ='PR-RAS'!D657 -> 11 | D650: ='PR-RAS'!E657 -> 12 | E650: 0 | F650: 0 | G650: =(B650/1000)*(C650*1+D650*2) -> 22.715 | H650: =ABS(C650-ROUND(C650,0))+ABS(D650-ROUND(D650,0)) -> 0 | I650: 0
A651: 151 | B651: 650 | C651: ='PR-RAS'!D658 -> 15 | D651: ='PR-RAS'!E658 -> 16 | E651: 0 | F651: 0 | G651: =(B651/1000)*(C651*1+D651*2) -> 30.55 | H651: =ABS(C651-ROUND(C651,0))+ABS(D651-ROUND(D651,0)) -> 0 | I651: 0
A652: 151 | B652: 651 | C652: ='PR-RAS'!D659 -> 11 | D652: ='PR-RAS'!E659 -> 12 | E652: 0 | F652: 0 | G652: =(B652/1000)*(C652*1+D652*2) -> 22.785 | H652: =ABS(C652-ROUND(C652,0))+ABS(D652-ROUND(D652,0)) -> 0 | I652: 0
A653: 151 | B653: 652 | C653: ='PR-RAS'!D660 -> 14 | D653: ='PR-RAS'!E660 -> 14 | E653: 0 | F653: 0 | G653: =(B653/1000)*(C653*1+D653*2) -> 27.384 | H653: =ABS(C653-ROUND(C653,0))+ABS(D653-ROUND(D653,0)) -> 0 | I653: 0
A654: 151 | B654: 653 | C654: ='PR-RAS'!D661 -> 4021.94 | D654: ='PR-RAS'!E661 -> 4601.23 | E654: 0 | F654: 0 | G654: =(B654/1000)*(C654*1+D654*2) -> 8635.5332 | H654: =ABS(C654-ROUND(C654,0))+ABS(D654-ROUND(D654,0)) -> 0.29 | I654: 0
A655: 151 | B655: 654 | C655: ='PR-RAS'!D662 -> 1476 | D655: ='PR-RAS'!E662 -> 954 | E655: 0 | F655: 0 | G655: =(B655/1000)*(C655*1+D655*2) -> 2213.136 | H655: =ABS(C655-ROUND(C655,0))+ABS(D655-ROUND(D655,0)) -> 0 | I655: 0
A656: 151 | B656: 655 | C656: ='PR-RAS'!D663 -> 0 | D656: ='PR-RAS'!E663 -> 1532.25 | E656: 0 | F656: 0 | G656: =(B656/1000)*(C656*1+D656*2) -> 2007.2475 | H656: =ABS(C656-ROUND(C656,0))+ABS(D656-ROUND(D656,0)) -> 0.25 | I656: 0
A657: 151 | B657: 656 | C657: ='PR-RAS'!D664 -> 39091.72 | D657: ='PR-RAS'!E664 -> 42176.17 | E657: 0 | F657: 0 | G657: =(B657/1000)*(C657*1+D657*2) -> 80979.303 | H657: =ABS(C657-ROUND(C657,0))+ABS(D657-ROUND(D657,0)) -> 0.45 | I657: 0
... A1002: 151 | B1002: 1001 | C1002: ='PR-RAS'!D1009 -> 0 | D1002: ='PR-RAS'!E1009 -> 0 | E1002: 0 | F1002: 0 | G1002: =(B1002/1000)*(C1002*1+D1002*2) -> 0 | H1002: =ABS(C1002-ROUND(C1002,0))+ABS(D1002-ROUND(D1002,0)) -> 0 | I1002: 0
A1003: 151 | B1003: 1002 | C1003: ='PR-RAS'!D1012 -> 0 | D1003: ='PR-RAS'!E1012 -> 0 | E1003: 0 | F1003: 0 | G1003: =(B1003/1000)*(C1003*1+D1003*2) -> 0 | H1003: =ABS(C1003-ROUND(C1003,0))+ABS(D1003-ROUND(D1003,0)) -> 0 | I1003: 0
A1004: 151 | B1004: 1003 | C1004: ='PR-RAS'!D1013 -> 0 | D1004: ='PR-RAS'!E1013 -> 0 | E1004: 0 | F1004: 0 | G1004: =(B1004/1000)*(C1004*1+D1004*2) -> 0 | H1004: =ABS(C1004-ROUND(C1004,0))+ABS(D1004-ROUND(D1004,0)) -> 0 | I1004: 0
A1005: 151 | B1005: 1004 | C1005: ='PR-RAS'!D1014 -> 0 | D1005: ='PR-RAS'!E1014 -> 0 | E1005: 0 | F1005: 0 | G1005: =(B1005/1000)*(C1005*1+D1005*2) -> 0 | H1005: =ABS(C1005-ROUND(C1005,0))+ABS(D1005-ROUND(D1005,0)) -> 0 | I1005: 0
A1006: 151 | B1006: 1005 | C1006: ='PR-RAS'!D1015 -> 0 | D1006: ='PR-RAS'!E1015 -> 0 | E1006: 0 | F1006: 0 | G1006: =(B1006/1000)*(C1006*1+D1006*2) -> 0 | H1006: =ABS(C1006-ROUND(C1006,0))+ABS(D1006-ROUND(D1006,0)) -> 0 | I1006: 0
A1007: 151 | B1007: 1006 | C1007: ='PR-RAS'!D1016 -> 0 | D1007: ='PR-RAS'!E1016 -> 0 | E1007: 0 | F1007: 0 | G1007: =(B1007/1000)*(C1007*1+D1007*2) -> 0 | H1007: =ABS(C1007-ROUND(C1007,0))+ABS(D1007-ROUND(D1007,0)) -> 0 | I1007: 0
A1008: 151 | B1008: 1007 | C1008: ='PR-RAS'!D1017 -> 0 | D1008: ='PR-RAS'!E1017 -> 0 | E1008: 0 | F1008: 0 | G1008: =(B1008/1000)*(C1008*1+D1008*2) -> 0 | H1008: =ABS(C1008-ROUND(C1008,0))+ABS(D1008-ROUND(D1008,0)) -> 0 | I1008: 0
A1009: 151 | B1009: 1008 | C1009: ='PR-RAS'!D1018 -> 0 | D1009: ='PR-RAS'!E1018 -> 0 | E1009: 0 | F1009: 0 | G1009: =(B1009/1000)*(C1009*1+D1009*2) -> 0 | H1009: =ABS(C1009-ROUND(C1009,0))+ABS(D1009-ROUND(D1009,0)) -> 0 | I1009: 0
A1010: 151 | B1010: 1009 | C1010: ='PR-RAS'!D1019 -> 0 | D1010: ='PR-RAS'!E1019 -> 0 | E1010: 0 | F1010: 0 | G1010: =(B1010/1000)*(C1010*1+D1010*2) -> 0 | H1010: =ABS(C1010-ROUND(C1010,0))+ABS(D1010-ROUND(D1010,0)) -> 0 | I1010: 0
A1011: 152 | B1011: 1 | C1011: =BILANCA!D6 -> 13026248 | D1011: =BILANCA!E6 -> 13008407 | E1011: 0 | F1011: 0 | G1011: =B1011/1000*C1011+B1011/500*D1011 -> 39043.063 | H1011: =ABS(C1011-ROUND(C1011,0))+ABS(D1011-ROUND(D1011,0)) -> 0.57
A1012: 152 | B1012: 2 | C1012: =BILANCA!D7 -> 12931029 | D1012: =BILANCA!E7 -> 12806439 | E1012: 0 | F1012: 0 | G1012: =B1012/1000*C1012+B1012/500*D1012 -> 77087.814 | H1012: =ABS(C1012-ROUND(C1012,0))+ABS(D1012-ROUND(D1012,0)) -> 0.25
A1013: 152 | B1013: 3 | C1013: =BILANCA!D8 -> 412482.2 | D1013: =BILANCA!E8 -> 412482.2 | E1013: 0 | F1013: 0 | G1013: =B1013/1000*C1013+B1013/500*D1013 -> 3712.3398 | H1013: =ABS(C1013-ROUND(C1013,0))+ABS(D1013-ROUND(D1013,0)) -> 0.4
A1014: 152 | B1014: 4 | C1014: =BILANCA!D9 -> 411577.2 | D1014: =BILANCA!E9 -> 411577.2 | E1014: 0 | F1014: 0 | G1014: =B1014/1000*C1014+B1014/500*D1014 -> 4938.9264 | H1014: =ABS(C1014-ROUND(C1014,0))+ABS(D1014-ROUND(D1014,0)) -> 0.4
A1015: 152 | B1015: 5 | C1015: =BILANCA!D10 -> 1402.71 | D1015: =BILANCA!E10 -> 1402.71 | E1015: 0 | F1015: 0 | G1015: =B1015/1000*C1015+B1015/500*D1015 -> 21.04065 | H1015: =ABS(C1015-ROUND(C1015,0))+ABS(D1015-ROUND(D1015,0)) -> 0.58
A1016: 152 | B1016: 6 | C1016: =BILANCA!D11 -> 497.71 | D1016: =BILANCA!E11 -> 497.71 | E1016: 0 | F1016: 0 | G1016: =B1016/1000*C1016+B1016/500*D1016 -> 8.95878 | H1016: =ABS(C1016-ROUND(C1016,0))+ABS(D1016-ROUND(D1016,0)) -> 0.58
A1017: 152 | B1017: 7 | C1017: =BILANCA!D12 -> 11852869 | D1017: =BILANCA!E12 -> 11471192 | E1017: 0 | F1017: 0 | G1017: =B1017/1000*C1017+B1017/500*D1017 -> 243566.77 | H1017: =ABS(C1017-ROUND(C1017,0))+ABS(D1017-ROUND(D1017,0)) -> 0.55
A1018: 152 | B1018: 8 | C1018: =BILANCA!D13 -> 11282573 | D1018: =BILANCA!E13 -> 10966568 | E1018: 0 | F1018: 0 | G1018: =B1018/1000*C1018+B1018/500*D1018 -> 265725.66 | H1018: =ABS(C1018-ROUND(C1018,0))+ABS(D1018-ROUND(D1018,0)) -> 0.53
A1019: 152 | B1019: 9 | C1019: =BILANCA!D14 -> 22675.76 | D1019: =BILANCA!E14 -> 22675.76 | E1019: 0 | F1019: 0 | G1019: =B1019/1000*C1019+B1019/500*D1019 -> 612.24552 | H1019: =ABS(C1019-ROUND(C1019,0))+ABS(D1019-ROUND(D1019,0)) -> 0.48
A1020: 152 | B1020: 10 | C1020: =BILANCA!D15 -> 4739608.6 | D1020: =BILANCA!E15 -> 4739608.6 | E1020: 0 | F1020: 0 | G1020: =B1020/1000*C1020+B1020/500*D1020 -> 142188.26 | H1020: =ABS(C1020-ROUND(C1020,0))+ABS(D1020-ROUND(D1020,0)) -> 0.72
A1021: 152 | B1021: 11 | C1021: =BILANCA!D16 -> 4705780.4 | D1021: =BILANCA!E16 -> 4705780.4 | E1021: 0 | F1021: 0 | G1021: =B1021/1000*C1021+B1021/500*D1021 -> 155290.75 | H1021: =ABS(C1021-ROUND(C1021,0))+ABS(D1021-ROUND(D1021,0)) -> 0.74
A1022: 152 | B1022: 12 | C1022: =BILANCA!D17 -> 7187538.6 | D1022: =BILANCA!E17 -> 7189923.9 | E1022: 0 | F1022: 0 | G1022: =B1022/1000*C1022+B1022/500*D1022 -> 258808.64 | H1022: =ABS(C1022-ROUND(C1022,0))+ABS(D1022-ROUND(D1022,0)) -> 0.44
... A1179: 152 | B1179: 169 | C1179: =BILANCA!D174 -> 32358.99 | D1179: =BILANCA!E174 -> 0 | E1179: 0 | F1179: 0 | G1179: =B1179/1000*C1179+B1179/500*D1179 -> 5468.6693 | H1179: =ABS(C1179-ROUND(C1179,0))+ABS(D1179-ROUND(D1179,0)) -> 0.01
A1180: 152 | B1180: 170 | C1180: =BILANCA!D176 -> 13026248 | D1180: =BILANCA!E176 -> 13008407 | E1180: 0 | F1180: 0 | G1180: =B1180/1000*C1180+B1180/500*D1180 -> 6637320.7 | H1180: =ABS(C1180-ROUND(C1180,0))+ABS(D1180-ROUND(D1180,0)) -> 0.57
A1181: 152 | B1181: 171 | C1181: =BILANCA!D177 -> 1993816.5 | D1181: =BILANCA!E177 -> 2605346 | E1181: 0 | F1181: 0 | G1181: =B1181/1000*C1181+B1181/500*D1181 -> 1231971 | H1181: =ABS(C1181-ROUND(C1181,0))+ABS(D1181-ROUND(D1181,0)) -> 0.53
A1182: 152 | B1182: 172 | C1182: =BILANCA!D178 -> 656747.78 | D1182: =BILANCA!E178 -> 983036.19 | E1182: 0 | F1182: 0 | G1182: =B1182/1000*C1182+B1182/500*D1182 -> 451125.07 | H1182: =ABS(C1182-ROUND(C1182,0))+ABS(D1182-ROUND(D1182,0)) -> 0.41
A1183: 152 | B1183: 173 | C1183: =BILANCA!D179 -> 68782.7 | D1183: =BILANCA!E179 -> 114778.13 | E1183: 0 | F1183: 0 | G1183: =B1183/1000*C1183+B1183/500*D1183 -> 51612.64 | H1183: =ABS(C1183-ROUND(C1183,0))+ABS(D1183-ROUND(D1183,0)) -> 0.43
A1184: 152 | B1184: 174 | C1184: =BILANCA!D180 -> 458936.81 | D1184: =BILANCA!E180 -> 431939.77 | E1184: 0 | F1184: 0 | G1184: =B1184/1000*C1184+B1184/500*D1184 -> 230170.04 | H1184: =ABS(C1184-ROUND(C1184,0))+ABS(D1184-ROUND(D1184,0)) -> 0.42
A1185: 152 | B1185: 175 | C1185: =BILANCA!D181 -> 1619.12 | D1185: =BILANCA!E181 -> 4501.41 | E1185: 0 | F1185: 0 | G1185: =B1185/1000*C1185+B1185/500*D1185 -> 1858.8395 | H1185: =ABS(C1185-ROUND(C1185,0))+ABS(D1185-ROUND(D1185,0)) -> 0.53
A1186: 152 | B1186: 176 | C1186: =BILANCA!D182 -> 0 | D1186: =BILANCA!E182 -> 0 | E1186: 0 | F1186: 0 | G1186: =B1186/1000*C1186+B1186/500*D1186 -> 0 | H1186: =ABS(C1186-ROUND(C1186,0))+ABS(D1186-ROUND(D1186,0)) -> 0
A1187: 152 | B1187: 177 | C1187: =BILANCA!D183 -> 0 | D1187: =BILANCA!E183 -> 2810.64 | E1187: 0 | F1187: 0 | G1187: =B1187/1000*C1187+B1187/500*D1187 -> 994.96656 | H1187: =ABS(C1187-ROUND(C1187,0))+ABS(D1187-ROUND(D1187,0)) -> 0.36
A1188: 152 | B1188: 178 | C1188: =BILANCA!D184 -> 1619.12 | D1188: =BILANCA!E184 -> 1690.77 | E1188: 0 | F1188: 0 | G1188: =B1188/1000*C1188+B1188/500*D1188 -> 890.11748 | H1188: =ABS(C1188-ROUND(C1188,0))+ABS(D1188-ROUND(D1188,0)) -> 0.35
A1189: 152 | B1189: 179 | C1189: =BILANCA!D185 -> 1394.64 | D1189: =BILANCA!E185 -> 99152.02 | E1189: 0 | F1189: 0 | G1189: =B1189/1000*C1189+B1189/500*D1189 -> 35746.064 | H1189: =ABS(C1189-ROUND(C1189,0))+ABS(D1189-ROUND(D1189,0)) -> 0.38
A1190: 152 | B1190: 180 | C1190: =BILANCA!D186 -> 0 | D1190: =BILANCA!E186 -> 7300.15 | E1190: 0 | F1190: 0 | G1190: =B1190/1000*C1190+B1190/500*D1190 -> 2628.054 | H1190: =ABS(C1190-ROUND(C1190,0))+ABS(D1190-ROUND(D1190,0)) -> 0.15
A1191: 152 | B1191: 181 | C1191: =BILANCA!D187 -> 0 | D1191: =BILANCA!E187 -> 0 | E1191: 0 | F1191: 0 | G1191: =B1191/1000*C1191+B1191/500*D1191 -> 0 | H1191: =ABS(C1191-ROUND(C1191,0))+ABS(D1191-ROUND(D1191,0)) -> 0
... A1302: 152 | B1302: 292 | C1302: =BILANCA!D298 -> 3191121.7 | D1302: =BILANCA!E298 -> 6189516.4 | E1302: 0 | F1302: 0 | G1302: =B1302/1000*C1302+B1302/500*D1302 -> 4546485.1 | H1302: =ABS(C1302-ROUND(C1302,0))+ABS(D1302-ROUND(D1302,0)) -> 0.63
A1303: 152 | B1303: 293 | C1303: =BILANCA!D300 -> 370776.41 | D1303: =BILANCA!E300 -> 366513.25 | E1303: 0 | F1303: 0 | G1303: =B1303/1000*C1303+B1303/500*D1303 -> 323414.25 | H1303: =ABS(C1303-ROUND(C1303,0))+ABS(D1303-ROUND(D1303,0)) -> 0.66
A1304: 152 | B1304: 294 | C1304: =BILANCA!D301 -> 0 | D1304: =BILANCA!E301 -> 0 | E1304: 0 | F1304: 0 | G1304: =B1304/1000*C1304+B1304/500*D1304 -> 0 | H1304: =ABS(C1304-ROUND(C1304,0))+ABS(D1304-ROUND(D1304,0)) -> 0
A1305: 152 | B1305: 295 | C1305: =BILANCA!D302 -> 339720.22 | D1305: =BILANCA!E302 -> 349625.93 | E1305: 0 | F1305: 0 | G1305: =B1305/1000*C1305+B1305/500*D1305 -> 306496.76 | H1305: =ABS(C1305-ROUND(C1305,0))+ABS(D1305-ROUND(D1305,0)) -> 0.29
A1306: 152 | B1306: 296 | C1306: =BILANCA!D303 -> 2216.28 | D1306: =BILANCA!E303 -> 900 | E1306: 0 | F1306: 0 | G1306: =B1306/1000*C1306+B1306/500*D1306 -> 1188.8189 | H1306: =ABS(C1306-ROUND(C1306,0))+ABS(D1306-ROUND(D1306,0)) -> 0.28
A1307: 152 | B1307: 297 | C1307: =BILANCA!D304 -> 0 | D1307: =BILANCA!E304 -> 0 | E1307: 0 | F1307: 0 | G1307: =B1307/1000*C1307+B1307/500*D1307 -> 0 | H1307: =ABS(C1307-ROUND(C1307,0))+ABS(D1307-ROUND(D1307,0)) -> 0
A1308: 152 | B1308: 298 | C1308: =BILANCA!D305 -> 0 | D1308: =BILANCA!E305 -> 0 | E1308: 0 | F1308: 0 | G1308: =B1308/1000*C1308+B1308/500*D1308 -> 0 | H1308: =ABS(C1308-ROUND(C1308,0))+ABS(D1308-ROUND(D1308,0)) -> 0
A1309: 152 | B1309: 299 | C1309: =BILANCA!D306 -> 0 | D1309: =BILANCA!E306 -> 0 | E1309: 0 | F1309: 0 | G1309: =B1309/1000*C1309+B1309/500*D1309 -> 0 | H1309: =ABS(C1309-ROUND(C1309,0))+ABS(D1309-ROUND(D1309,0)) -> 0
A1310: 152 | B1310: 300 | C1310: =BILANCA!D307 -> 0 | D1310: =BILANCA!E307 -> 0 | E1310: 0 | F1310: 0 | G1310: =B1310/1000*C1310+B1310/500*D1310 -> 0 | H1310: =ABS(C1310-ROUND(C1310,0))+ABS(D1310-ROUND(D1310,0)) -> 0
A1311: 152 | B1311: 301 | C1311: =BILANCA!D308 -> 7857.6 | D1311: =BILANCA!E308 -> 9599.97 | E1311: 0 | F1311: 0 | G1311: =B1311/1000*C1311+B1311/500*D1311 -> 8144.3195 | H1311: =ABS(C1311-ROUND(C1311,0))+ABS(D1311-ROUND(D1311,0)) -> 0.43
A1312: 152 | B1312: 302 | C1312: =BILANCA!D309 -> 57458.14 | D1312: =BILANCA!E309 -> 57831.48 | E1312: 0 | F1312: 0 | G1312: =B1312/1000*C1312+B1312/500*D1312 -> 52282.572 | H1312: =ABS(C1312-ROUND(C1312,0))+ABS(D1312-ROUND(D1312,0)) -> 0.62
A1313: 152 | B1313: 303 | C1313: =BILANCA!D310 -> 0 | D1313: =BILANCA!E310 -> 0 | E1313: 0 | F1313: 0 | G1313: =B1313/1000*C1313+B1313/500*D1313 -> 0 | H1313: =ABS(C1313-ROUND(C1313,0))+ABS(D1313-ROUND(D1313,0)) -> 0
A1314: 152 | B1314: 304 | C1314: =BILANCA!D311 -> 62109.79 | D1314: =BILANCA!E311 -> 62109.79 | E1314: 0 | F1314: 0 | G1314: =B1314/1000*C1314+B1314/500*D1314 -> 56644.128 | H1314: =ABS(C1314-ROUND(C1314,0))+ABS(D1314-ROUND(D1314,0)) -> 0.42
... A1400: 152 | B1400: 390 | C1400: =BILANCA!D397 -> 347862.52 | D1400: =BILANCA!E397 -> 759514.64 | E1400: 0 | F1400: 0 | G1400: =B1400/1000*C1400+B1400/500*D1400 -> 728087.8 | H1400: =ABS(C1400-ROUND(C1400,0))+ABS(D1400-ROUND(D1400,0)) -> 0.84
...

Sheet Upute
A1: OSNOVNE UPUTE ZA UNOS PODATAKA
A4: Sva bitna pravila o popunjavanju obrazaca, poslovnim pravilima navedena su u nastavku uputa, ono što nije objašnjeno u uputama opisano je u kontrolama koje javljaju pogrešku. Prije nego rješenje problema potražite na broju telefona ili adresi e-pošte na dnu uputa, pokušajte ga pronaći u sklopu uputa. Također, novost je da prilikom uvoza samog dokumenta u aplikaciju, u slučaju pogreški, aplikacija će iste javiti!
A5: Analizom najčešćih pogrešaka prilikom popunjavanja i predaje, nastojali smo na najmanju moguću mjeru smanjiti mogućnost pogreške pri popunjavanju te olakšati pronalaženje pogrešaki. Pozadina ćelije koja je upisana s predznakom minus tamo gdje to nije dopušteno obojat će se crvenom bojom. Iako je onemogućen ručni upis takvih podataka, programi koji pune Excel datoteku mogu u svaku ćeliju "zgurati" bilo kakvu vrijednost pa je kontrola ovog tipa potrebna. Također, novost je da prilikom uvoza samog dokumenta u aplikaciju, u slučaju pogreški, aplikacija će iste javiti!
A6: U nastavku su dane tehničke upute o popunjavanju obrazaca.
A7: U obrasce se unose iznosi samo pojedinačnih stavki. Sumarne stavke zaštićene su, u njih nije moguć unos, a izračunavaju se automatski na osnovu upisanih pojedinačnih iznosa. Iznosi s centima su dopušteni. Sumarne stavke u obrascu su plave boje s podebljanim tipom slova (bold) da se bolje razlikuju. Vrijednosti tih pozicija izračunat će se automatski na osnovu upisanih pojedinačnih stavaka. Na obrascima koji imaju stupac indeks, taj podatak se ne upisuje već se izračunava automatski na osnovu upisanih vrijednosti. Tamo gdje indeks nije moguće izračunati pojavit će se crtica "-", a tamo gdje je indeks veći od 1000 pojavit će se tekst ">>100".
A8: Vrlo važno: Kod unosa vrijednosti naprednijim metodama Kopiraj/Zalijepi (Copy/Paste) iz nekih drugih dokumenata OBAVEZNO koristite metodu Copy (Kopiraj), a ne Cut (Izreži), jer se kod korištenja metode Cut/Paste nepovratno pokvari struktura datoteke. Isto tako, kod Paste metode koristite opciju Paste Special (Posebno lijepljenje), pa odaberite Vrijednosti (Value). Ni u kom slučaju ne prenosite krivo upisane iznose s jedne pozicije u excel-u na drugu tako da ih odvlačite mišem na ispravno mjesto. Ovo je i dalje vrlo česta pogreška i takav način rada trajno oštećuje Excel datoteku (potrebno je novu popuniti od nule). Ni u kom slučaju ne brišite postojeće radne listove, ne mijenjajte nazive postojećih, ne uključujte dijeljenje ili zaštitu radne knjige, ne ubacujte linkove na neke druge dokumente. S obzirom da su svi radni listovi međusobno povezani formulama koje služe kao kontrola, svaka od spomenutih radnji rezultira da Excel datoteka postane neupotrebljiva za računalnu obradu i morat ćete ispuniti novu datoteku.
A9: Kontrole obrazaca su na razini pojedinog obrasca. Kontrole na razini pojedinog obrasca provjeravajte nakon popunjavanja tog obrasca. Ako neka kontrola nije zadovoljena ispravite podatak.
A10: Korisnici Open Office-a: Koristite li starije verzije OpenOffice-a možete s Interneta besplatno skinuti zadnju verziju OpenOffice-a, jer obrasci popunjeni u starijim verzijama mogli bi biti nečitki nakon predaje u aplikaciju. Također, neke verzije Excel-a ne rade dobro bez svih zakrpa (Service Pack-ova), zato provjerite sa svojim informatičarima imate li na računalu instalirane sve zakrpe za program koji koristitie za popunjavanje. Ispravan format ima nastavak .xlsx. Promjena samo nastavka u nazivu datoteke ne mijenja stvarni format datoteke pa će takva datoteka i dalje biti problem ako je samo preimenujete iz *.xls u *.xlsx.
A11: Imate li problema tehničke naravi s popunjavanjem obrasca, radom kontrola i slično, dostavite nam popunjenu problematičnu Excel datoteku zajedno s Vašim kontakt podacima te podacima o programu koji i koju verziju koristite za popunjavanje na adresu e-pošte: rkpfi@mfin.hr.

Sheet RefStr
A2: REFERENTNA STRANICA
I3: Verzija 8.3.0
A4: Izvještaji proračuna, proračunskih i izvanproračunskih korisnika
B6: RKP: | C6: 28098 | H6: Popunjen | I6: Broj pogrešaka
E7: Pregled popunjenosti obrazaca i stanje kontrola: | F7: PR-RAS | H7: =IF(OR(MAX(Skriveni!C2:F1010)>0,MIN(Skriveni!C2:F1010)<0),"DA","NE") -> DA | I7: =IF(AND(H7="DA",Kont!E23>0),Kont!E23,"Nema") -> Nema
B8: Naziv obveznika: | C8: OPĆINA MOLVE | F8: BILANCA | H8: =IF(OR(MAX(Skriveni!C1011:D1400)>0,MIN(Skriveni!C1011:D1400)<0),"DA","NE") -> DA | I8: =IF(AND(H8="DA",Kont!E298>0),Kont!E298,"Nema") -> Nema
F9: RAS funkcijski | H9: =IF(OR(MAX(Skriveni!C1401:D1537)>0,MIN(Skriveni!C1401:D1537)<0),"DA","NE") -> DA | I9: =IF(AND(H9="DA",Kont!E347>0),Kont!E347,"Nema") -> Nema
B10: Razina: | C10: 23 | F10: P-VRIO | H10: {=IF(OR(SUMPRODUCT(--('P-VRIO'!D8:E13<>""))<>0,SUMPRODUCT(--('P-VRIO'!D15:E21<>""))<>0,SUMPRODUCT(--('P-VRIO'!D24:E29<>""))<>0,SUMPRODUCT(--('P-VRIO'!D31:E37<>""))<>0,SUMPRODUCT(--('P-VRIO'!D40:E43<>""))<>0,SUMPRODUCT(--('P-VRIO'!D45:E48<>""))<>0),"DA","NE")} -> DA | I10: =IF(Kont!E345>0,Kont!E345,"Nema") -> Nema
F11: OBVEZE | H11: =IF(OR(MAX(Skriveni!C1582:C1686)>0,MIN(Skriveni!C1582:C1686)<0),"DA","NE") -> DA | I11: =IF(AND(H11="DA",Kont!E342>0),Kont!E342,"Nema") -> Nema
F12: EU IZVJEŠTAJ | H12: NE | I12: Nema
B13: Oznaka razdoblja: | C13: 2025-12 | F13: Kontrole između dva različita obrasa | I13: =IF(Kont!E14>0,Kont!E14,"Nema") -> Nema
A16: Obrazac | B16: Opis stavke | G16: Šifra | H16: Ostvareno u izvještajnom razdoblju preth. godine | I16: Ostvareno u izvještajnom razdoblju tekuće godine
A17: PR-RAS | B17: ='PR-RAS'!B6 -> PRIHODI POSLOVANJA (šifre 61+62+63+64+65+66+67+68) | G17: ='PR-RAS'!C6 -> 6 | H17: ='PR-RAS'!D6 -> 2207435.8 | I17: ='PR-RAS'!E6 -> 2286119.2
B18: ='PR-RAS'!B152 -> RASHODI POSLOVANJA (šifre 31+32+34+35+36+37+38) | G18: ='PR-RAS'!C152 -> 3 | H18: ='PR-RAS'!D152 -> 2458209.5 | I18: ='PR-RAS'!E152 -> 2613537
B19: ='PR-RAS'!B649 -> Višak prihoda i primitaka raspoloživ u sljedećem razdoblju (šifre X005 + '9221-9222' - Y005 - '9222-9221') | G19: ='PR-RAS'!C649 -> X006 | H19: ='PR-RAS'!D649 -> 0 | I19: ='PR-RAS'!E649 -> 0
B20: ='PR-RAS'!B650 -> Manjak prihoda i primitaka za pokriće u sljedećem razdoblju (šifre Y005 + '9222-9221' - X005 - '9221-9222' ) | G20: ='PR-RAS'!C650 -> Y006 | H20: ='PR-RAS'!D650 -> 788172.98 | I20: ='PR-RAS'!E650 -> 1402617.7
A21: Obrazac | B21: Opis stavke | G21: Šifra | H21: Stanje 1. siječnja | I21: Stanje 31. prosinca
A22: BILANCA | B22: =BILANCA!B7 -> Nefinancijska imovina (šifre 01+02+03+04+05+06) | G22: =BILANCA!C7 -> B002 | H22: =BILANCA!D7 -> 12931029 | I22: =BILANCA!E7 -> 12806439
B23: =BILANCA!B69 -> Financijska imovina (šifre 11+12+13+14+15+16+17+19) | G23: =BILANCA!C69 -> 1 | H23: =BILANCA!D69 -> 95218.66 | I23: =BILANCA!E69 -> 201968.48
B24: =BILANCA!B177 -> Obveze (šifre 23+24+25+26+27+29) | G24: =BILANCA!C177 -> 2 | H24: =BILANCA!D177 -> 1993816.5 | I24: =BILANCA!E177 -> 2605346
B25: =BILANCA!B251 -> Vlastiti izvori (šifre 91 + 922 - 93 + 96 + 97) | G25: =BILANCA!C251 -> 9 | H25: =BILANCA!D251 -> 11032431 | I25: =BILANCA!E251 -> 10403061
A26: Obrazac | B26: Opis stavke | G26: Šifra | H26: Ostvareno u izvještajnom razdoblju preth. godine | I26: Ostvareno u izvještajnom razdoblju tekuće godine
A27: RAS-funkcijski | B27: ='RAS-funkcijski'!B5 -> Opće javne usluge (šifre 011+012+013+014 do 018) | G27: ='RAS-funkcijski'!C5 -> 01 | H27: ='RAS-funkcijski'!D5 -> 647790.26 | I27: ='RAS-funkcijski'!E5 -> 721771.07
B28: ='RAS-funkcijski'!B35 -> Ekonomski poslovi (šifre 041+042+043+044+045+046+047+048+049) | G28: ='RAS-funkcijski'!C35 -> 04 | H28: ='RAS-funkcijski'!D35 -> 356491.43 | I28: ='RAS-funkcijski'!E35 -> 218878.25
B29: ='RAS-funkcijski'!B88 -> Rashodi vezani za stanovanje i kom. pogodnosti koji nisu drugdje svrstani | G29: ='RAS-funkcijski'!C88 -> 066 | H29: ='RAS-funkcijski'!D88 -> 197102.41 | I29: ='RAS-funkcijski'!E88 -> 53769.27
B30: ='RAS-funkcijski'!B114 -> Obrazovanje (šifre 091+092+093+094+095+096+097+098) | G30: ='RAS-funkcijski'!C114 -> 09 | H30: ='RAS-funkcijski'!D114 -> 463862.75 | I30: ='RAS-funkcijski'!E114 -> 889999.66
B31: ='RAS-funkcijski'!B141 -> Kontrolni zbroj (šifre 01+02+03+04+05+06+07+08+09+10) | G31: ='RAS-funkcijski'!C141 -> R1 | H31: ='RAS-funkcijski'!D141 -> 2799445.4 | I31: ='RAS-funkcijski'!E141 -> 2923811.8
A32: Obrazac | B32: Opis stavke | G32: Šifra | H32: Iznos povećanja | I32: Iznos smanjenja
A33: P-VRIO | B33: ='P-VRIO'!B5 -> Promjene u vrijednosti i obujmu imovine (šifre 91511+91512) | G33: ='P-VRIO'!C5 -> 9151 | H33: ='P-VRIO'!D5 -> 0 | I33: ='P-VRIO'!E5 -> 433109.6
B34: ='P-VRIO'!B22 -> Promjene u obujmu imovine (šifre P016+P023) | G34: ='P-VRIO'!C22 -> 91512 | H34: ='P-VRIO'!D22 -> 0 | I34: ='P-VRIO'!E22 -> 24.49
B35: ='P-VRIO'!B38 -> Promjene u vrijednosti i obujmu obveza (šifre 91521+91522) | G35: ='P-VRIO'!C38 -> 9152 | H35: ='P-VRIO'!D38 -> 0 | I35: ='P-VRIO'!E38 -> 0
B36: ='P-VRIO'!B44 -> Promjene u obujmu obveza (šifre P035 do P038) | G36: ='P-VRIO'!C44 -> 91522 | H36: ='P-VRIO'!D44 -> 0 | I36: ='P-VRIO'!E44 -> 0
A37: Obrazac | B37: Opis stavke | G37: Šifra | H37: Stanje 1. siječnja | I37: Stanje na kraju izvještajnog razdoblja
A38: OBVEZE | B38: =OBVEZE!B5 -> Stanje obveza 1. siječnja (=stanju obveza iz Izvještaja o obvezama na 31. prosinca prethodne godine) | G38: =OBVEZE!C5 -> V001 | H38: =OBVEZE!D5 -> 1992930.7 | I38: -
B39: =OBVEZE!B44 -> Stanje obveza na kraju izvještajnog razdoblja (šifre V001+V002-V004) i (šifre V007+V009) | G39: =OBVEZE!C44 -> V006 | H39: - | I39: =OBVEZE!D44 -> 2604386.5
B40: =OBVEZE!B45 -> Stanje dospjelih obveza na kraju izvještajnog razdoblja (šifre V008+D23+D24 + 'D dio 25,26' + D27) | G40: =OBVEZE!C45 -> V007 | H40: - | I40: =OBVEZE!D45 -> 1318550
B41: =OBVEZE!B104 -> Stanje nedospjelih obveza na kraju izvještajnog razdoblja (šifre V010 + ND23 + ND24 + 'ND dio 25,26' + ND27) | G41: =OBVEZE!C104 -> V009 | H41: - | I41: =OBVEZE!D104 -> 1285836.5
E44: Potpis osobe odgovorne za računovodstvo | H44: Potpis odgovorne osobe subjekta i pečat

Sheet PR-RAS
A1: Obveznik: | B1: 28098 - OPĆINA MOLVE | C1: Razina: | D1: 23 | E1: Razdoblje: | F1: 2025-12
A2: IZVJEŠTAJ O PRIHODIMA I RASHODIMA, PRIMICIMA I IZDACIMA
A3: Račun iz Rač. plana | B3: Opis stavke | C3: Šifra | D3: Ostvareno u izvještajnom razdoblju preth. godine | E3: Ostvareno u izvještajnom razdoblju tekuće godine | F3: Indeks (5/4)
A4: 1 | B4: 2 | C4: 3 | D4: 4 | E4: 5 | F4: 6
A5: Prihodi i rashodi poslovanja
A6: 6 | B6: PRIHODI POSLOVANJA (šifre 61+62+63+64+65+66+67+68) | C6: 6 | D6: =D7+D43+D49+D82+D106+D125+D134+D140 -> 2207435.8 | E6: =E7+E43+E49+E82+E106+E125+E134+E140 -> 2286119.2 | F6: =IF(D6<>0,IF(E6/D6>=100,">>100",E6/D6*100),"-") -> 103.56447
A7: 61 | B7: Prihodi od poreza (šifre 611+612+613+614+615+616) | C7: 61 | D7: =D8+D17+D23+D29+D36+D39 -> 361293.24 | E7: =E8+E17+E23+E29+E36+E39 -> 391852.77 | F7: =IF(D7<>0,IF(E7/D7>=100,">>100",E7/D7*100),"-") -> 108.45837
A8: 611 | B8: Porez na dohodak (šifre 6111 do 6116 - 6117 - 6119) | C8: 611 | D8: =SUM(D9:D14)-D15-D16 -> 312867.5 | E8: =SUM(E9:E14)-E15-E16 -> 345100.98 | F8: =IF(D8<>0,IF(E8/D8>=100,">>100",E8/D8*100),"-") -> 110.3026
A9: 6111 | B9: Porez na dohodak od nesamostalnog rada | C9: 6111 | D9: 319031.19 | E9: 390530.68 | F9: =IF(D9<>0,IF(E9/D9>=100,">>100",E9/D9*100),"-") -> 122.41144
A10: 6112 | B10: Porez na dohodak od samostalnih djelatnosti | C10: 6112 | D10: 31632.43 | E10: 29460.27 | F10: =IF(D10<>0,IF(E10/D10>=100,">>100",E10/D10*100),"-") -> 93.133123
A11: 6113 | B11: Porez na dohodak od imovine i imovinskih prava | C11: 6113 | D11: 16154.37 | E11: 14342.39 | F11: =IF(D11<>0,IF(E11/D11>=100,">>100",E11/D11*100),"-") -> 88.783345
A12: 6114 | B12: Porez na dohodak od kapitala | C12: 6114 | D12: 7825.85 | E12: 5754.61 | F12: =IF(D12<>0,IF(E12/D12>=100,">>100",E12/D12*100),"-") -> 73.533354
A13: 6115 | B13: Porez na dohodak po godišnjoj prijavi | C13: 6115 | D13: 22874.75 | E13: 8300.3 | F13: =IF(D13<>0,IF(E13/D13>=100,">>100",E13/D13*100),"-") -> 36.285861
A14: 6116 | B14: Porez na dohodak utvrđen u postupku nadzora za prethodne godine | C14: 6116 | D14: 0 | E14: 0 | F14: =IF(D14<>0,IF(E14/D14>=100,">>100",E14/D14*100),"-") -> -
A15: 6117 | B15: Povrat poreza na dohodak po godišnjoj prijavi | C15: 6117 | D15: 84651.09 | E15: 103287.27 | F15: =IF(D15<>0,IF(E15/D15>=100,">>100",E15/D15*100),"-") -> 122.01529
A16: 6119 | B16: Povrat više ostvarenog poreza na dohodak za decentralizirane funkcije | C16: 6119 | D16: 0 | E16: 0 | F16: =IF(D16<>0,IF(E16/D16>=100,">>100",E16/D16*100),"-") -> -
A17: 612 | B17: Porez na dobit (šifre 6121 do 6124 - 6125) | C17: 612 | D17: =SUM(D18:D21)-D22 -> 0 | E17: =SUM(E18:E21)-E22 -> 0 | F17: =IF(D17<>0,IF(E17/D17>=100,">>100",E17/D17*100),"-") -> -
A18: 6121 | B18: Porez na dobit od poduzetnika | C18: 6121 | D18: 0 | E18: 0 | F18: =IF(D18<>0,IF(E18/D18>=100,">>100",E18/D18*100),"-") -> -
A19: 6122 | B19: Porez na dobit po odbitku na naknade za korištenje prava i za usluge | C19: 6122 | D19: 0 | E19: 0 | F19: =IF(D19<>0,IF(E19/D19>=100,">>100",E19/D19*100),"-") -> -
A20: 6123 | B20: Porez na dobit po odbitku na kamate, dividende i udjele u dobiti | C20: 6123 | D20: 0 | E20: 0 | F20: =IF(D20<>0,IF(E20/D20>=100,">>100",E20/D20*100),"-") -> -
A21: 6124 | B21: Porez na dobit po godišnjoj prijavi | C21: 6124 | D21: 0 | E21: 0 | F21: =IF(D21<>0,IF(E21/D21>=100,">>100",E21/D21*100),"-") -> -
A22: 6125 | B22: Povrat poreza na dobit po godišnjoj prijavi | C22: 6125 | D22: 0 | E22: 0 | F22: =IF(D22<>0,IF(E22/D22>=100,">>100",E22/D22*100),"-") -> -
A23: 613 | B23: Porezi na imovinu (šifre 6131 do 6135) | C23: 613 | D23: =SUM(D24:D28) -> 46613.59 | E23: =SUM(E24:E28) -> 45674.65 | F23: =IF(D23<>0,IF(E23/D23>=100,">>100",E23/D23*100),"-") -> 97.985695
A24: 6131 | B24: Stalni porezi na nepokretnu imovinu (zemlju, zgrade, kuće i ostalo) | C24: 6131 | D24: 7521.87 | E24: 3498.48 | F24: =IF(D24<>0,IF(E24/D24>=100,">>100",E24/D24*100),"-") -> 46.510775
A25: 6132 | B25: Porez na nasljedstva i darove | C25: 6132 | D25: 0 | E25: 0 | F25: =IF(D25<>0,IF(E25/D25>=100,">>100",E25/D25*100),"-") -> -
A26: 6133 | B26: Porez na kapitalne i financijske transakcije | C26: 6133 | D26: 0 | E26: 0 | F26: =IF(D26<>0,IF(E26/D26>=100,">>100",E26/D26*100),"-") -> -
A27: 6134 | B27: Povremeni porezi na imovinu | C27: 6134 | D27: 39091.72 | E27: 42176.17 | F27: =IF(D27<>0,IF(E27/D27>=100,">>100",E27/D27*100),"-") -> 107.89029
A28: 6135 | B28: Ostali stalni porezi na imovinu | C28: 6135 | D28: 0 | E28: 0 | F28: =IF(D28<>0,IF(E28/D28>=100,">>100",E28/D28*100),"-") -> -
A29: 614 | B29: Porezi na robu i usluge (šifre 6141 do 6147) | C29: 614 | D29: =SUM(D30:D35) -> 1812.15 | E29: =SUM(E30:E35) -> 1077.14 | F29: =IF(D29<>0,IF(E29/D29>=100,">>100",E29/D29*100),"-") -> 59.439892
A30: 6141 | B30: Porez na dodanu vrijednost | C30: 6141 | D30: 0 | E30: 0 | F30: =IF(D30<>0,IF(E30/D30>=100,">>100",E30/D30*100),"-") -> -
A31: 6142 | B31: Porez na promet | C31: 6142 | D31: 1731.33 | E31: 1077.14 | F31: =IF(D31<>0,IF(E31/D31>=100,">>100",E31/D31*100),"-") -> 62.214598
A32: 6143 | B32: Posebni porezi i trošarine | C32: 6143 | D32: 0 | E32: 0 | F32: =IF(D32<>0,IF(E32/D32>=100,">>100",E32/D32*100),"-") -> -
A33: 6145 | B33: Porezi na korištenje dobara ili izvođenje aktivnosti | C33: 6145 | D33: 80.82 | E33: 0 | F33: =IF(D33<>0,IF(E33/D33>=100,">>100",E33/D33*100),"-") -> 0
A34: 6146 | B34: Ostali porezi na robu i usluge | C34: 6146 | D34: 0 | E34: 0 | F34: =IF(D34<>0,IF(E34/D34>=100,">>100",E34/D34*100),"-") -> -
A35: 6147 | B35: Porez na dobitke od igara na sreću i ostali porezi od igara na sreću | C35: 6147 | D35: 0 | E35: 0 | F35: =IF(D35<>0,IF(E35/D35>=100,">>100",E35/D35*100),"-") -> -
A36: 615 | B36: Porezi na međunarodnu trgovinu i transakcije (šifre 6151+6152) | C36: 615 | D36: =SUM(D37:D38) -> 0 | E36: =SUM(E37:E38) -> 0 | F36: =IF(D36<>0,IF(E36/D36>=100,">>100",E36/D36*100),"-") -> -
A37: 6151 | B37: Carine i carinske pristojbe | C37: 6151 | D37: 0 | E37: 0 | F37: =IF(D37<>0,IF(E37/D37>=100,">>100",E37/D37*100),"-") -> -
A38: 6152 | B38: Ostali porezi na međunarodnu trgovinu i transakcije | C38: 6152 | D38: 0 | E38: 0 | F38: =IF(D38<>0,IF(E38/D38>=100,">>100",E38/D38*100),"-") -> -
A39: 616 | B39: Ostali prihodi od poreza (šifre 6161 do 6163) | C39: 616 | D39: =SUM(D40:D42) -> 0 | E39: =SUM(E40:E42) -> 0 | F39: =IF(D39<>0,IF(E39/D39>=100,">>100",E39/D39*100),"-") -> -
A40: 6161 | B40: Ostali prihodi od poreza koje plaćaju pravne osobe | C40: 6161 | D40: 0 | E40: 0 | F40: =IF(D40<>0,IF(E40/D40>=100,">>100",E40/D40*100),"-") -> -
A41: 6162 | B41: Ostali prihodi od poreza koje plaćaju fizičke osobe | C41: 6162 | D41: 0 | E41: 0 | F41: =IF(D41<>0,IF(E41/D41>=100,">>100",E41/D41*100),"-") -> -
A42: 6163 | B42: Ostali neraspoređeni prihodi od poreza | C42: 6163 | D42: 0 | E42: 0 | F42: =IF(D42<>0,IF(E42/D42>=100,">>100",E42/D42*100),"-") -> -
A43: 62 | B43: Doprinosi (šifre 621+622+623) | C43: 62 | D43: =D44+D47+D48 -> 0 | E43: =E44+E47+E48 -> 0 | F43: =IF(D43<>0,IF(E43/D43>=100,">>100",E43/D43*100),"-") -> -
A44: 621 | B44: Doprinosi za zdravstveno osiguranje (šifre 6211+6212) | C44: 621 | D44: =SUM(D45:D46) -> 0 | E44: =SUM(E45:E46) -> 0 | F44: =IF(D44<>0,IF(E44/D44>=100,">>100",E44/D44*100),"-") -> -
A45: 6211 | B45: Doprinosi za obvezno zdravstveno osiguranje | C45: 6211 | D45: 0 | E45: 0 | F45: =IF(D45<>0,IF(E45/D45>=100,">>100",E45/D45*100),"-") -> -
A46: 6212 | B46: Doprinosi za obvezno zdravstveno osiguranje za slučaj ozljede na radu | C46: 6212 | D46: 0 | E46: 0 | F46: =IF(D46<>0,IF(E46/D46>=100,">>100",E46/D46*100),"-") -> -
A47: 622 | B47: Doprinosi za mirovinsko osiguranje | C47: 622 | D47: 0 | E47: 0 | F47: =IF(D47<>0,IF(E47/D47>=100,">>100",E47/D47*100),"-") -> -
A48: 623 | B48: Doprinosi za zapošljavanje | C48: 623 | D48: 0 | E48: 0 | F48: =IF(D48<>0,IF(E48/D48>=100,">>100",E48/D48*100),"-") -> -
A49: 63 | B49: Pomoći iz inozemstva i od subjekata unutar općeg proračuna (šifre 631+632+633+634+635+636+637+638+639) | C49: 63 | D49: =D50+D53+D58+D61+D64+D68+D71+D74+D77 -> 633719.17 | E49: =E50+E53+E58+E61+E64+E68+E71+E74+E77 -> 651179.53 | F49: =IF(D49<>0,IF(E49/D49>=100,">>100",E49/D49*100),"-") -> 102.75522
A50: 631 | B50: Pomoći od inozemnih vlada (šifre 6311+6312) | C50: 631 | D50: =D51+D52 -> 0 | E50: =E51+E52 -> 0 | F50: =IF(D50<>0,IF(E50/D50>=100,">>100",E50/D50*100),"-") -> -
A51: 6311 | B51: Tekuće pomoći od inozemnih vlada | C51: 6311 | D51: 0 | E51: 0 | F51: =IF(D51<>0,IF(E51/D51>=100,">>100",E51/D51*100),"-") -> -
A52: 6312 | B52: Kapitalne pomoći od inozemnih vlada | C52: 6312 | D52: 0 | E52: 0 | F52: =IF(D52<>0,IF(E52/D52>=100,">>100",E52/D52*100),"-") -> -
A53: 632 | B53: Pomoći od međunarodnih organizacija te institucija i tijela EU (šifre 6321 do 6324) | C53: 632 | D53: =SUM(D54:D57) -> 0 | E53: =SUM(E54:E57) -> 0 | F53: =IF(D53<>0,IF(E53/D53>=100,">>100",E53/D53*100),"-") -> -
A54: 6321 | B54: Tekuće pomoći od međunarodnih organizacija | C54: 6321 | D54: 0 | E54: 0 | F54: =IF(D54<>0,IF(E54/D54>=100,">>100",E54/D54*100),"-") -> -
A55: 6322 | B55: Kapitalne pomoći od međunarodnih organizacija | C55: 6322 | D55: 0 | E55: 0 | F55: =IF(D55<>0,IF(E55/D55>=100,">>100",E55/D55*100),"-") -> -
A56: 6323 | B56: Tekuće pomoći od institucija i tijela EU | C56: 6323 | D56: 0 | E56: 0 | F56: =IF(D56<>0,IF(E56/D56>=100,">>100",E56/D56*100),"-") -> -
A57: 6324 | B57: Kapitalne pomoći od institucija i tijela EU | C57: 6324 | D57: 0 | E57: 0 | F57: =IF(D57<>0,IF(E57/D57>=100,">>100",E57/D57*100),"-") -> -
A58: 633 | B58: Pomoći proračunu i izvanproračunskim korisnicima iz drugih proračuna (šifre 6331+6332) | C58: 633 | D58: =SUM(D59:D60) -> 591685.09 | E58: =SUM(E59:E60) -> 110770.55 | F58: =IF(D58<>0,IF(E58/D58>=100,">>100",E58/D58*100),"-") -> 18.7212
A59: 6331 | B59: Tekuće pomoći proračunu i izvanproračunskim korisnicima iz drugih proračuna | C59: 6331 | D59: 533823.25 | E59: 110770.55 | F59: =IF(D59<>0,IF(E59/D59>=100,">>100",E59/D59*100),"-") -> 20.750417
A60: 6332 | B60: Kapitalne pomoći proračunu i izvanproračunskim korisnicima iz drugih proračuna | C60: 6332 | D60: 57861.84 | E60: 0 | F60: =IF(D60<>0,IF(E60/D60>=100,">>100",E60/D60*100),"-") -> 0
A61: 634 | B61: Pomoći od izvanproračunskih korisnika (šifre 6341+6342) | C61: 634 | D61: =SUM(D62:D63) -> 5971.96 | E61: =SUM(E62:E63) -> 13758.57 | F61: =IF(D61<>0,IF(E61/D61>=100,">>100",E61/D61*100),"-") -> 230.38617
A62: 6341 | B62: Tekuće pomoći od izvanproračunskih korisnika | C62: 6341 | D62: 5971.96 | E62: 13758.57 | F62: =IF(D62<>0,IF(E62/D62>=100,">>100",E62/D62*100),"-") -> 230.38617
A63: 6342 | B63: Kapitalne pomoći od izvanproračunskih korisnika | C63: 6342 | D63: 0 | E63: 0 | F63: =IF(D63<>0,IF(E63/D63>=100,">>100",E63/D63*100),"-") -> -
A64: 635 | B64: Pomoći izravnanja za decentralizirane funkcije i fiskalnog izravnanja (šifre 6351 do 6353) | C64: 635 | D64: =SUM(D65:D67) -> 16702.08 | E64: =SUM(E65:E67) -> 465659.11 | F64: =IF(D64<>0,IF(E64/D64>=100,">>100",E64/D64*100),"-") -> 2788.0307
A65: 6351 | B65: Tekuće pomoći izravnanja za decentralizirane funkcije | C65: 6351 | D65: 16702.08 | E65: 17574.79 | F65: =IF(D65<>0,IF(E65/D65>=100,">>100",E65/D65*100),"-") -> 105.22516
A66: 6352 | B66: Kapitalne pomoći izravnanja za decentralizirane funkcije | C66: 6352 | D66: 0 | E66: 0 | F66: =IF(D66<>0,IF(E66/D66>=100,">>100",E66/D66*100),"-") -> -
A67: 6353 | B67: Pomoći fiskalnog izravnanja | C67: 6353 | D67: 0 | E67: 448084.32 | F67: =IF(D67<>0,IF(E67/D67>=100,">>100",E67/D67*100),"-") -> -
A68: 636 | B68: Pomoći proračunskim korisnicima iz proračuna koji im nije nadležan (šifre 6361+6362) | C68: 636 | D68: =SUM(D69:D70) -> 1375.6 | E68: =SUM(E69:E70) -> 889.4 | F68: =IF(D68<>0,IF(E68/D68>=100,">>100",E68/D68*100),"-") -> 64.655423
A69: 6361 | B69: Tekuće pomoći proračunskim korisnicima iz proračuna koji im nije nadležan | C69: 6361 | D69: 1375.6 | E69: 889.4 | F69: =IF(D69<>0,IF(E69/D69>=100,">>100",E69/D69*100),"-") -> 64.655423
A70: 6362 | B70: Kapitalne pomoći proračunskim korisnicima iz proračuna koji im nije nadležan | C70: 6362 | D70: 0 | E70: 0 | F70: =IF(D70<>0,IF(E70/D70>=100,">>100",E70/D70*100),"-") -> -
A71: 637 | B71: Pomoći iz drugih proračuna i od izvanproračunskih korisnika temeljem protestiranih jamstava (šifra 6371+6372) | C71: 637 | D71: =SUM(D72:D73) -> 0 | E71: =SUM(E72:E73) -> 0 | F71: =IF(D71<>0,IF(E71/D71>=100,">>100",E71/D71*100),"-") -> -
A72: 6371 | B72: Pomoći primljene iz drugih proračuna i od izvanproračunskih korisnika po protestiranim jamstvima | C72: 6371 | D72: 0 | E72: 0 | F72: =IF(D72<>0,IF(E72/D72>=100,">>100",E72/D72*100),"-") -> -
A73: 6372 | B73: Povrat pomoći danih drugim proračunima i izvanproračunskim korisnicima po protestiranim jamstvima | C73: 6372 | D73: 0 | E73: 0 | F73: =IF(D73<>0,IF(E73/D73>=100,">>100",E73/D73*100),"-") -> -
A74: 638 | B74: Pomoći temeljem prijenosa EU sredstava (šifre 6381+6382) | C74: 638 | D74: =SUM(D75:D76) -> 17984.44 | E74: =SUM(E75:E76) -> 60101.9 | F74: =IF(D74<>0,IF(E74/D74>=100,">>100",E74/D74*100),"-") -> 334.18833
A75: 6381 | B75: Tekuće pomoći temeljem prijenosa EU sredstava | C75: 6381 | D75: 17639.82 | E75: 37334.4 | F75: =IF(D75<>0,IF(E75/D75>=100,">>100",E75/D75*100),"-") -> 211.64842
A76: 6382 | B76: Kapitalne pomoći temeljem prijenosa EU sredstava | C76: 6382 | D76: 344.62 | E76: 22767.5 | F76: =IF(D76<>0,IF(E76/D76>=100,">>100",E76/D76*100),"-") -> 6606.5521
A77: 639 | B77: Prijenosi između proračunskih korisnika istog proračuna (šifre 6391 do 6394) | C77: 639 | D77: =SUM(D78:D81) -> 0 | E77: =SUM(E78:E81) -> 0 | F77: =IF(D77<>0,IF(E77/D77>=100,">>100",E77/D77*100),"-") -> -
A78: 6391 | B78: Tekući prijenosi između proračunskih korisnika istog proračuna | C78: 6391 | D78: 0 | E78: 0 | F78: =IF(D78<>0,IF(E78/D78>=100,">>100",E78/D78*100),"-") -> -
A79: 6392 | B79: Kapitalni prijenosi između proračunskih korisnika istog proračuna | C79: 6392 | D79: 0 | E79: 0 | F79: =IF(D79<>0,IF(E79/D79>=100,">>100",E79/D79*100),"-") -> -
A80: 6393 | B80: Tekući prijenosi između proračunskih korisnika istog proračuna temeljem prijenosa EU sredstava | C80: 6393 | D80: 0 | E80: 0 | F80: =IF(D80<>0,IF(E80/D80>=100,">>100",E80/D80*100),"-") -> -
A81: 6394 | B81: Kapitalni prijenosi između proračunskih korisnika istog proračuna temeljem prijenosa EU sredstava | C81: 6394 | D81: 0 | E81: 0 | F81: =IF(D81<>0,IF(E81/D81>=100,">>100",E81/D81*100),"-") -> -
A82: 64 | B82: Prihodi od imovine (šifre 641+642+643) | C82: 64 | D82: =D83+D91+D98 -> 1034429 | E82: =E83+E91+E98 -> 1050461.2 | F82: =IF(D82<>0,IF(E82/D82>=100,">>100",E82/D82*100),"-") -> 101.54986
A83: 641 | B83: Prihodi od financijske imovine (šifre 6412 do 6419) | C83: 641 | D83: =SUM(D84:D90) -> 782.83 | E83: =SUM(E84:E90) -> 638.23 | F83: =IF(D83<>0,IF(E83/D83>=100,">>100",E83/D83*100),"-") -> 81.528557
A84: 6412 | B84: Prihodi od kamata po vrijednosnim papirima | C84: 6412 | D84: 0 | E84: 0 | F84: =IF(D84<>0,IF(E84/D84>=100,">>100",E84/D84*100),"-") -> -
A85: 6413 | B85: Kamate na oročena sredstva i depozite po viđenju | C85: 6413 | D85: 0 | E85: 0 | F85: =IF(D85<>0,IF(E85/D85>=100,">>100",E85/D85*100),"-") -> -
A86: 6414 | B86: Prihodi od zateznih kamata | C86: 6414 | D86: 782.83 | E86: 638.23 | F86: =IF(D86<>0,IF(E86/D86>=100,">>100",E86/D86*100),"-") -> 81.528557
A87: 6415 | B87: Prihodi od pozitivnih tečajnih razlika i razlika zbog primjene valutne klauzule | C87: 6415 | D87: 0 | E87: 0 | F87: =IF(D87<>0,IF(E87/D87>=100,">>100",E87/D87*100),"-") -> -
A88: 6416 | B88: Prihodi od dividendi | C88: 6416 | D88: 0 | E88: 0 | F88: =IF(D88<>0,IF(E88/D88>=100,">>100",E88/D88*100),"-") -> -
A89: 6417 | B89: Prihodi iz dobiti trgovačkih društava, kreditnih i ostalih financijskih institucija po posebnim propisima | C89: 6417 | D89: 0 | E89: 0 | F89: =IF(D89<>0,IF(E89/D89>=100,">>100",E89/D89*100),"-") -> -
A90: 6419 | B90: Ostali prihodi od financijske imovine | C90: 6419 | D90: 0 | E90: 0 | F90: =IF(D90<>0,IF(E90/D90>=100,">>100",E90/D90*100),"-") -> -
A91: 642 | B91: Prihodi od nefinancijske imovine (šifre 6421 do 6429) | C91: 642 | D91: =SUM(D92:D97) -> 1033646.1 | E91: =SUM(E92:E97) -> 1049777.1 | F91: =IF(D91<>0,IF(E91/D91>=100,">>100",E91/D91*100),"-") -> 101.56059
A92: 6421 | B92: Naknade za koncesije | C92: 6421 | D92: 1280.38 | E92: 737.28 | F92: =IF(D92<>0,IF(E92/D92>=100,">>100",E92/D92*100),"-") -> 57.582905
A93: 6422 | B93: Prihodi od zakupa i iznajmljivanja imovine | C93: 6422 | D93: 9962.54 | E93: 5524.13 | F93: =IF(D93<>0,IF(E93/D93>=100,">>100",E93/D93*100),"-") -> 55.449012
A94: 6423 | B94: Naknada za korištenje nefinancijske imovine | C94: 6423 | D94: 1022243.9 | E94: 1043515.7 | F94: =IF(D94<>0,IF(E94/D94>=100,">>100",E94/D94*100),"-") -> 102.08089
A95: 6424 | B95: Naknade za ceste | C95: 6424 | D95: 0 | E95: 0 | F95: =IF(D95<>0,IF(E95/D95>=100,">>100",E95/D95*100),"-") -> -
A96: 6425 | B96: Prihodi od prodaje kratkotrajne nefinancijske imovine, sitnog inventara i autoguma | C96: 6425 | D96: 0 | E96: 0 | F96: =IF(D96<>0,IF(E96/D96>=100,">>100",E96/D96*100),"-") -> -
A97: 6429 | B97: Ostali prihodi od nefinancijske imovine | C97: 6429 | D97: 159.3 | E97: 0 | F97: =IF(D97<>0,IF(E97/D97>=100,">>100",E97/D97*100),"-") -> 0
A98: 643 | B98: Prihodi od kamata na dane zajmove (šifre 6431 do 6437) | C98: 643 | D98: =SUM(D99:D105) -> 0 | E98: =SUM(E99:E105) -> 45.79 | F98: =IF(D98<>0,IF(E98/D98>=100,">>100",E98/D98*100),"-") -> -
A99: 6431 | B99: Prihodi od kamata na dane zajmove međunarodnim organizacijama, institucijama i tijelima EU te inozemnim vladama | C99: 6431 | D99: 0 | E99: 0 | F99: =IF(D99<>0,IF(E99/D99>=100,">>100",E99/D99*100),"-") -> -
A100: 6432 | B100: Prihodi od kamata na dane zajmove neprofitnim organizacijama, građanima i kućanstvima | C100: 6432 | D100: 0 | E100: 45.79 | F100: =IF(D100<>0,IF(E100/D100>=100,">>100",E100/D100*100),"-") -> -
...

Sheet BILANCA
A1: Obveznik: | B1: 28098 - OPĆINA MOLVE | C1: Razina: | D1: 23 | E1: Razdoblje: | F1: 2025-12
A2: BILANCA
A3: Račun iz Rač. plana | B3: Opis stavke | C3: Šifra | D3: Stanje 1. siječnja | E3: Stanje 31. prosinca | F3: Indeks (5/4)
A4: 1 | B4: 2 | C4: 3 | D4: 4 | E4: 5 | F4: 6
A5: IMOVINA
B6: IMOVINA (šifre B002+1) | C6: B001 | D6: =D7+D69 -> 13026248 | E6: =E7+E69 -> 13008407 | F6: =IF(D6>0,IF(E6/D6>=100,">>100",E6/D6*100),"-") -> 99.863042
A7: 0 | B7: Nefinancijska imovina (šifre 01+02+03+04+05+06) | C7: B002 | D7: =D8+D12+D51+D52+D56+D63 -> 12931029 | E7: =E8+E12+E51+E52+E56+E63 -> 12806439 | F7: =IF(D7>0,IF(E7/D7>=100,">>100",E7/D7*100),"-") -> 99.036502
A8: 01 | B8: Neproizvedena dugotrajna imovina (šifre 011+012-019) | C8: 01 | D8: =D9+D10-D11 -> 412482.2 | E8: =E9+E10-E11 -> 412482.2 | F8: =IF(D8>0,IF(E8/D8>=100,">>100",E8/D8*100),"-") -> 100
A9: 011 | B9: Materijalna imovina - prirodna bogatstva | C9: 011 | D9: 411577.2 | E9: 411577.2 | F9: =IF(D9>0,IF(E9/D9>=100,">>100",E9/D9*100),"-") -> 100
A10: 012 | B10: Nematerijalna imovina | C10: 012 | D10: 1402.71 | E10: 1402.71 | F10: =IF(D10>0,IF(E10/D10>=100,">>100",E10/D10*100),"-") -> 100
A11: 019 | B11: Ispravak vrijednosti neproizvedene dugotrajne imovine | C11: 019 | D11: 497.71 | E11: 497.71 | F11: =IF(D11>0,IF(E11/D11>=100,">>100",E11/D11*100),"-") -> 100
A12: 02 | B12: Proizvedena dugotrajna imovina (šifre '021 i 02921' + '022 i 02922' + '023 i 02923' + '024 i 02924' + '025 i 02925' + '026 i 02926') | C12: 02 | D12: =D13+D19+D29+D35+D41+D45 -> 11852869 | E12: =E13+E19+E29+E35+E41+E45 -> 11471192 | F12: =IF(D12>0,IF(E12/D12>=100,">>100",E12/D12*100),"-") -> 96.779881
A13: 021 i 02921 | B13: Građevinski objekti (šifre 0211 do 0214 - 02921) | C13: 021 i 02921 | D13: =SUM(D14:D17)-D18 -> 11282573 | E13: =SUM(E14:E17)-E18 -> 10966568 | F13: =IF(D13>0,IF(E13/D13>=100,">>100",E13/D13*100),"-") -> 97.199172
A14: 0211 | B14: Stambeni objekti | C14: 0211 | D14: 22675.76 | E14: 22675.76 | F14: =IF(D14>0,IF(E14/D14>=100,">>100",E14/D14*100),"-") -> 100
A15: 0212 | B15: Poslovni objekti | C15: 0212 | D15: 4739608.6 | E15: 4739608.6 | F15: =IF(D15>0,IF(E15/D15>=100,">>100",E15/D15*100),"-") -> 100
A16: 0213 | B16: Ceste, željeznice i ostali prometni objekti | C16: 0213 | D16: 4705780.4 | E16: 4705780.4 | F16: =IF(D16>0,IF(E16/D16>=100,">>100",E16/D16*100),"-") -> 100
A17: 0214 | B17: Ostali građevinski objekti | C17: 0214 | D17: 7187538.6 | E17: 7189923.9 | F17: =IF(D17>0,IF(E17/D17>=100,">>100",E17/D17*100),"-") -> 100.03319
A18: 02921 | B18: Ispravak vrijednosti građevinskih objekata | C18: 02921 | D18: 5373030.5 | E18: 5691421.2 | F18: =IF(D18>0,IF(E18/D18>=100,">>100",E18/D18*100),"-") -> 105.92572
A19: 022 i 02922 | B19: Postrojenja i oprema (šifre 0221 do 0228 - 02922) | C19: 022 i 02922 | D19: =SUM(D20:D27)-D28 -> 293895.79 | E19: =SUM(E20:E27)-E28 -> 236024.86 | F19: =IF(D19>0,IF(E19/D19>=100,">>100",E19/D19*100),"-") -> 80.309031
A20: 0221 | B20: Uredska oprema i namještaj | C20: 0221 | D20: 137984.99 | E20: 137455.87 | F20: =IF(D20>0,IF(E20/D20>=100,">>100",E20/D20*100),"-") -> 99.616538
A21: 0222 | B21: Komunikacijska oprema | C21: 0222 | D21: 15146.75 | E21: 9448.49 | F21: =IF(D21>0,IF(E21/D21>=100,">>100",E21/D21*100),"-") -> 62.379652
A22: 0223 | B22: Oprema za održavanje i zaštitu | C22: 0223 | D22: 94344.18 | E22: 95645.23 | F22: =IF(D22>0,IF(E22/D22>=100,">>100",E22/D22*100),"-") -> 101.37905
A23: 0224 | B23: Medicinska i laboratorijska oprema | C23: 0224 | D23: 0 | E23: 0 | F23: =IF(D23>0,IF(E23/D23>=100,">>100",E23/D23*100),"-") -> -
A24: 0225 | B24: Instrumenti i uređaji | C24: 0225 | D24: 14581.36 | E24: 14257.52 | F24: =IF(D24>0,IF(E24/D24>=100,">>100",E24/D24*100),"-") -> 97.779082
A25: 0226 | B25: Sportska i glazbena oprema | C25: 0226 | D25: 52912.49 | E25: 52912.49 | F25: =IF(D25>0,IF(E25/D25>=100,">>100",E25/D25*100),"-") -> 100
A26: 0227 | B26: Uređaji, strojevi i oprema za ostale namjene | C26: 0227 | D26: 796969.02 | E26: 801609.28 | F26: =IF(D26>0,IF(E26/D26>=100,">>100",E26/D26*100),"-") -> 100.58224
A27: 0228 | B27: Vojna oprema | C27: 0228 | D27: 0 | E27: 0 | F27: =IF(D27>0,IF(E27/D27>=100,">>100",E27/D27*100),"-") -> -
A28: 02922 | B28: Ispravak vrijednosti postrojenja i opreme | C28: 02922 | D28: 818043 | E28: 875304.02 | F28: =IF(D28>0,IF(E28/D28>=100,">>100",E28/D28*100),"-") -> 106.99976
A29: 023 i 02923 | B29: Prijevozna sredstva (šifre 0231 do 0234 - 02923) | C29: 023 i 02923 | D29: =SUM(D30:D33)-D34 -> 115299.07 | E29: =SUM(E30:E33)-E34 -> 98200.34 | F29: =IF(D29>0,IF(E29/D29>=100,">>100",E29/D29*100),"-") -> 85.170106
A30: 0231 | B30: Prijevozna sredstva u cestovnom prometu | C30: 0231 | D30: 157798.67 | E30: 157798.67 | F30: =IF(D30>0,IF(E30/D30>=100,">>100",E30/D30*100),"-") -> 100
A31: 0232 | B31: Prijevozna sredstva u željezničkom prometu | C31: 0232 | D31: 0 | E31: 0 | F31: =IF(D31>0,IF(E31/D31>=100,">>100",E31/D31*100),"-") -> -
A32: 0233 | B32: Prijevozna sredstva u pomorskom i riječnom prometu | C32: 0233 | D32: 10042.51 | E32: 10042.51 | F32: =IF(D32>0,IF(E32/D32>=100,">>100",E32/D32*100),"-") -> 100
A33: 0234 | B33: Prijevozna sredstva u zračnom prometu | C33: 0234 | D33: 0 | E33: 0 | F33: =IF(D33>0,IF(E33/D33>=100,">>100",E33/D33*100),"-") -> -
A34: 02923 | B34: Ispravak vrijednosti prijevoznih sredstava | C34: 02923 | D34: 52542.11 | E34: 69640.84 | F34: =IF(D34>0,IF(E34/D34>=100,">>100",E34/D34*100),"-") -> 132.54291
A35: 024 i 02924 | B35: Knjige, umjetnička djela i ostale izložbene vrijednosti (šifre 0241 do 0244 - 02924) | C35: 024 i 02924 | D35: =SUM(D36:D39)-D40 -> 65458.84 | E35: =SUM(E36:E39)-E40 -> 66210.53 | F35: =IF(D35>0,IF(E35/D35>=100,">>100",E35/D35*100),"-") -> 101.14834
A36: 0241 | B36: Knjige | C36: 0241 | D36: 2652.87 | E36: 2652.87 | F36: =IF(D36>0,IF(E36/D36>=100,">>100",E36/D36*100),"-") -> 100
A37: 0242 | B37: Umjetnička djela (izložena u galerijama, muzejima i slično) | C37: 0242 | D37: 66244.86 | E37: 67714.57 | F37: =IF(D37>0,IF(E37/D37>=100,">>100",E37/D37*100),"-") -> 102.2186
A38: 0243 | B38: Muzejski izlošci i predmeti prirodnih rijetkosti | C38: 0243 | D38: 0 | E38: 0 | F38: =IF(D38>0,IF(E38/D38>=100,">>100",E38/D38*100),"-") -> -
A39: 0244 | B39: Ostale nespomenute izložbene vrijednosti | C39: 0244 | D39: 2765.61 | E39: 2765.61 | F39: =IF(D39>0,IF(E39/D39>=100,">>100",E39/D39*100),"-") -> 100
A40: 02924 | B40: Ispravak vrijednosti knjiga, umjetničkih djela i ostalih izložbenih vrijednosti | C40: 02924 | D40: 6204.5 | E40: 6922.52 | F40: =IF(D40>0,IF(E40/D40>=100,">>100",E40/D40*100),"-") -> 111.57257
A41: 025 i 02925 | B41: Višegodišnji nasadi i osnovno stado (šifre 0251+0252-02925) | C41: 025 i 02925 | D41: =SUM(D42:D43)-D44 -> 0 | E41: =SUM(E42:E43)-E44 -> 0 | F41: =IF(D41>0,IF(E41/D41>=100,">>100",E41/D41*100),"-") -> -
A42: 0251 | B42: Višegodišnji nasadi | C42: 0251 | D42: 0 | E42: 0 | F42: =IF(D42>0,IF(E42/D42>=100,">>100",E42/D42*100),"-") -> -
A43: 0252 | B43: Osnovno stado | C43: 0252 | D43: 0 | E43: 0 | F43: =IF(D43>0,IF(E43/D43>=100,">>100",E43/D43*100),"-") -> -
A44: 02925 | B44: Ispravak vrijednosti višegodišnjih nasada i osnovnog stada | C44: 02925 | D44: 0 | E44: 0 | F44: =IF(D44>0,IF(E44/D44>=100,">>100",E44/D44*100),"-") -> -
A45: 026 i 02926 | B45: Nematerijalna proizvedena imovina (šifre 0261 do 0264 - 02926) | C45: 026 i 02926 | D45: =SUM(D46:D49)-D50 -> 95641.93 | E45: =SUM(E46:E49)-E50 -> 104188.86 | F45: =IF(D45>0,IF(E45/D45>=100,">>100",E45/D45*100),"-") -> 108.93638
A46: 0261 | B46: Istraživanje rudnih bogatstava | C46: 0261 | D46: 0 | E46: 0 | F46: =IF(D46>0,IF(E46/D46>=100,">>100",E46/D46*100),"-") -> -
A47: 0262 | B47: Ulaganja u računalne programe | C47: 0262 | D47: 22332.35 | E47: 22332.35 | F47: =IF(D47>0,IF(E47/D47>=100,">>100",E47/D47*100),"-") -> 100
A48: 0263 | B48: Umjetnička, literarna i znanstvena djela | C48: 0263 | D48: 31622.37 | E48: 31622.37 | F48: =IF(D48>0,IF(E48/D48>=100,">>100",E48/D48*100),"-") -> 100
A49: 0264 | B49: Ostala nematerijalna proizvedena imovina | C49: 0264 | D49: 414106.73 | E49: 448856.73 | F49: =IF(D49>0,IF(E49/D49>=100,">>100",E49/D49*100),"-") -> 108.39156
A50: 02926 | B50: Ispravak vrijednosti nematerijalne proizvedene imovine | C50: 02926 | D50: 372419.52 | E50: 398622.59 | F50: =IF(D50>0,IF(E50/D50>=100,">>100",E50/D50*100),"-") -> 107.0359
A51: 03 | B51: Plemeniti metali i ostale pohranjene vrijednosti | C51: 03 | D51: 0 | E51: 0 | F51: =IF(D51>0,IF(E51/D51>=100,">>100",E51/D51*100),"-") -> -
A52: 04 | B52: Sitni inventar i autogume (šifre 041+042-049) | C52: 04 | D52: =SUM(D53:D54)-D55 -> 0 | E52: =SUM(E53:E54)-E55 -> 0 | F52: =IF(D52>0,IF(E52/D52>=100,">>100",E52/D52*100),"-") -> -
A53: 041 | B53: Zalihe sitnog inventara i autoguma | C53: 041 | D53: 0 | E53: 0 | F53: =IF(D53>0,IF(E53/D53>=100,">>100",E53/D53*100),"-") -> -
A54: 042 | B54: Sitni inventar i autogume u upotrebi | C54: 042 | D54: 171265.41 | E54: 176100.39 | F54: =IF(D54>0,IF(E54/D54>=100,">>100",E54/D54*100),"-") -> 102.82309
A55: 049 | B55: Ispravak vrijednosti sitnog inventara i autoguma u upotrebi | C55: 049 | D55: 171265.41 | E55: 176100.39 | F55: =IF(D55>0,IF(E55/D55>=100,">>100",E55/D55*100),"-") -> 102.82309
A56: 05 | B56: Dugotrajna nefinancijska imovina u pripremi (šifre 051 do 056) | C56: 05 | D56: =SUM(D57:D62) -> 665678.41 | E56: =SUM(E57:E62) -> 922764.61 | F56: =IF(D56>0,IF(E56/D56>=100,">>100",E56/D56*100),"-") -> 138.62018
A57: 051 | B57: Građevinski objekti u pripremi | C57: 051 | D57: 660512.01 | E57: 917598.21 | F57: =IF(D57>0,IF(E57/D57>=100,">>100",E57/D57*100),"-") -> 138.92226
A58: 052 | B58: Postrojenja i oprema u pripremi | C58: 052 | D58: 2575.65 | E58: 2575.65 | F58: =IF(D58>0,IF(E58/D58>=100,">>100",E58/D58*100),"-") -> 100
A59: 053 | B59: Prijevozna sredstva u pripremi | C59: 053 | D59: 0 | E59: 0 | F59: =IF(D59>0,IF(E59/D59>=100,">>100",E59/D59*100),"-") -> -
A60: 054 | B60: Višegodišnji nasadi i osnovno stado u pripremi | C60: 054 | D60: 0 | E60: 0 | F60: =IF(D60>0,IF(E60/D60>=100,">>100",E60/D60*100),"-") -> -
A61: 055 | B61: Ostala nematerijalna proizvedena imovina u pripremi | C61: 055 | D61: 2590.75 | E61: 2590.75 | F61: =IF(D61>0,IF(E61/D61>=100,">>100",E61/D61*100),"-") -> 100
A62: 056 | B62: Ostala nefinancijska dugotrajna imovina u pripremi | C62: 056 | D62: 0 | E62: 0 | F62: =IF(D62>0,IF(E62/D62>=100,">>100",E62/D62*100),"-") -> -
A63: 06 | B63: Proizvedena kratkotrajna imovina (šifre 061 do 065) | C63: 06 | D63: =SUM(D64:D68) -> 0 | E63: =SUM(E64:E68) -> 0 | F63: =IF(D63>0,IF(E63/D63>=100,">>100",E63/D63*100),"-") -> -
A64: 061 | B64: Zalihe za obavljanje djelatnosti | C64: 061 | D64: 0 | E64: 0 | F64: =IF(D64>0,IF(E64/D64>=100,">>100",E64/D64*100),"-") -> -
A65: 062 | B65: Proizvodnja u tijeku i gotovi proizvodi | C65: 062 | D65: 0 | E65: 0 | F65: =IF(D65>0,IF(E65/D65>=100,">>100",E65/D65*100),"-") -> -
A66: 063 | B66: Zalihe vojnih sredstava za jednokratnu upotrebu | C66: 063 | D66: 0 | E66: 0 | F66: =IF(D66>0,IF(E66/D66>=100,">>100",E66/D66*100),"-") -> -
A67: 064 | B67: Zaliha robe za daljnju prodaju | C67: 064 | D67: 0 | E67: 0 | F67: =IF(D67>0,IF(E67/D67>=100,">>100",E67/D67*100),"-") -> -
A68: 065 | B68: Zalihe lijekova i potrošnog medicinskog materijala kod zdravstvenih ustanova | C68: 065 | D68: 0 | E68: 0 | F68: =IF(D68>0,IF(E68/D68>=100,">>100",E68/D68*100),"-") -> -
A69: 1 | B69: Financijska imovina (šifre 11+12+13+14+15+16+17+19) | C69: 1 | D69: =D70+D82+D88+D119+D135+D147+D165+D171 -> 95218.66 | E69: =E70+E82+E88+E119+E135+E147+E165+E171 -> 201968.48 | F69: =IF(D69>0,IF(E69/D69>=100,">>100",E69/D69*100),"-") -> 212.11019
A70: 11 | B70: Novac u banci i blagajni (šifre 111+112 do 114) | C70: 11 | D70: =+D71+D76+D80+D81 -> 6570.2 | E70: =+E71+E76+E80+E81 -> 6696.58 | F70: =IF(D70>0,IF(E70/D70>=100,">>100",E70/D70*100),"-") -> 101.92353
A71: 111 | B71: Novac u banci (šifre 1111 do 1114) | C71: 111 | D71: =SUM(D72:D75) -> 5889.79 | E71: =SUM(E72:E75) -> 5694.48 | F71: =IF(D71>0,IF(E71/D71>=100,">>100",E71/D71*100),"-") -> 96.683923
A72: 1111 | B72: Novac na računu kod Hrvatske narodne banke | C72: 1111 | D72: 0 | E72: 0 | F72: =IF(D72>0,IF(E72/D72>=100,">>100",E72/D72*100),"-") -> -
A73: 1112 | B73: Novac na računu kod tuzemnih poslovnih banaka | C73: 1112 | D73: 5889.79 | E73: 5694.48 | F73: =IF(D73>0,IF(E73/D73>=100,">>100",E73/D73*100),"-") -> 96.683923
A74: 1113 | B74: Novac na računu kod inozemnih poslovnih banaka | C74: 1113 | D74: 0 | E74: 0 | F74: =IF(D74>0,IF(E74/D74>=100,">>100",E74/D74*100),"-") -> -
A75: 1114 | B75: Prijelazni račun | C75: 1114 | D75: 0 | E75: 0 | F75: =IF(D75>0,IF(E75/D75>=100,">>100",E75/D75*100),"-") -> -
A76: 112 | B76: Izdvojena novčana sredstva i depoziti u kreditnim i financijskim institucijama (šifre 1121 do 1123) | C76: 112 | D76: =SUM(D77:D79) -> 0 | E76: =SUM(E77:E79) -> 0 | F76: =IF(D76>0,IF(E76/D76>=100,">>100",E76/D76*100),"-") -> -
A77: 1121 | B77: Izdvojena novčana sredstva | C77: 1121 | D77: 0 | E77: 0 | F77: =IF(D77>0,IF(E77/D77>=100,">>100",E77/D77*100),"-") -> -
A78: 1122 | B78: Depoziti kod kreditnih i ostalih financijskih institucija - tuzemni | C78: 1122 | D78: 0 | E78: 0 | F78: =IF(D78>0,IF(E78/D78>=100,">>100",E78/D78*100),"-") -> -
A79: 1123 | B79: Depoziti kod kreditnih i ostalih financijskih institucija - inozemni | C79: 1123 | D79: 0 | E79: 0 | F79: =IF(D79>0,IF(E79/D79>=100,">>100",E79/D79*100),"-") -> -
A80: 113 | B80: Novac u blagajni | C80: 113 | D80: 680.41 | E80: 1002.1 | F80: =IF(D80>0,IF(E80/D80>=100,">>100",E80/D80*100),"-") -> 147.27885
A81: 114 | B81: Vrijednosnice u blagajni | C81: 114 | D81: 0 | E81: 0 | F81: =IF(D81>0,IF(E81/D81>=100,">>100",E81/D81*100),"-") -> -
A82: 12 | B82: Potraživanja za jamčevne pologe, od zaposlenih te za više plaćene poreze i ostalo (šifre 122 do 124 - 125 + 129) | C82: 12 | D82: =SUM(D83:D85)-D86+D87 -> 8472.19 | E82: =SUM(E83:E85)-E86+E87 -> 129908.05 | F82: =IF(D82>0,IF(E82/D82>=100,">>100",E82/D82*100),"-") -> 1533.3467
A83: 122 | B83: Potraživanja za jamčevne pologe | C83: 122 | D83: 0 | E83: 0 | F83: =IF(D83>0,IF(E83/D83>=100,">>100",E83/D83*100),"-") -> -
A84: 123 | B84: Potraživanja od zaposlenih | C84: 123 | D84: 132.73 | E84: 132.73 | F84: =IF(D84>0,IF(E84/D84>=100,">>100",E84/D84*100),"-") -> 100
A85: 124 | B85: Potraživanja za više plaćene poreze i doprinose | C85: 124 | D85: 230.9 | E85: 597.71 | F85: =IF(D85>0,IF(E85/D85>=100,">>100",E85/D85*100),"-") -> 258.86098
A86: 125 | B86: Ispravak vrijednosti potraživanja od zaposlenih te za više plaćene poreze i ostalo | C86: 125 | D86: 119316.97 | E86: 363.63 | F86: =IF(D86>0,IF(E86/D86>=100,">>100",E86/D86*100),"-") -> 0.30475967
A87: 129 | B87: Ostala potraživanja | C87: 129 | D87: 127425.53 | E87: =132570.75-789.81-2239.7 -> 129541.24 | F87: =IF(D87>0,IF(E87/D87>=100,">>100",E87/D87*100),"-") -> 101.66035
A88: 13 | B88: Potraživanja za dane zajmove (šifre 13X1+13X2-139) | C88: 13 | D88: =D89+D107-D118 -> 0 | E88: =E89+E107-E118 -> 0 | F88: =IF(D88>0,IF(E88/D88>=100,">>100",E88/D88*100),"-") -> -
B89: Zajmovi - tuzemni (šifre 1321+1332+1333+1334+1341+1353+1354+1355+1363+1364+1371+1372+1373+1374+1375+1376+1377) | C89: 13X1 | D89: =SUM(D90:D106) -> 370776.41 | E89: =SUM(E90:E106) -> 366513.25 | F89: =IF(D89>0,IF(E89/D89>=100,">>100",E89/D89*100),"-") -> 98.850207
A90: 1321 | B90: Zajmovi neprofitnim organizacijama, građanima i kućanstvima u tuzemstvu | C90: 1321 | D90: 323859.42 | E90: 319596.26 | F90: =IF(D90>0,IF(E90/D90>=100,">>100",E90/D90*100),"-") -> 98.683639
A91: 1332 | B91: Zajmovi kreditnim institucijama u javnom sektoru | C91: 1332 | D91: 0 | E91: 0 | F91: =IF(D91>0,IF(E91/D91>=100,">>100",E91/D91*100),"-") -> -
A92: 1333 | B92: Zajmovi osiguravajućim društvima u javnom sektoru | C92: 1333 | D92: 0 | E92: 0 | F92: =IF(D92>0,IF(E92/D92>=100,">>100",E92/D92*100),"-") -> -
A93: 1334 | B93: Zajmovi ostalim financijskim institucijama u javnom sektoru | C93: 1334 | D93: 0 | E93: 0 | F93: =IF(D93>0,IF(E93/D93>=100,">>100",E93/D93*100),"-") -> -
A94: 1341 | B94: Zajmovi trgovačkim društvima u javnom sektoru | C94: 1341 | D94: 0 | E94: 0 | F94: =IF(D94>0,IF(E94/D94>=100,">>100",E94/D94*100),"-") -> -
A95: 1353 | B95: Zajmovi tuzemnim kreditnim institucijama izvan javnog sektora | C95: 1353 | D95: 0 | E95: 0 | F95: =IF(D95>0,IF(E95/D95>=100,">>100",E95/D95*100),"-") -> -
A96: 1354 | B96: Zajmovi tuzemnim osiguravajućim društvima izvan javnog sektora | C96: 1354 | D96: 0 | E96: 0 | F96: =IF(D96>0,IF(E96/D96>=100,">>100",E96/D96*100),"-") -> -
A97: 1355 | B97: Zajmovi ostalim tuzemnim financijskim institucijama izvan javnog sektora | C97: 1355 | D97: 0 | E97: 0 | F97: =IF(D97>0,IF(E97/D97>=100,">>100",E97/D97*100),"-") -> -
A98: 1363 | B98: Zajmovi tuzemnim trgovačkim društvima izvan javnog sektora | C98: 1363 | D98: 42229.56 | E98: 42229.56 | F98: =IF(D98>0,IF(E98/D98>=100,">>100",E98/D98*100),"-") -> 100
A99: 1364 | B99: Zajmovi tuzemnim obrtnicima | C99: 1364 | D99: 4687.43 | E99: 4687.43 | F99: =IF(D99>0,IF(E99/D99>=100,">>100",E99/D99*100),"-") -> 100
A100: 1371 | B100: Zajmovi državnom proračunu | C100: 1371 | D100: 0 | E100: 0 | F100: =IF(D100>0,IF(E100/D100>=100,">>100",E100/D100*100),"-") -> -
...

Sheet RAS-funkcijski
A1: Obveznik: | B1: 28098 - OPĆINA MOLVE | C1: Razina: | D1: 23 | E1: Razdoblje: | F1: 2025-12
A2: IZVJEŠTAJ O RASHODIMA PREMA FUNKCIJSKOJ KLASIFIKACIJI
A3: Brojč. ozn. funk. klas. | B3: Opis stavke | C3: Šifra | D3: Ostvareno u izvještajnom razdoblju preth. godine | E3: Ostvareno u izvještajnom razdoblju tekuće godine | F3: Indeks (5/4)
A4: 1 | B4: 2 | C4: 3 | D4: 4 | E4: 5 | F4: 6
A5: 01 | B5: Opće javne usluge (šifre 011+012+013+014 do 018) | C5: 01 | D5: =D6+D10+D13+SUM(D17:D21) -> 647790.26 | E5: =E6+E10+E13+SUM(E17:E21) -> 721771.07 | F5: =IF(D5>0,IF(E5/D5>=100,">>100",E5/D5*100),"-") -> 111.42049
A6: 011 | B6: Izvršna i zakonodavna tijela, financijski i fiskalni poslovi, vanjski poslovi (šifre 0111 do 0113) | C6: 011 | D6: =SUM(D7:D9) -> 141055.72 | E6: =SUM(E7:E9) -> 175255.64 | F6: =IF(D6>0,IF(E6/D6>=100,">>100",E6/D6*100),"-") -> 124.24568
A7: 0111 | B7: Izvršna i zakonodavna tijela | C7: 0111 | D7: 141055.72 | E7: 175141.82 | F7: =IF(D7>0,IF(E7/D7>=100,">>100",E7/D7*100),"-") -> 124.16499
A8: 0112 | B8: Financijski i fiskalni poslovi | C8: 0112 | D8: 0 | E8: 0 | F8: =IF(D8>0,IF(E8/D8>=100,">>100",E8/D8*100),"-") -> -
A9: 0113 | B9: Vanjski poslovi | C9: 0113 | D9: 0 | E9: 113.82 | F9: =IF(D9>0,IF(E9/D9>=100,">>100",E9/D9*100),"-") -> -
A10: 012 | B10: Inozemna ekonomska pomoć (šifre 0121+0122) | C10: 012 | D10: =SUM(D11:D12) -> 0 | E10: =SUM(E11:E12) -> 0 | F10: =IF(D10>0,IF(E10/D10>=100,">>100",E10/D10*100),"-") -> -
A11: 0121 | B11: Ekonomska pomoć zemljama u razvoju i zemljama u tranziciji | C11: 0121 | D11: 0 | E11: 0 | F11: =IF(D11>0,IF(E11/D11>=100,">>100",E11/D11*100),"-") -> -
A12: 0122 | B12: Ekonomska pomoć usmjerena preko međunarodnih agencija | C12: 0122 | D12: 0 | E12: 0 | F12: =IF(D12>0,IF(E12/D12>=100,">>100",E12/D12*100),"-") -> -
A13: 013 | B13: Opće usluge (šifre 0131 do 0133) | C13: 013 | D13: =SUM(D14:D16) -> 456698.67 | E13: =SUM(E14:E16) -> 485955.57 | F13: =IF(D13>0,IF(E13/D13>=100,">>100",E13/D13*100),"-") -> 106.40617
A14: 0131 | B14: Opće usluge vezane za službenike | C14: 0131 | D14: 456698.67 | E14: 485955.57 | F14: =IF(D14>0,IF(E14/D14>=100,">>100",E14/D14*100),"-") -> 106.40617
A15: 0132 | B15: Sveukupno planiranje i statističke usluge | C15: 0132 | D15: 0 | E15: 0 | F15: =IF(D15>0,IF(E15/D15>=100,">>100",E15/D15*100),"-") -> -
A16: 0133 | B16: Ostale opće usluge | C16: 0133 | D16: 0 | E16: 0 | F16: =IF(D16>0,IF(E16/D16>=100,">>100",E16/D16*100),"-") -> -
A17: 014 | B17: Osnovna istraživanja | C17: 014 | D17: 0 | E17: 0 | F17: =IF(D17>0,IF(E17/D17>=100,">>100",E17/D17*100),"-") -> -
A18: 015 | B18: Istraživanje i razvoj: Opće javne usluge | C18: 015 | D18: 0 | E18: 0 | F18: =IF(D18>0,IF(E18/D18>=100,">>100",E18/D18*100),"-") -> -
A19: 016 | B19: Opće javne usluge koje nisu drugdje svrstane | C19: 016 | D19: 15713.49 | E19: 19950.06 | F19: =IF(D19>0,IF(E19/D19>=100,">>100",E19/D19*100),"-") -> 126.96136
A20: 017 | B20: Transakcije vezane za javni dug | C20: 017 | D20: 34322.38 | E20: 40609.8 | F20: =IF(D20>0,IF(E20/D20>=100,">>100",E20/D20*100),"-") -> 118.31872
A21: 018 | B21: Prijenosi općeg karaktera između različitih državnih razina | C21: 018 | D21: 0 | E21: 0 | F21: =IF(D21>0,IF(E21/D21>=100,">>100",E21/D21*100),"-") -> -
A22: 02 | B22: Obrana (šifre 021 do 025) | C22: 02 | D22: =SUM(D23:D27) -> 0 | E22: =SUM(E23:E27) -> 0 | F22: =IF(D22>0,IF(E22/D22>=100,">>100",E22/D22*100),"-") -> -
A23: 021 | B23: Vojna obrana | C23: 021 | D23: 0 | E23: 0 | F23: =IF(D23>0,IF(E23/D23>=100,">>100",E23/D23*100),"-") -> -
A24: 022 | B24: Civilna obrana | C24: 022 | D24: 0 | E24: 0 | F24: =IF(D24>0,IF(E24/D24>=100,">>100",E24/D24*100),"-") -> -
A25: 023 | B25: Inozemna vojna pomoć | C25: 023 | D25: 0 | E25: 0 | F25: =IF(D25>0,IF(E25/D25>=100,">>100",E25/D25*100),"-") -> -
A26: 024 | B26: Istraživanje i razvoj obrane | C26: 024 | D26: 0 | E26: 0 | F26: =IF(D26>0,IF(E26/D26>=100,">>100",E26/D26*100),"-") -> -
A27: 025 | B27: Rashodi za obranu koji nisu drugdje svrstani | C27: 025 | D27: 0 | E27: 0 | F27: =IF(D27>0,IF(E27/D27>=100,">>100",E27/D27*100),"-") -> -
A28: 03 | B28: Javni red i sigurnost (šifre 031 do 036) | C28: 03 | D28: =SUM(D29:D34) -> 115693.26 | E28: =SUM(E29:E34) -> 96308.6 | F28: =IF(D28>0,IF(E28/D28>=100,">>100",E28/D28*100),"-") -> 83.24478
A29: 031 | B29: Usluge policije | C29: 031 | D29: 0 | E29: 0 | F29: =IF(D29>0,IF(E29/D29>=100,">>100",E29/D29*100),"-") -> -
A30: 032 | B30: Usluge protupožarne zaštite | C30: 032 | D30: 110818.26 | E30: 93957.46 | F30: =IF(D30>0,IF(E30/D30>=100,">>100",E30/D30*100),"-") -> 84.785179
A31: 033 | B31: Sudovi | C31: 033 | D31: 0 | E31: 0 | F31: =IF(D31>0,IF(E31/D31>=100,">>100",E31/D31*100),"-") -> -
A32: 034 | B32: Zatvori | C32: 034 | D32: 0 | E32: 0 | F32: =IF(D32>0,IF(E32/D32>=100,">>100",E32/D32*100),"-") -> -
A33: 035 | B33: Istraživanje i razvoj: Javni red i sigurnost | C33: 035 | D33: 0 | E33: 0 | F33: =IF(D33>0,IF(E33/D33>=100,">>100",E33/D33*100),"-") -> -
A34: 036 | B34: Rashodi za javni red i sigurnost koji nisu drugdje svrstani | C34: 036 | D34: 4875 | E34: 2351.14 | F34: =IF(D34>0,IF(E34/D34>=100,">>100",E34/D34*100),"-") -> 48.228513
A35: 04 | B35: Ekonomski poslovi (šifre 041+042+043+044+045+046+047+048+049) | C35: 04 | D35: =D36+D39+D43+D50+D54+D60+D61+D66+D74 -> 356491.43 | E35: =E36+E39+E43+E50+E54+E60+E61+E66+E74 -> 218878.25 | F35: =IF(D35>0,IF(E35/D35>=100,">>100",E35/D35*100),"-") -> 61.3979
A36: 041 | B36: Opći ekonomski, trgovački i poslovi vezani uz rad (šifre 0411+0412) | C36: 041 | D36: =SUM(D37:D38) -> 10791.75 | E36: =SUM(E37:E38) -> 5000 | F36: =IF(D36>0,IF(E36/D36>=100,">>100",E36/D36*100),"-") -> 46.331689
A37: 0411 | B37: Opći ekonomski i trgovački poslovi | C37: 0411 | D37: 7500 | E37: 5000 | F37: =IF(D37>0,IF(E37/D37>=100,">>100",E37/D37*100),"-") -> 66.666667
A38: 0412 | B38: Opći poslovi vezani uz rad | C38: 0412 | D38: 3291.75 | E38: 0 | F38: =IF(D38>0,IF(E38/D38>=100,">>100",E38/D38*100),"-") -> 0
A39: 042 | B39: Poljoprivreda, šumarstvo, ribarstvo i lov (šifre 0421 do 0423) | C39: 042 | D39: =SUM(D40:D42) -> 13685.4 | E39: =SUM(E40:E42) -> 92065.29 | F39: =IF(D39>0,IF(E39/D39>=100,">>100",E39/D39*100),"-") -> 672.72634
A40: 0421 | B40: Poljoprivreda | C40: 0421 | D40: 13685.4 | E40: 92065.29 | F40: =IF(D40>0,IF(E40/D40>=100,">>100",E40/D40*100),"-") -> 672.72634
A41: 0422 | B41: Šumarstvo | C41: 0422 | D41: 0 | E41: 0 | F41: =IF(D41>0,IF(E41/D41>=100,">>100",E41/D41*100),"-") -> -
A42: 0423 | B42: Ribarstvo i lov | C42: 0423 | D42: 0 | E42: 0 | F42: =IF(D42>0,IF(E42/D42>=100,">>100",E42/D42*100),"-") -> -
A43: 043 | B43: Gorivo i energija (šifre 0431 do 0436) | C43: 043 | D43: =SUM(D44:D49) -> 0 | E43: =SUM(E44:E49) -> 0 | F43: =IF(D43>0,IF(E43/D43>=100,">>100",E43/D43*100),"-") -> -
A44: 0431 | B44: Ugljen i ostala kruta mineralna goriva | C44: 0431 | D44: 0 | E44: 0 | F44: =IF(D44>0,IF(E44/D44>=100,">>100",E44/D44*100),"-") -> -
A45: 0432 | B45: Nafta i prirodni plin | C45: 0432 | D45: 0 | E45: 0 | F45: =IF(D45>0,IF(E45/D45>=100,">>100",E45/D45*100),"-") -> -
A46: 0433 | B46: Nuklearno gorivo | C46: 0433 | D46: 0 | E46: 0 | F46: =IF(D46>0,IF(E46/D46>=100,">>100",E46/D46*100),"-") -> -
A47: 0434 | B47: Ostala goriva | C47: 0434 | D47: 0 | E47: 0 | F47: =IF(D47>0,IF(E47/D47>=100,">>100",E47/D47*100),"-") -> -
A48: 0435 | B48: Električna energija | C48: 0435 | D48: 0 | E48: 0 | F48: =IF(D48>0,IF(E48/D48>=100,">>100",E48/D48*100),"-") -> -
A49: 0436 | B49: Ostale vrste energije | C49: 0436 | D49: 0 | E49: 0 | F49: =IF(D49>0,IF(E49/D49>=100,">>100",E49/D49*100),"-") -> -
A50: 044 | B50: Rudarstvo, proizvodnja i građevinarstvo (šifre 0441 do 0443) | C50: 044 | D50: =SUM(D51:D53) -> 0 | E50: =SUM(E51:E53) -> 0 | F50: =IF(D50>0,IF(E50/D50>=100,">>100",E50/D50*100),"-") -> -
A51: 0441 | B51: Rudarstvo, mineralni resursi i ostala mineralna goriva | C51: 0441 | D51: 0 | E51: 0 | F51: =IF(D51>0,IF(E51/D51>=100,">>100",E51/D51*100),"-") -> -
A52: 0442 | B52: Proizvodnja | C52: 0442 | D52: 0 | E52: 0 | F52: =IF(D52>0,IF(E52/D52>=100,">>100",E52/D52*100),"-") -> -
A53: 0443 | B53: Građevinarstvo | C53: 0443 | D53: 0 | E53: 0 | F53: =IF(D53>0,IF(E53/D53>=100,">>100",E53/D53*100),"-") -> -
A54: 045 | B54: Promet (šifre 0451 do 0455) | C54: 045 | D54: =SUM(D55:D59) -> 274716.39 | E54: =SUM(E55:E59) -> 59988.1 | F54: =IF(D54>0,IF(E54/D54>=100,">>100",E54/D54*100),"-") -> 21.836375
A55: 0451 | B55: Cestovni promet | C55: 0451 | D55: 274716.39 | E55: 59988.1 | F55: =IF(D55>0,IF(E55/D55>=100,">>100",E55/D55*100),"-") -> 21.836375
A56: 0452 | B56: Promet vodnim putovima | C56: 0452 | D56: 0 | E56: 0 | F56: =IF(D56>0,IF(E56/D56>=100,">>100",E56/D56*100),"-") -> -
A57: 0453 | B57: Željeznički promet | C57: 0453 | D57: 0 | E57: 0 | F57: =IF(D57>0,IF(E57/D57>=100,">>100",E57/D57*100),"-") -> -
A58: 0454 | B58: Zračni promet | C58: 0454 | D58: 0 | E58: 0 | F58: =IF(D58>0,IF(E58/D58>=100,">>100",E58/D58*100),"-") -> -
A59: 0455 | B59: Promet cjevovodima i ostali promet | C59: 0455 | D59: 0 | E59: 0 | F59: =IF(D59>0,IF(E59/D59>=100,">>100",E59/D59*100),"-") -> -
A60: 046 | B60: Komunikacije | C60: 046 | D60: 0 | E60: 0 | F60: =IF(D60>0,IF(E60/D60>=100,">>100",E60/D60*100),"-") -> -
A61: 047 | B61: Ostale industrije (šifre 0471 do 0474) | C61: 047 | D61: =SUM(D62:D65) -> 57297.89 | E61: =SUM(E62:E65) -> 54774.8 | F61: =IF(D61>0,IF(E61/D61>=100,">>100",E61/D61*100),"-") -> 95.596539
A62: 0471 | B62: Distribucija i skladištenje | C62: 0471 | D62: 0 | E62: 0 | F62: =IF(D62>0,IF(E62/D62>=100,">>100",E62/D62*100),"-") -> -
A63: 0472 | B63: Hoteli i restorani | C63: 0472 | D63: 0 | E63: 0 | F63: =IF(D63>0,IF(E63/D63>=100,">>100",E63/D63*100),"-") -> -
A64: 0473 | B64: Turizam | C64: 0473 | D64: 10855.7 | E64: 22897.31 | F64: =IF(D64>0,IF(E64/D64>=100,">>100",E64/D64*100),"-") -> 210.92431
A65: 0474 | B65: Višenamjenski razvojni projekti | C65: 0474 | D65: 46442.19 | E65: 31877.49 | F65: =IF(D65>0,IF(E65/D65>=100,">>100",E65/D65*100),"-") -> 68.639076
A66: 048 | B66: Istraživanje i razvoj: Ekonomski poslovi (šifre 0481 do 0487) | C66: 048 | D66: =SUM(D67:D73) -> 0 | E66: =SUM(E67:E73) -> 0 | F66: =IF(D66>0,IF(E66/D66>=100,">>100",E66/D66*100),"-") -> -
A67: 0481 | B67: Istraživanje i razvoj: Opći ekonomski, trgovački i poslovi vezani uz rad | C67: 0481 | D67: 0 | E67: 0 | F67: =IF(D67>0,IF(E67/D67>=100,">>100",E67/D67*100),"-") -> -
A68: 0482 | B68: Istraživanje i razvoj: Poljoprivreda, šumarstvo, ribarstvo i lov | C68: 0482 | D68: 0 | E68: 0 | F68: =IF(D68>0,IF(E68/D68>=100,">>100",E68/D68*100),"-") -> -
A69: 0483 | B69: Istraživanje i razvoj: Gorivo i energija | C69: 0483 | D69: 0 | E69: 0 | F69: =IF(D69>0,IF(E69/D69>=100,">>100",E69/D69*100),"-") -> -
A70: 0484 | B70: Istraživanje i razvoj: Rudarstvo, proizvodnja i građevinarstvo | C70: 0484 | D70: 0 | E70: 0 | F70: =IF(D70>0,IF(E70/D70>=100,">>100",E70/D70*100),"-") -> -
A71: 0485 | B71: Istraživanje i razvoj: Promet | C71: 0485 | D71: 0 | E71: 0 | F71: =IF(D71>0,IF(E71/D71>=100,">>100",E71/D71*100),"-") -> -
A72: 0486 | B72: Istraživanje i razvoj: Komunikacije | C72: 0486 | D72: 0 | E72: 0 | F72: =IF(D72>0,IF(E72/D72>=100,">>100",E72/D72*100),"-") -> -
A73: 0487 | B73: Istraživanje i razvoj: Ostale industrije | C73: 0487 | D73: 0 | E73: 0 | F73: =IF(D73>0,IF(E73/D73>=100,">>100",E73/D73*100),"-") -> -
A74: 049 | B74: Ekonomski poslovi koji nisu drugdje svrstani | C74: 049 | D74: 0 | E74: 7050.06 | F74: =IF(D74>0,IF(E74/D74>=100,">>100",E74/D74*100),"-") -> -
A75: 05 | B75: Zaštita okoliša (šifre 051 do 056) | C75: 05 | D75: =SUM(D76:D81) -> 230335.61 | E75: =SUM(E76:E81) -> 242971.15 | F75: =IF(D75>0,IF(E75/D75>=100,">>100",E75/D75*100),"-") -> 105.48571
A76: 051 | B76: Gospodarenje otpadom | C76: 051 | D76: 230335.61 | E76: 242971.15 | F76: =IF(D76>0,IF(E76/D76>=100,">>100",E76/D76*100),"-") -> 105.48571
A77: 052 | B77: Gospodarenje otpadnim vodama | C77: 052 | D77: 0 | E77: 0 | F77: =IF(D77>0,IF(E77/D77>=100,">>100",E77/D77*100),"-") -> -
A78: 053 | B78: Smanjenje zagađivanja | C78: 053 | D78: 0 | E78: 0 | F78: =IF(D78>0,IF(E78/D78>=100,">>100",E78/D78*100),"-") -> -
A79: 054 | B79: Zaštita bioraznolikosti i krajolika | C79: 054 | D79: 0 | E79: 0 | F79: =IF(D79>0,IF(E79/D79>=100,">>100",E79/D79*100),"-") -> -
A80: 055 | B80: Istraživanje i razvoj: Zaštita okoliša | C80: 055 | D80: 0 | E80: 0 | F80: =IF(D80>0,IF(E80/D80>=100,">>100",E80/D80*100),"-") -> -
A81: 056 | B81: Poslovi i usluge zaštite okoliša koji nisu drugdje svrstani | C81: 056 | D81: 0 | E81: 0 | F81: =IF(D81>0,IF(E81/D81>=100,">>100",E81/D81*100),"-") -> -
A82: 06 | B82: Usluge unapređenja stanovanja i zajednice (šifre 061 do 066) | C82: 06 | D82: =SUM(D83:D88) -> 293718.56 | E82: =SUM(E83:E88) -> 156713.9 | F82: =IF(D82>0,IF(E82/D82>=100,">>100",E82/D82*100),"-") -> 53.355123
A83: 061 | B83: Razvoj stanovanja | C83: 061 | D83: 11500 | E83: 31875 | F83: =IF(D83>0,IF(E83/D83>=100,">>100",E83/D83*100),"-") -> 277.17391
A84: 062 | B84: Razvoj zajednice | C84: 062 | D84: 1322.7 | E84: 5685.2 | F84: =IF(D84>0,IF(E84/D84>=100,">>100",E84/D84*100),"-") -> 429.8178
A85: 063 | B85: Opskrba vodom | C85: 063 | D85: 0 | E85: 0 | F85: =IF(D85>0,IF(E85/D85>=100,">>100",E85/D85*100),"-") -> -
A86: 064 | B86: Ulična rasvjeta | C86: 064 | D86: 83793.45 | E86: 65384.43 | F86: =IF(D86>0,IF(E86/D86>=100,">>100",E86/D86*100),"-") -> 78.030479
A87: 065 | B87: Istraživanje i razvoj stanovanja i komunalnih pogodnosti | C87: 065 | D87: 0 | E87: 0 | F87: =IF(D87>0,IF(E87/D87>=100,">>100",E87/D87*100),"-") -> -
A88: 066 | B88: Rashodi vezani za stanovanje i kom. pogodnosti koji nisu drugdje svrstani | C88: 066 | D88: 197102.41 | E88: 53769.27 | F88: =IF(D88>0,IF(E88/D88>=100,">>100",E88/D88*100),"-") -> 27.279864
A89: 07 | B89: Zdravstvo (šifre 071+072+073+074+075+076) | C89: 07 | D89: =D90+D94+D99+D104+D105+D106 -> 65325.45 | E89: =E90+E94+E99+E104+E105+E106 -> 28865.28 | F89: =IF(D89>0,IF(E89/D89>=100,">>100",E89/D89*100),"-") -> 44.186883
A90: 071 | B90: Medicinski proizvodi, pribor i oprema (šifre 0711 do 0713) | C90: 071 | D90: =SUM(D91:D93) -> 0 | E90: =SUM(E91:E93) -> 0 | F90: =IF(D90>0,IF(E90/D90>=100,">>100",E90/D90*100),"-") -> -
A91: 0711 | B91: Farmaceutski proizvodi | C91: 0711 | D91: 0 | E91: 0 | F91: =IF(D91>0,IF(E91/D91>=100,">>100",E91/D91*100),"-") -> -
A92: 0712 | B92: Ostali medicinski proizvodi | C92: 0712 | D92: 0 | E92: 0 | F92: =IF(D92>0,IF(E92/D92>=100,">>100",E92/D92*100),"-") -> -
A93: 0713 | B93: Terapeutski pribor i oprema | C93: 0713 | D93: 0 | E93: 0 | F93: =IF(D93>0,IF(E93/D93>=100,">>100",E93/D93*100),"-") -> -
A94: 072 | B94: Službe za vanjske pacijente (šifre 0721 do 0724) | C94: 072 | D94: =SUM(D95:D98) -> 0 | E94: =SUM(E95:E98) -> 0 | F94: =IF(D94>0,IF(E94/D94>=100,">>100",E94/D94*100),"-") -> -
A95: 0721 | B95: Opće medicinske usluge | C95: 0721 | D95: 0 | E95: 0 | F95: =IF(D95>0,IF(E95/D95>=100,">>100",E95/D95*100),"-") -> -
A96: 0722 | B96: Specijalističke medicinske usluge | C96: 0722 | D96: 0 | E96: 0 | F96: =IF(D96>0,IF(E96/D96>=100,">>100",E96/D96*100),"-") -> -
A97: 0723 | B97: Zubarske usluge | C97: 0723 | D97: 0 | E97: 0 | F97: =IF(D97>0,IF(E97/D97>=100,">>100",E97/D97*100),"-") -> -
A98: 0724 | B98: Paramedicinske usluge | C98: 0724 | D98: 0 | E98: 0 | F98: =IF(D98>0,IF(E98/D98>=100,">>100",E98/D98*100),"-") -> -
A99: 073 | B99: Bolničke službe (šifre 0731 do 0734) | C99: 073 | D99: =SUM(D100:D103) -> 0 | E99: =SUM(E100:E103) -> 0 | F99: =IF(D99>0,IF(E99/D99>=100,">>100",E99/D99*100),"-") -> -
A100: 0731 | B100: Usluge općih bolnica | C100: 0731 | D100: 0 | E100: 0 | F100: =IF(D100>0,IF(E100/D100>=100,">>100",E100/D100*100),"-") -> -
...

Sheet P-VRIO
A1: Obveznik: | B1: 28098 - OPĆINA MOLVE | C1: Razina: | D1: 23 | E1: Razdoblje: | F1: 2025-12
A2: IZVJEŠTAJ O PROMJENAMA U VRIJEDNOSTI I OBUJMU IMOVINE I OBVEZA
A3: Račun iz rač. plana | B3: Opis stavke | C3: Šifra | D3: Iznos povećanja | E3: Iznos smanjenja
A4: 1 | B4: 2 | C4: 3 | D4: 4 | E4: 5
A5: 9151 | B5: Promjene u vrijednosti i obujmu imovine (šifre 91511+91512) | C5: 9151 | D5: =D6+D22 -> 0 | E5: =E6+E22 -> 433109.6
A6: 91511 | B6: Promjene u vrijednosti imovine (šifre P001+P008) | C6: 91511 | D6: =D7+D14 -> 0 | E6: =E7+E14 -> 433085.11
B7: Promjene u vrijednosti nefinancijske imovine (šifre P002 do P007) | C7: P001 | D7: =SUM(D8:D13) -> 0 | E7: =SUM(E8:E13) -> 433085.11
B8: Neproizvedena dugotrajna imovina | C8: P002 | D8: 0 | E8: 0
B9: Proizvedena dugotrajna imovina | C9: P003 | D9: 0 | E9: 433085.11
B10: Plemeniti metali i ostale pohranjene vrijednosti | C10: P004 | D10: 0 | E10: 0
B11: Sitni inventar i autogume | C11: P005 | D11: 0 | E11: 0
B12: Dugotrajna nefinancijska imovina u pripremi | C12: P006 | D12: 0 | E12: 0
B13: Proizvedena kratkotrajna imovina | C13: P007 | D13: 0 | E13: 0
B14: Promjene u vrijednosti financijske imovine (šifre P009 do P015) | C14: P008 | D14: =SUM(D15:D21) -> 0 | E14: =SUM(E15:E21) -> 0
B15: Novac u banci i blagajni | C15: P009 | D15: 0 | E15: 0
B16: Potraživanja za jamčevne pologe, od zaposlenih te za više plaćene poreze i ostalo | C16: P010 | D16: 0 | E16: 0
B17: Potraživanja za dane zajmove | C17: P011 | D17: 0 | E17: 0
B18: Financijski instrumenti - vrijednosni papiri | C18: P012 | D18: 0 | E18: 0
B19: Financijski instrumenti - dionice i udjeli u glavnici | C19: P013 | D19: 0 | E19: 0
B20: Potraživanja za prihode poslovanja | C20: P014 | D20: 0 | E20: 0
B21: Potraživanja od prodaje nefinancijske imovine | C21: P015 | D21: 0 | E21: 0
A22: 91512 | B22: Promjene u obujmu imovine (šifre P016+P023) | C22: 91512 | D22: =D23+D30 -> 0 | E22: =E23+E30 -> 24.49
B23: Promjene u obujmu nefinancijske imovine (šifre P017 do P022) | C23: P016 | D23: =SUM(D24:D29) -> 0 | E23: =SUM(E24:E29) -> 24.49
B24: Neproizvedena dugotrajna imovina | C24: P017 | D24: 0 | E24: 0
B25: Proizvedena dugotrajna imovina | C25: P018 | D25: 0 | E25: 24.49
B26: Plemeniti metali i ostale pohranjene vrijednosti | C26: P019 | D26: 0 | E26: 0
B27: Sitni inventar i autogume | C27: P020 | D27: 0 | E27: 0
B28: Dugotrajna nefinancijska imovina u pripremi | C28: P021 | D28: 0 | E28: 0
B29: Proizvedena kratkotrajna imovina | C29: P022 | D29: 0 | E29: 0
B30: Promjene u obujmu financijske imovine (šifre P024 do P030) | C30: P023 | D30: =SUM(D31:D37) -> 0 | E30: =SUM(E31:E37) -> 0
B31: Novac u banci i blagajni | C31: P024 | D31: 0 | E31: 0
B32: Potraživanja za jamčevne pologe, od zaposlenih te za više plaćene poreze i ostalo | C32: P025 | D32: 0 | E32: 0
B33: Potraživanja za dane zajmove | C33: P026 | D33: 0 | E33: 0
B34: Financijski instrumenti - vrijednosni papiri | C34: P027 | D34: 0 | E34: 0
B35: Financijski instrumenti - dionice i udjeli u glavnici | C35: P028 | D35: 0 | E35: 0
B36: Potraživanja za prihode poslovanja | C36: P029 | D36: 0 | E36: 0
B37: Potraživanja od prodaje nefinancijske imovine | C37: P030 | D37: 0 | E37: 0
A38: 9152 | B38: Promjene u vrijednosti i obujmu obveza (šifre 91521+91522) | C38: 9152 | D38: =D39+D44 -> 0 | E38: =E39+E44 -> 0
A39: 91521 | B39: Promjene u vrijednosti obveza (šifre P031 do P034) | C39: 91521 | D39: =SUM(D40:D43) -> 0 | E39: =SUM(E40:E43) -> 0
B40: Obveze za rashode poslovanja | C40: P031 | D40: 0 | E40: 0
B41: Obveze za nabavu nefinancijske imovine | C41: P032 | D41: 0 | E41: 0
B42: Obveze za financijske instrumente - vrijednosne papire | C42: P033 | D42: 0 | E42: 0
B43: Obveze za kredite i zajmove | C43: P034 | D43: 0 | E43: 0
A44: 91522 | B44: Promjene u obujmu obveza (šifre P035 do P038) | C44: 91522 | D44: =SUM(D45:D48) -> 0 | E44: =SUM(E45:E48) -> 0
B45: Obveze za rashode poslovanja | C45: P035 | D45: 0 | E45: 0
B46: Obveze za nabavu nefinancijske imovine | C46: P036 | D46: 0 | E46: 0
B47: Obveze za financijske instrumente - vrijednosne papire | C47: P037 | D47: 0 | E47: 0
B48: Obveze za kredite i zajmove | C48: P038 | D48: 0 | E48: 0

Sheet OBVEZE
A1: Obveznik: | B1: 28098 - OPĆINA MOLVE | C1: Razina: | D1: 23 | E1: Razdoblje: | F1: 2025-12
A2: IZVJEŠTAJ O OBVEZAMA
A3: Račun iz rač. plana | B3: Opis stavke | C3: Šifra | D3: Iznos
A4: 1 | B4: 2 | C4: 3 | D4: 4
B5: Stanje obveza 1. siječnja (=stanju obveza iz Izvještaja o obvezama na 31. prosinca prethodne godine) | C5: V001 | D5: 1992930.7
B6: Povećanje obveza u izvještajnom razdoblju (šifre V003+N23+N24 + 'N dio 25,26'+N27) | C6: V002 | D6: =D7+D8+D17+D18+D24 -> 3111454.4
B7: Međusobne obveze subjekata općeg proračuna | C7: V003 | D7: 0
A8: 23 | B8: Obveze za rashode poslovanja (šifre N231 do N239) | C8: N23 | D8: =SUM(D9:D16) -> 2457010.2
A9: 231 | B9: Obveze za zaposlene | C9: N231 | D9: 763511.7
A10: 232 | B10: Obveze za materijalne rashode | C10: N232 | D10: 815291.06
A11: 234 | B11: Obveze za financijske rashode | C11: N234 | D11: 37200.57
A12: 235 | B12: Obveze za subvencije | C12: N235 | D12: 101757.38
A13: 236 | B13: Obveze za pomoći dane u inozemstvo i unutar općeg proračuna | C13: N236 | D13: 25339.94
A14: 237 | B14: Obveze za naknade građanima i kućanstvima | C14: N237 | D14: 399047.7
A15: 238 | B15: Obveze za donacije, kazne, naknade šteta i kapitalne pomoći | C15: N238 | D15: 251926.22
A16: 239 | B16: Ostale tekuće obveze | C16: N239 | D16: 62935.61
A17: 24 | B17: Obveze za nabavu nefinancijske imovine | C17: N24 | D17: 280346.77
A18: dio 25,26 | B18: Obveze za financijsku imovinu (šifre 'N251, 253' + N254 + N256 + 'N262,263,2643,2644,2645,2653,2654,267' + 'N261,2646,2647,2648,2655,2656') | C18: N dio 25,26 | D18: =SUM(D19:D23) -> 190159.49
A19: 251.253 | B19: Obveze za čekove i mjenice | C19: N251, 253 | D19: 0
A20: 254 | B20: Obveze za obveznice | C20: N254 | D20: 0
A21: 256 | B21: Obveze za ostale vrijednosne papire | C21: N256 | D21: 0
A22: 262,263,2643,2644, 2645,2653,2654,267 | B22: Obveze za tuzemne kredite i zajmove | C22: N262,263,2643,2644,2645,2653,2654,267 | D22: 190159.49
A23: 261,2646,2647, 2648,2655,2656 | B23: Obveze za inozemne kredite i zajmove | C23: N261,2646,2647,2648,2655,2656 | D23: 0
A24: 27 | B24: Obveze za predujmove, depozite, jamčevne pologe i tuđe prihode | C24: N27 | D24: 183937.96
B25: Podmirene obveze u izvještajnom razdoblju (šifre V005+P23+P24 + 'P dio 25,26'+P27) | C25: V004 | D25: =D26+D27+D36+D37+D43 -> 2499998.6
B26: Međusobne obveze subjekata općeg proračuna | C26: V005 | D26: 0
A27: 23 | B27: Obveze za rashode poslovanja (šifre P231 do P239) | C27: P23 | D27: =SUM(D28:D35) -> 2130721.8
A28: 231 | B28: Obveze za zaposlene | C28: P231 | D28: 717516.27
A29: 232 | B29: Obveze za materijalne rashode | C29: P232 | D29: 842288.1
A30: 234 | B30: Obveze za financijske rashode | C30: P234 | D30: 34318.28
A31: 235 | B31: Obveze za subvencije | C31: P235 | D31: 4000
A32: 236 | B32: Obveze za pomoći dane u inozemstvo i unutar općeg proračuna | C32: P236 | D32: 18039.79
A33: 237 | B33: Obveze za naknade građanima i kućanstvima | C33: P237 | D33: 258186.68
A34: 238 | B34: Obveze za donacije, kazne, naknade šteta i kapitalne pomoći | C34: P238 | D34: 185461.49
A35: 239 | B35: Ostale tekuće obveze | C35: P239 | D35: 70911.16
A36: 24 | B36: Obveze za nabavu nefinancijske imovine | C36: P24 | D36: 191522.37
A37: dio 25,26 | B37: Obveze za financijsku imovinu (šifre 'P251,253' + P254 + P256 + 'P262,263,2643,2644, 2645,2653,2654,267' + 'P261,2646,2647, 2648,2655,2656') | C37: P dio 25, 26 | D37: =SUM(D38:D42) -> 170564.02
A38: 251.253 | B38: Obveze za čekove i mjenice | C38: P251, 253 | D38: 0
A39: 254 | B39: Obveze za obveznice | C39: P254 | D39: 0
A40: 256 | B40: Obveze za ostale vrijednosne papire | C40: P256 | D40: 0
A41: 262,263,2643,2644, 2645,2653,2654,267 | B41: Obveze za tuzemne kredite i zajmove | C41: P262,263,2643,2644, 2645,2653,2654,267 | D41: 170564.02
A42: 261,2646,2647, 2648,2655,2656 | B42: Obveze za inozemne kredite i zajmove | C42: P261,2646,2647, 2648,2655,2656 | D42: 0
A43: 27 | B43: Obveze za predujmove, depozite, jamčevne pologe i tuđe prihode | C43: P27 | D43: 7190.43
B44: Stanje obveza na kraju izvještajnog razdoblja (šifre V001+V002-V004) i (šifre V007+V009) | C44: V006 | D44: =D5+D6-D25 -> 2604386.5
B45: Stanje dospjelih obveza na kraju izvještajnog razdoblja (šifre V008+D23+D24 + 'D dio 25,26' + D27) | C45: V007 | D45: =D46+D51+D92+D97+D103 -> 1318550
B46: Međusobne obveze subjekata općeg proračuna (šifre M001 do M004) | C46: V008 | D46: =SUM(D47:D50) -> 0
B47: a) Prekoračenje 1 do 60 dana | C47: M001 | D47: 0
B48: b) Prekoračenje 61 do 180 dana | C48: M002 | D48: 0
B49: c) Prekoračenje 181 do 360 dana | C49: M003 | D49: 0
B50: d) Prekoračenje preko 360 dana | C50: M004 | D50: 0
A51: 23 | B51: Ukupno obveze za rashode poslovanja (šifre D231+D232+D234+D235+D236+D237+D 238+D239) | C51: D23 | D51: =D52+D57+D62+D67+D72+D77+D82+D87 -> 752905.41
A52: 231 | B52: Obveze za zaposlene (šifre D231A do D231D) | C52: D231 | D52: =SUM(D53:D56) -> 6600.93
B53: a) Prekoračenje 1 do 60 dana | C53: D231A | D53: 0
B54: b) Prekoračenje 61 do 180 dana | C54: D231B | D54: 6600.93
B55: c) Prekoračenje 181 do 360 dana | C55: D231C | D55: 0
B56: d) Prekoračenje preko 360 dana | C56: D231D | D56: 0
A57: 232 | B57: Obveze za materijalne rashode (šifre D232A do D232D) | C57: D232 | D57: =SUM(D58:D61) -> 370943.08
B58: a) Prekoračenje 1 do 60 dana | C58: D232A | D58: 70106.49
B59: b) Prekoračenje 61 do 180 dana | C59: D232B | D59: 54355.77
B60: c) Prekoračenje 181 do 360 dana | C60: D232C | D60: 145119
B61: d) Prekoračenje preko 360 dana | C61: D232D | D61: 101361.82
A62: 234 | B62: Obveze za financijske rashode (šifre D234A do D234D) | C62: D234 | D62: =SUM(D63:D66) -> 1028.06
B63: a) Prekoračenje 1 do 60 dana | C63: D234A | D63: 459.33
B64: b) Prekoračenje 61 do 180 dana | C64: D234B | D64: 421.25
B65: c) Prekoračenje 181 do 360 dana | C65: D234C | D65: 131.62
B66: d) Prekoračenje preko 360 dana | C66: D234D | D66: 15.86
A67: 235 | B67: Obveze za subvencije (šifre D235A do D235D) | C67: D235 | D67: =SUM(D68:D71) -> 93268.11
B68: a) Prekoračenje 1 do 60 dana | C68: D235A | D68: 1695.97
B69: b) Prekoračenje 61 do 180 dana | C69: D235B | D69: 90177.5
B70: c) Prekoračenje 181 do 360 dana | C70: D235C | D70: 0
B71: d) Prekoračenje preko 360 dana | C71: D235D | D71: 1394.64
A72: 236 | B72: Obveze za pomoći dane u inozemstvo i unutar općeg proračuna (šifre D236A do D236D) | C72: D236 | D72: =SUM(D73:D76) -> 7300.15
B73: a) Prekoračenje 1 do 60 dana | C73: D236A | D73: 3029.33
B74: b) Prekoračenje 61 do 180 dana | C74: D236B | D74: 4270.82
B75: c) Prekoračenje 181 do 360 dana | C75: D236C | D75: 0
B76: d) Prekoračenje preko 360 dana | C76: D236D | D76: 0
A77: 237 | B77: Obveze za naknade građanima i kućanstvima (šifre D237A do D237D) | C77: D237 | D77: =SUM(D78:D81) -> 199923.8
B78: a) Prekoračenje 1 do 60 dana | C78: D237A | D78: 9415.27
B79: b) Prekoračenje 61 do 180 dana | C79: D237B | D79: 19885.29
B80: c) Prekoračenje 181 do 360 dana | C80: D237C | D80: 147177.02
B81: d) Prekoračenje preko 360 dana | C81: D237D | D81: 23446.22
A82: 238 | B82: Obveze za donacije, kazne, naknade šteta i kapitalne pomoći (šifre D238A do D238D) | C82: D 238 | D82: =SUM(D83:D86) -> 66464.73
B83: a) Prekoračenje 1 do 60 dana | C83: D238A | D83: 62131.53
B84: b) Prekoračenje 61 do 180 dana | C84: D238B | D84: 480
B85: c) Prekoračenje 181 do 360 dana | C85: D238C | D85: 3853.2
B86: d) Prekoračenje preko 360 dana | C86: D238D | D86: 0
A87: 239 | B87: Ostale tekuće obveze (šifre D239A do D239D) | C87: D239 | D87: =SUM(D88:D91) -> 7376.55
B88: a) Prekoračenje 1 do 60 dana | C88: D239A | D88: 0
B89: b) Prekoračenje 61 do 180 dana | C89: D239B | D89: 465
B90: c) Prekoračenje 181 do 360 dana | C90: D239C | D90: 839.99
B91: d) Prekoračenje preko 360 dana | C91: D239D | D91: 6071.56
A92: 24 | B92: Obveze za nabavu nefinancijske imovine (šifre D24A do D24D) | C92: D24 | D92: =SUM(D93:D96) -> 245032.99
B93: a) Prekoračenje 1 do 60 dana | C93: D24A | D93: 0
B94: b) Prekoračenje 61 do 180 dana | C94: D24B | D94: 95302.84
B95: c) Prekoračenje 181 do 360 dana | C95: D24C | D95: 128927.85
B96: d) Prekoračenje preko 360 dana | C96: D24D | D96: 20802.3
A97: dio 25,26 | B97: Obveze za financijsku imovinu (šifre 'D 251,253' + D254 + D256 + 'D262,263,2643,2644, 2645,2653,2654,267' + 'D261,2646,2647, 2648,2655,2656') | C97: D dio 25,26 | D97: =SUM(D98:D102) -> 164010.53
A98: 251.253 | B98: Obveze za čekove i mjenice | C98: D 251,253 | D98: 0
A99: 254 | B99: Obveze za obveznice | C99: D254 | D99: 0
A100: 256 | B100: Obveze za ostale vrijednosne papire | C100: D256 | D100: 0
...

Sheet Kont
A1: IZVJEŠTAJ O OBVEZAMA | E1: REZ
A2: KONTROLE | E2: KONTROLE | F2: UPOZORENJA | G2: RAZDOBLJE | H2: RAZDOBLJE | I2: RAZINA | J2: PR-RAS | K2: RAS-F | L2: P-VRIO | M2: BIL | N2: OBV | O2: RKP
A3: Rbr. | B3: Rezultat kontrole | C3: Opis kontrole | E3: =E4+E14+E23+E298+E342+E345+E347 -> 0 | F3: =F4+F14+F23+F298+F342+F345+F347 -> 7 | G3: =IF(RefStr!C13<>"",INT(VALUE(MID(RefStr!C13,1,4))),0) -> 2025 | H3: =IF(RefStr!C13<>"",INT(VALUE(MID(RefStr!C13,6,2))),0) -> 12 | I3: =RefStr!C10*1 -> 23 | J3: =RefStr!H7 -> DA | K3: =RefStr!H9 -> DA | L3: =RefStr!H10 -> DA | M3: =RefStr!H8 -> DA | N3: =RefStr!H11 -> DA | O3: =RefStr!C6 -> 28098
A4: OPĆE KONTROLE - Kontrole podataka iz zaglavlja i kontrole popunjenosti obrazaca | E4: =SUM(E5:E13) -> 0 | F4: =SUM(F5:F13) -> 0 | I4: 3 i 9 mjesec | J4: 6. mjesec | K4: 12. mjeseci
A5: 1 | B5: =IF(E5=1,"Pogreška",IF(F5=1,"Provjera","O.K.")) -> O.K. | C5: Razina 11 - za kvartale te za polugodište (I.-III., I.-VI., I.-IX.) predaje obrasce PR-RAS i Obveze - za kraj godine predaje SVE obrasce: PR-RAS, BIL, P-VRIO, RAS-funkcijski i Obveze. Ova kontrola javlja pogrešku ako je popunjen obrazac koji se za upisano razdoblje i razinu ne treba popuniti, ili ako nije popunjen neki koji se treba popuniti. | E5: =MAX(G5:K5) -> 0 | F5: 0 | I5: =IF(AND($I$3=11,OR($H$3=3,$H$3=9),OR($J$3<>"DA",$K$3<>"NE",$L$3<>"NE",$M$3<>"NE",$N$3<>"DA")),1,0) -> 0 | J5: =IF(AND($I$3=11,$H$3=6,OR($J$3<>"DA",$K$3<>"NE",$L$3<>"NE",$M$3<>"NE",$N$3<>"DA")),1,0) -> 0 | K5: =IF(AND($I$3=11,$H$3=12,OR($J$3<>"DA",$K$3<>"DA",$L$3<>"DA",$M$3<>"DA",$N$3<>"DA")),1,0) -> 0
A6: 2 | B6: =IF(E6=1,"Pogreška",IF(F6=1,"Provjera","O.K.")) -> O.K. | C6: Razina 12 - za kvartale (I.-III., I.-IX.) predaje samo obrazac Obveze, - za polugodište predaje obrazac PR-RAS te obrazac Obveze - za kraj godine predaje SVE obrasce: PR-RAS, BIL, P-VRIO, RAS-funkcijski i Obveze. Ova kontrola javlja pogrešku ako je popunjen obrazac koji se za upisano razdoblje i razinu ne treba popuniti, ili ako nije popunjen neki koji se treba popuniti. | E6: =MAX(G6:K6) -> 0 | F6: 0 | I6: =IF(AND($I$3=12,OR($H$3=3,$H$3=9),OR($J$3<>"NE",$K$3<>"NE",$L$3<>"NE",$M$3<>"NE",$N$3<>"DA")),1,0) -> 0 | J6: =IF(AND($I$3=12,$H$3=6,OR($J$3<>"DA",$K$3<>"NE",$L$3<>"NE",$M$3<>"NE",$N$3<>"DA")),1,0) -> 0 | K6: =IF(AND($I$3=12,$H$3=12,OR(J3<>"DA",K3<>"DA",L3<>"DA",M3<>"DA",N3<>"DA")),1,0) -> 0
A7: 3 | B7: =IF(E7=1,"Pogreška",IF(F7=1,"Provjera","O.K.")) -> O.K. | C7: Razina 13 - za kvartale te za polugodište (I.-III., I.-VI., I.-IX.) predaje samo obrazac PR-RAS - za kraj godine predaje obrasce: PR-RAS, BIL, P-VRIO i RAS-funkcijski. Ova kontrola javlja pogrešku ako je popunjen obrazac koji se za upisano razdoblje i razinu ne treba popuniti, ili ako nije popunjen neki koji se treba popuniti. | E7: =MAX(G7:K7) -> 0 | F7: 0 | I7: =IF(AND($I$3=13,OR($H$3=3,$H$3=9),OR($J$3<>"DA",$K$3<>"NE",$L$3<>"NE",$M$3<>"NE",$N$3<>"NE")),1,0) -> 0 | J7: =IF(AND($I$3=13,$H$3=6,OR($J$3<>"DA",$K$3<>"NE",$L$3<>"NE",$M$3<>"NE",$N$3<>"NE")),1,0) -> 0 | K7: =IF(AND($I$3=13,$H$3=12,OR($J$3<>"DA",$K$3<>"DA",$L$3<>"DA",$M$3<>"DA",$N$3<>"NE")),1,0) -> 0
A8: 4 | B8: =IF(E8=1,"Pogreška",IF(F8=1,"Provjera","O.K.")) -> O.K. | C8: Razina 21 - za kvartale (I.-III., I.-IX.) predaje samo obrazac PR-RAS - za polugodište predaje obrasce PR-RAS i Obveze, - na godišnjoj razini predaje sve obrasce: PR-RAS, BIL, RAS-funkcijski, P-VRIO i Obveze. Ova kontrola javlja pogrešku ako je popunjen obrazac koji se za upisano razdoblje i razinu ne treba popuniti, ili ako nije popunjen neki koji se treba popuniti. | E8: =MAX(G8:K8) -> 0 | F8: 0 | I8: =IF(AND($I$3=21,OR($H$3=3,$H$3=9),OR($J$3<>"DA",$K$3<>"NE",$L$3<>"NE",$M$3<>"NE",$N$3<>"NE")),1,0) -> 0 | J8: =IF(AND($I$3=21,$H$3=6,OR($J$3<>"DA",$K$3<>"NE",$L$3<>"NE",$M$3<>"NE",$N$3<>"DA")),1,0) -> 0 | K8: =IF(AND($I$3=21,$H$3=12,OR($J$3<>"DA",$K$3<>"DA",$L$3<>"DA",$M$3<>"DA",$N$3<>"DA")),1,0) -> 0
A9: 5 | B9: =IF(E9=1,"Pogreška",IF(F9=1,"Provjera","O.K.")) -> O.K. | C9: Razina 22 - za kvartale te za polugodište (I.-III., I.-VI., I.-IX.) predaje obrasce PR-RAS i Obveze - za kraj godine predaje SVE obrasce: PR-RAS, BIL, P-VRIO, RAS-funkcijski i Obveze. Ova kontrola javlja pogrešku ako je popunjen obrazac koji se za upisano razdoblje i razinu ne treba popuniti, ili ako nije popunjen neki koji se treba popuniti. | E9: =MAX(G9:K9) -> 0 | F9: 0 | I9: =IF(AND($I$3=22,OR($H$3=3,$H$3=9),OR($J$3<>"DA",$K$3<>"NE",$L$3<>"NE",$M$3<>"NE",$N$3<>"DA")),1,0) -> 0 | J9: =IF(AND($I$3=22,$H$3=6,OR($J$3<>"DA",$K$3<>"NE",$L$3<>"NE",$M$3<>"NE",$N$3<>"DA")),1,0) -> 0 | K9: =IF(AND($I$3=22,$H$3=12,OR($J$3<>"DA",$K$3<>"DA",$L$3<>"DA",$M$3<>"DA",$N$3<>"DA")),1,0) -> 0
A10: 6 | B10: =IF(E10=1,"Pogreška",IF(F10=1,"Provjera","O.K.")) -> O.K. | C10: Razina 23 - za kvartale ne predaje ništa, nema konsolidacije, - za polugodište (I.-VI.) predaje obrasce PR-RAS i Obveze - za kraj godine predaje SVE obrasce: PR-RAS, BIL, P-VRIO, RAS-funkcijski i Obveze. Ova kontrola javlja pogrešku ako je popunjen obrazac koji se za upisano razdoblje i razinu ne treba popuniti, ili ako nije popunjen neki koji se treba popuniti. | E10: =MAX(G10:K10) -> 0 | F10: 0 | I10: =IF(AND($I$3=23,OR($H$3=3,$H$3=9)),1,0) -> 0 | J10: =IF(AND($I$3=23,$H$3=6,OR($J$3<>"DA",$K$3<>"NE",$L$3<>"NE",$M$3<>"NE",$N$3<>"DA")),1,0) -> 0 | K10: =IF(AND($I$3=23,$H$3=12,OR($J$3<>"DA",$K$3<>"DA",$L$3<>"DA",$M$3<>"DA",$N$3<>"DA")),1,0) -> 0
A11: 7 | B11: =IF(E11=1,"Pogreška",IF(F11=1,"Provjera","O.K.")) -> O.K. | C11: Razine 31 - za kvartale (I.-III., I.-IX.) predaje samo obrazac PR-RAS - za polugodište predaje obrasce PR-RAS i Obveze - na godišnjoj razini predaje sve obrasce: PR-RAS, BIL, RAS-funkcijski, P-VRIO i Obveze. Ova kontrola javlja pogrešku ako je popunjen obrazac koji se za upisano razdoblje i razinu ne treba popuniti, ili ako nije popunjen neki koji se treba popuniti. | E11: =MAX(G11:K11) -> 0 | F11: 0 | I11: =IF(AND($I$3=31,OR($H$3=3,$H$3=9),OR($J$3<>"DA",$K$3<>"NE",$L$3<>"NE",$M$3<>"NE",$N$3<>"NE")),1,0) -> 0 | J11: =IF(AND($I$3=31,$H$3=6,OR($J$3<>"DA",$K$3<>"NE",$L$3<>"NE",$M$3<>"NE",$N$3<>"DA")),1,0) -> 0 | K11: =IF(AND($I$3=31,$H$3=12,OR($J$3<>"DA",$K$3<>"DA",$L$3<>"DA",$M$3<>"DA",$N$3<>"DA")),1,0) -> 0
A12: 8 | B12: =IF(E12=1,"Pogreška",IF(F12=1,"Provjera","O.K.")) -> O.K. | C12: Razina 41 - za kvartale i polugodište (I.-III., I.-VI. i I.-IX.) predaje obrasce PR-RAS i Obveze - na godišnjoj razini predaje sve obrasce: PR-RAS, BIL, RAS-funkcijski, P-VRIO i Obveze. Ova kontrola javlja pogrešku ako je popunjen obrazac koji se za upisano razdoblje i razinu ne treba popuniti, ili ako nije popunjen neki koji se treba popuniti. | E12: =MAX(G12:K12) -> 0 | F12: 0 | I12: =IF(AND($I$3=41,OR($H$3=3,$H$3=9),OR($J$3<>"DA",$K$3<>"NE",$L$3<>"NE",$M$3<>"NE",$N$3<>"DA")),1,0) -> 0 | J12: =IF(AND($I$3=41,$H$3=6,OR($J$3<>"DA",$K$3<>"NE",$L$3<>"NE",$M$3<>"NE",$N$3<>"DA")),1,0) -> 0 | K12: =IF(AND($I$3=41,$H$3=12,OR($J$3<>"DA",$K$3<>"DA",$L$3<>"DA",$M$3<>"DA",$N$3<>"DA")),1,0) -> 0
A13: 9 | B13: =IF(E13=1,"Pogreška",IF(F13=1,"Provjera","O.K.")) -> O.K. | C13: Razine 42 - za kvartale (I.-III., I.-IX.) predaje samo obrazac PR-RAS - za polugodište predaje obrasce PR-RAS i Obveze - na godišnjoj razini predaje sve obrasce: PR-RAS, BIL, RAS-funkcijski, P-VRIO i Obveze. Ova kontrola javlja pogrešku ako je popunjen obrazac koji se za upisano razdoblje i razinu ne treba popuniti, ili ako nije popunjen neki koji se treba popuniti. | E13: =MAX(G13:K13) -> 0 | F13: 0 | I13: =IF(AND($I$3=42,OR($H$3=3,$H$3=9),OR($J$3<>"DA",$K$3<>"NE",$L$3<>"NE",$M$3<>"NE",$N$3<>"NE")),1,0) -> 0 | J13: =IF(AND($I$3=42,$H$3=6,OR($J$3<>"DA",$K$3<>"NE",$L$3<>"NE",$M$3<>"NE",$N$3<>"DA")),1,0) -> 0 | K13: =IF(AND($I$3=42,$H$3=12,OR($J$3<>"DA",$K$3<>"DA",$L$3<>"DA",$M$3<>"DA",$N$3<>"DA")),1,0) -> 0
A14: Kontrole između dva različita obrasca | E14: =SUM(E15:E22) -> 0 | F14: =SUM(F15:F22) -> 0
A15: 1 | B15: =IF(E15=1,"Pogreška",IF(F15=1,"Provjera","O.K.")) -> O.K. | C15: Na godišnjoj razini, šifra 19 u obrascu Bilanca mora biti jednaka šifri 19 u obrascu PR-RAS. Ova kontrola je obvezujuća za razine 11, 21, 22, 31, 41, 42, a upozoravajuća za razine 12, 13 i 23. Ova kontrola vrijedi u oba stupca podataka, osim za obveznike kod kojih početak razdoblja nije ujedno i početak poslovne godine (obveznik je počeo s radom tokom godine). Za takve obveznike kontrola vrijedi samo za stupac tekuće godine (ne i prethodne). | E15: =MAX(G15:K15) -> 0 | F15: =MAX(L15:O15) -> 0 | G15: =IF(AND(H3=12,J3="DA",M3="DA",OR(I3=11,I3=21,I3=22,I3=31,I3=41,I3=42),ABS(BILANCA!D171-'PR-RAS'!D651)>0.001),1,0) -> 0 | H15: =IF(AND(H3=12,J3="DA",M3="DA",OR(I3=11,I3=21,I3=22,I3=31,I3=41,I3=42),ABS(BILANCA!E171-'PR-RAS'!E651)>0.001),1,0) -> 0 | L15: =IF(AND(H3=12,J3="DA",M3="DA",OR(I3=12,I3=13,I3=23),ABS(BILANCA!D171-'PR-RAS'!D651)>0.001),1,0) -> 0 | M15: =IF(AND(H3=12,J3="DA",M3="DA",OR(I3=12,I3=13,I3=23),ABS(BILANCA!E171-'PR-RAS'!E651)>0.001),1,0) -> 0
A16: 2 | B16: =IF(E16=1,"Pogreška",IF(F16=1,"Provjera","O.K.")) -> O.K. | C16: Na godišnjoj razini, šifra 11 u obrascu Bilanca mora biti jednaka šifri 11K u obrascu PR-RAS. Ova kontrola je obvezujuća za razine 11, 21, 22, 31, 41 i 42, a upozoravajuća za razine 12, 13, 23. Ova kontrola vrijedi u oba stupca podataka. | E16: =MAX(G16:K16) -> 0 | F16: =MAX(L16:O16) -> 0 | G16: =IF(AND(H3=12,J3="DA",M3="DA",OR(I3=11,I3=21,I3=22,I3=31,I3=41,I3=42),ABS(BILANCA!D70-'PR-RAS'!D656)>0.001),1,0) -> 0 | H16: =IF(AND(H3=12,J3="DA",M3="DA",OR(I3=11,I3=21,I3=22,I3=31,I3=41,I3=42),ABS(BILANCA!E70-'PR-RAS'!E656)>0.001),1,0) -> 0 | L16: =IF(AND(H3=12,J3="DA",M3="DA",OR(I3=12,I3=13,I3=23),ABS(BILANCA!D70-'PR-RAS'!D656)>0.001),1,0) -> 0 | M16: =IF(AND(H3=12,J3="DA",M3="DA",OR(I3=12,I3=13,I3=23),ABS(BILANCA!E70-'PR-RAS'!E656)>0.001),1,0) -> 0
A17: 3 | B17: =IF(E17=1,"Pogreška",IF(F17=1,"Provjera","O.K.")) -> O.K. | C17: Na godišnjoj razini, ako je u Bilanci šifra 9221 > 9222, tada šifra X006 u PR-RAS-u mora biti jednaka šifri 9221-9222 u Bilanci, a šifra Y006 mora biti nula. Ako je u Bilanci šifra 9222 > 9221 tada šifra Y006 u PR-RAS-u mora biti jednaka šifri 9222 - 9221 u Bilanci, a šifra X006 u PR-RAS-u mora biti nula. Ova kontrola vrijedi za obje godine osim u slučaju kada je u PR-RAS obrascu stupac prethodne godine nepopunjena. | E17: =MAX(G17:L17) -> 0 | F17: 0 | G17: =IF(AND(H3=12,J3="DA",M3="DA",BILANCA!D256-BILANCA!D260>0.001,OR(ABS(BILANCA!D256-BILANCA!D260-'PR-RAS'!D649)>0.001,ABS('PR-RAS'!D650)>0.001)),1,0) -> 0 | H17: =IF(AND(H3=12,J3="DA",M3="DA",BILANCA!E256-BILANCA!E260>0.001,OR(ABS(BILANCA!E256-BILANCA!E260-'PR-RAS'!E649)>0.001,ABS('PR-RAS'!E650)>0.001)),1,0) -> 0 | I17: =IF(AND(H3=12,J3="DA",M3="DA",BILANCA!D260-BILANCA!D256>0.001,OR(ABS(BILANCA!D260-BILANCA!D256-'PR-RAS'!D650)>0.001,ABS('PR-RAS'!D649)>0.001)),1,0) -> 0 | J17: =IF(AND(H3=12,J3="DA",M3="DA",BILANCA!E260-BILANCA!E256>0.001,OR(ABS(BILANCA!E260-BILANCA!E256-'PR-RAS'!E650)>0.001,ABS('PR-RAS'!E649)>0.001)),1,0) -> 0
A18: 4 | B18: =IF(E18=1,"Pogreška",IF(F18=1,"Provjera","O.K.")) -> O.K. | C18: Ako je obrazac RAS-funkcijski popunjen, tada razlika šifri Y034 i 367 (šifre Y034-367) u obrascu PR-RAS treba biti jednaka zbroju svih rashoda po vrstama, tj. šifri R1 u obrascu RAS-funkcijski. | E18: =MAX(G18:L18) -> 0 | F18: 0 | G18: =IF(AND(J3="DA",K3="DA",ABS('PR-RAS'!D423-'PR-RAS'!D250-'RAS-funkcijski'!D141)>0.001),1,0) -> 0 | H18: =IF(AND(J3="DA",K3="DA",ABS('PR-RAS'!E423-'PR-RAS'!E250-'RAS-funkcijski'!E141)>0.001),1,0) -> 0
A19: 5 | B19: =IF(E19=1,"Pogreška",IF(F19=1,"Provjera","O.K.")) -> O.K. | C19: Na godišnjoj razini, stanje obveza na kraju izvještajnog razdoblja (šifra V006) u obrascu OBVEZE mora biti jednako razlici šifri 2 Obveze i 29 Odgođeno plaćanje rashoda i prihodi budućih razdoblja (šifre 2-29) na dan 31. prosinca u obrascu Bilanca. Ova kontrola je obvezujuća za razine 11, 12, 21, 31, 22, 23, 41 i 42. | E19: =MAX(H19:L19) -> 0 | F19: 0 | H19: =IF(AND(H3=12,I3<>13,ABS(BILANCA!E177-BILANCA!E248-OBVEZE!D44)>0.001),1,0) -> 0
A20: 6 | B20: =IF(E20=1,"Pogreška",IF(F20=1,"Provjera","O.K.")) -> O.K. | C20: Na godišnjoj razini, ako su ukupni rashodi (šifra Y034) u obrascu PR-RAS jednaki nuli, tada zbroj svih rashoda po funkcijskoj klasifikaciji (šifra R1) u obrascu RAS-funkcijski mora biti jednak nuli. Ova kontrola vrijedi za obveznike koji u oba stupca podataka na šifri Y034 u obrascu PR-RAS i šifri R1 u obrascu RAS-funkcijski nemaju popunjene podatke. | E20: =MAX(G20:K20) -> 0 | F20: 0 | G20: =IF(AND(H3=12,'PR-RAS'!D423=0), IF('RAS-funkcijski'!D141=0, 0, 1), 0) -> 0 | H20: =IF(AND(H3=12,'PR-RAS'!E423=0), IF('RAS-funkcijski'!E141=0, 0, 1), 0) -> 0
A21: 7 | B21: =IF(E21=1,"Pogreška",IF(F21=1,"Provjera","O.K.")) -> O.K. | C21: Na godišnjoj razini, šifra 96 u obrascu Bilanca mora biti jednaka šifri 96 u obrascu PR-RAS. Ova kontrola vrijedi u oba stupca podataka. | E21: =MAX(G21:K21) -> 0 | F21: 0 | G21: =IF(AND(H3=12, J3="DA", M3="DA", ABS(BILANCA!D274-'PR-RAS'!D304)>0.001), 1, 0) -> 0 | H21: =IF(AND(H3=12, J3="DA", M3="DA", ABS(BILANCA!E274-'PR-RAS'!E304)>0.001), 1, 0) -> 0
A22: 8 | B22: =IF(E22=1,"Pogreška",IF(F22=1,"Provjera","O.K.")) -> O.K. | C22: Na godišnjoj razini, šifra 97 u obrascu Bilanca mora biti jednaka šifri 97 u obrascu PR-RAS. Ova kontrola vrijedi u oba stupca podataka. | E22: =MAX(G22:K22) -> 0 | F22: 0 | G22: =IF(AND(H3=12, J3="DA", M3="DA", ABS(BILANCA!D291-'PR-RAS'!D421)>0.001), 1, 0) -> 0 | H22: =IF(AND(H3=12, J3="DA", M3="DA", ABS(BILANCA!E291-'PR-RAS'!E421)>0.001), 1, 0) -> 0
A23: Kontrole na obrascu PR-RAS | E23: =SUM(E24:E297) -> 0 | F23: =SUM(F24:F297) -> 7
A24: 1 | B24: =IF(E24=1,"Pogreška",IF(F24=1,"Provjera","O.K.")) -> O.K. | C24: Ako je u nekom stupcu na šiframa Z006 do Z009 (broj zaposlenih) podatak veći od nule, tada mora postojati podatak na šifri 31 (rashodi za zaposlene) veći od nule. Ako su na šifri 31 iskazani rashodi za zaposlene mora postojati i podatak o broju zaposlenih. | E24: =MAX(G24:K24) -> 0 | F24: =MAX(L24:O24) -> 0 | G24: =IF(OR(AND('PR-RAS'!D153=0,MAX('PR-RAS'!D657:D660)>0),AND('PR-RAS'!E153=0,MAX('PR-RAS'!E657:E660)>0)),1,0) -> 0 | H24: =IF(OR(AND('PR-RAS'!D153<>0,MAX('PR-RAS'!D657:D660)=0),AND('PR-RAS'!E153<>0,MAX('PR-RAS'!E657:E660)=0)),1,0) -> 0
A25: 2 | B25: =IF(E25=1,"Pogreška",IF(F25=1,"Provjera","O.K.")) -> O.K. | C25: Ako je u nekom stupcu na šifri Z006 broj veći od nule, tada i na šifri Z008 mora biti broj veći od nule i obrnuto. | E25: =MAX(G25:K25) -> 0 | F25: =MAX(L25:O25) -> 0 | G25: =IF(OR(AND('PR-RAS'!D657=0,'PR-RAS'!D659<>0),AND('PR-RAS'!D657<>0,'PR-RAS'!D659=0)),1,0) -> 0 | H25: =IF(OR(AND('PR-RAS'!E657=0,'PR-RAS'!E659<>0),AND('PR-RAS'!E657<>0,'PR-RAS'!E659=0)),1,0) -> 0
A26: 3 | B26: =IF(E26=1,"Pogreška",IF(F26=1,"Provjera","O.K.")) -> O.K. | C26: Ako je u nekom stupcu na šifri Z007 broj veći od nule, tada i na šifri Z009 mora biti broj veći od nule i obrnuto. | E26: =MAX(G26:K26) -> 0 | F26: =MAX(L26:O26) -> 0 | G26: =IF(OR(AND('PR-RAS'!D658=0,'PR-RAS'!D660<>0),AND('PR-RAS'!D658<>0,'PR-RAS'!D660=0)),1,0) -> 0 | H26: =IF(OR(AND('PR-RAS'!E658=0,'PR-RAS'!E660<>0),AND('PR-RAS'!E658<>0,'PR-RAS'!E660=0)),1,0) -> 0
A27: 4 | B27: =IF(E27=1,"Pogreška",IF(F27=1,"Provjera","O.K.")) -> O.K. | C27: Zbroj šifri: 61315+61316 je samo dio šifre 6131 i mora joj biti manji ili jednak u oba stupca podataka. | E27: =MAX(G27:K27) -> 0 | F27: =MAX(L27:O27) -> 0 | G27: =IF(ROUND('PR-RAS'!D662+'PR-RAS'!D663,2)>ROUND('PR-RAS'!D24,2),1,0) -> 0 | H27: =IF(ROUND('PR-RAS'!E662+'PR-RAS'!E663,2)>ROUND('PR-RAS'!E24,2),1,0) -> 0
A28: 277 | B28: =IF(E28=1,"Pogreška",IF(F28=1,"Provjera","O.K.")) -> O.K. | C28: Šifra 61341 je samo dio šifre 6134 i mora joj biti manja ili jednaka u oba stupca podataka. | E28: =MAX(G28:K28) -> 0 | F28: =MAX(L28:O28) -> 0 | G28: =IF(ROUND('PR-RAS'!D664,2)>ROUND('PR-RAS'!D27,2),1,0) -> 0 | H28: =IF(ROUND('PR-RAS'!E664,2)>ROUND('PR-RAS'!E27,2),1,0) -> 0
A29: 5 | B29: =IF(E29=1,"Pogreška",IF(F29=1,"Provjera","O.K.")) -> O.K. | C29: Šifra 6145 mora biti jednaka zbroju šifri: 61451 do 61459 u oba stupca podataka. | E29: =MAX(G29:K29) -> 0 | F29: =MAX(L29:O29) -> 0 | G29: =IF(ROUND('PR-RAS'!D33,2) = ROUND(SUM('PR-RAS'!D665:D668),2), 0, 1) -> 0 | H29: =IF(ROUND('PR-RAS'!E33,2) = ROUND(SUM('PR-RAS'!E665:E668),2), 0, 1) -> 0
A30: 6 | B30: =IF(E30=1,"Pogreška",IF(F30=1,"Provjera","O.K.")) -> O.K. | C30: Šifra 6331 mora biti jednaka zbroju šifri: 63311 do 63314 u oba stupca podataka. | E30: =MAX(G30:K30) -> 0 | F30: =MAX(L30:O30) -> 0 | G30: =IF(ABS('PR-RAS'!D59-SUM('PR-RAS'!D669:D672))>0.001,1,0) -> 0 | H30: =IF(ABS('PR-RAS'!E59-SUM('PR-RAS'!E669:E672))>0.001,1,0) -> 0
A31: 7 | B31: =IF(E31=1,"Pogreška",IF(F31=1,"Provjera","O.K.")) -> O.K. | C31: Šifra 6332 mora biti jednaka zbroju šifri: 63321 do 63324 u oba stupca podataka. | E31: =MAX(G31:K31) -> 0 | F31: =MAX(L31:O31) -> 0 | G31: =IF(ABS('PR-RAS'!D60-SUM('PR-RAS'!D673:'PR-RAS'!D676))>0.001,1,0) -> 0 | H31: =IF(ABS('PR-RAS'!E60-SUM('PR-RAS'!E673:'PR-RAS'!E676))>0.001,1,0) -> 0
A32: 8 | B32: =IF(E32=1,"Pogreška",IF(F32=1,"Provjera","O.K.")) -> O.K. | C32: Šifra 6341 mora biti jednaka zbroju šifri: 63414 do 63416 u oba stupca podataka. | E32: =MAX(G32:K32) -> 0 | F32: =MAX(L32:O32) -> 0 | G32: =IF(ABS('PR-RAS'!D62-SUM('PR-RAS'!D677:D679))>0.001,1,0) -> 0 | H32: =IF(ABS('PR-RAS'!E62-SUM('PR-RAS'!E677:E679))>0.001,1,0) -> 0
A33: 9 | B33: =IF(E33=1,"Pogreška",IF(F33=1,"Provjera","O.K.")) -> O.K. | C33: Šifra 6342 mora biti jednaka zbroju šifri: 63424 do 63426 u oba stupca podataka. | E33: =MAX(G33:K33) -> 0 | F33: =MAX(L33:O33) -> 0 | G33: =IF(ABS('PR-RAS'!D63-SUM('PR-RAS'!D680:D682))>0.001,1,0) -> 0 | H33: =IF(ABS('PR-RAS'!E63-SUM('PR-RAS'!E680:E682))>0.001,1,0) -> 0
A34: 10 | B34: =IF(E34=1,"Pogreška",IF(F34=1,"Provjera","O.K.")) -> O.K. | C34: Šifra 6361 mora biti jednaka zbroju šifri: 63612 i 63613 u oba stupca podataka. | E34: =MAX(G34:K34) -> 0 | F34: =MAX(L34:O34) -> 0 | G34: =IF(ROUND('PR-RAS'!D69,2)<>ROUND('PR-RAS'!D683+'PR-RAS'!D684,2),1,0) -> 0 | H34: =IF(ROUND('PR-RAS'!E69,2)<>ROUND('PR-RAS'!E683+'PR-RAS'!E684,2),1,0) -> 0
A35: 11 | B35: =IF(E35=1,"Pogreška",IF(F35=1,"Provjera","O.K.")) -> O.K. | C35: Šifra 6362 mora biti jednaka zbroju šifri: 63622 i 63623 u oba stupca podataka. | E35: =MAX(G35:K35) -> 0 | F35: =MAX(L35:O35) -> 0 | G35: =IF(ABS('PR-RAS'!D70-'PR-RAS'!D685-'PR-RAS'!D686)>0.001,1,0) -> 0 | H35: =IF(ABS('PR-RAS'!E70-'PR-RAS'!E685-'PR-RAS'!E686)>0.001,1,0) -> 0
A36: 238 | B36: =IF(E36=1,"Pogreška",IF(F36=1,"Provjera","O.K.")) -> O.K. | C36: Šifra 6371 mora biti jednaka zbroju šifri: 63711 do 63717 u oba stupca podataka. | E36: =MAX(G36:K36) -> 0 | F36: =MAX(L36:O36) -> 0 | G36: =IF(ABS('PR-RAS'!D72-SUM('PR-RAS'!D687:'PR-RAS'!D693))>0.001,1,0) -> 0 | H36: =IF(ABS('PR-RAS'!E72-SUM('PR-RAS'!E687:'PR-RAS'!E693))>0.001,1,0) -> 0
A37: 239 | B37: =IF(E37=1,"Pogreška",IF(F37=1,"Provjera","O.K.")) -> O.K. | C37: Šifra 6372 mora biti jednaka zbroju šifri 63721 do 63728 u oba stupca podataka. | E37: =MAX(G37:K37) -> 0 | F37: =MAX(L37:O37) -> 0 | G37: =IF(ABS('PR-RAS'!D73-SUM('PR-RAS'!D694:'PR-RAS'!D701))>0.001,1,0) -> 0 | H37: =IF(ABS('PR-RAS'!E73-SUM('PR-RAS'!E694:'PR-RAS'!E701))>0.001,1,0) -> 0
A38: 12 | B38: =IF(E38=1,"Pogreška",IF(F38=1,"Provjera","O.K.")) -> O.K. | C38: Šifra 6381 mora biti jednaka zbroju šifri: 63811 do 63814 u oba stupca podataka. | E38: =MAX(G38:K38) -> 0 | F38: =MAX(L38:O38) -> 0 | G38: =IF(ABS('PR-RAS'!D75-SUM('PR-RAS'!D702:D705))>0.001,1,0) -> 0 | H38: =IF(ABS('PR-RAS'!E75-SUM('PR-RAS'!E702:E705))>0.001,1,0) -> 0
A39: 13 | B39: =IF(E39=1,"Pogreška",IF(F39=1,"Provjera","O.K.")) -> O.K. | C39: Šifra 6382 mora biti jednaka zbroju šifri: 63821 do 63824 u oba stupca podataka. | E39: =MAX(G39:K39) -> 0 | F39: =MAX(L39:O39) -> 0 | G39: =IF(ABS('PR-RAS'!D76-SUM('PR-RAS'!D706:D709))>0.001,1,0) -> 0 | H39: =IF(ABS('PR-RAS'!E76-SUM('PR-RAS'!E706:E709))>0.001,1,0) -> 0
A40: 14 | B40: =IF(E40=1,"Pogreška",IF(F40=1,"Provjera","O.K.")) -> O.K. | C40: Šifra 64191 je samo dio šifre 6419 i mora joj biti manja ili jednaka u oba stupca podataka. | E40: =MAX(G40:K40) -> 0 | F40: =MAX(L40:O40) -> 0 | G40: =IF(ROUND('PR-RAS'!D710,2)>ROUND('PR-RAS'!D90,2),1,0) -> 0 | H40: =IF(ROUND('PR-RAS'!E710,2)>ROUND('PR-RAS'!E90,2),1,0) -> 0
A41: 259 | B41: =IF(E41=1,"Pogreška",IF(F41=1,"Provjera","O.K.")) -> O.K. | C41: Šifra 64222 je samo dio šifre 6422 i mora joj biti manja ili jednaka u oba stupca podataka. | E41: =MAX(G41:K41) -> 0 | F41: =MAX(L41:O41) -> 0 | G41: =IF(ROUND('PR-RAS'!D711,2)>ROUND('PR-RAS'!D93,2),1,0) -> 0 | H41: =IF(ROUND('PR-RAS'!E711,2)>ROUND('PR-RAS'!E93,2),1,0) -> 0
A42: 260 | B42: =IF(E42=1,"Pogreška",IF(F42=1,"Provjera","O.K.")) -> O.K. | C42: Šifra 64236 je samo dio šifre 6423 i mora joj biti manja ili jednaka u oba stupca podataka. | E42: =MAX(G42:K42) -> 0 | F42: =MAX(L42:O42) -> 0 | G42: =IF(ROUND('PR-RAS'!D712,2)>ROUND('PR-RAS'!D94,2),1,0) -> 0 | H42: =IF(ROUND('PR-RAS'!E712,2)>ROUND('PR-RAS'!E94,2),1,0) -> 0
A43: 261 | B43: =IF(E43=1,"Pogreška",IF(F43=1,"Provjera","O.K.")) -> O.K. | C43: Zbroj šifri: 64241+64244 samo je dio šifre 6424 i mora joj biti manji ili jednak u oba stupca podataka. | E43: =MAX(G43:K43) -> 0 | F43: =MAX(L43:O43) -> 0 | G43: =IF(ROUND('PR-RAS'!D713+'PR-RAS'!D714,2)>ROUND('PR-RAS'!D95,2),1,0) -> 0 | H43: =IF(ROUND('PR-RAS'!E713+'PR-RAS'!E714,2)>ROUND('PR-RAS'!E95,2),1,0) -> 0
A44: 15 | B44: =IF(E44=1,"Pogreška",IF(F44=1,"Provjera","O.K.")) -> O.K. | C44: Šifra 6437 mora biti jednaka zbroju šifri: 64371 do 64377 u oba stupca podataka. | E44: =MAX(G44:K44) -> 0 | F44: =MAX(L44:O44) -> 0 | G44: =IF(ABS('PR-RAS'!D105-SUM('PR-RAS'!D715:D721))>0.001,1,0) -> 0 | H44: =IF(ABS('PR-RAS'!E105-SUM('PR-RAS'!E715:E721))>0.001,1,0) -> 0
A45: 262 | B45: =IF(E45=1,"Pogreška",IF(F45=1,"Provjera","O.K.")) -> O.K. | C45: Šifra 65141 je samo dio šifre 6514 i mora joj biti manja ili jednaka u oba stupca podataka. | E45: =MAX(G45:K45) -> 0 | F45: =MAX(L45:O45) -> 0 | G45: =IF(ROUND('PR-RAS'!D722,2)>ROUND('PR-RAS'!D111,2),1,0) -> 0 | H45: =IF(ROUND('PR-RAS'!E722,2)>ROUND('PR-RAS'!E111,2),1,0) -> 0
A46: 16 | B46: =IF(E46=1,"Pogreška",IF(F46=1,"Provjera","O.K.")) -> O.K. | C46: Zbroj šifri 65263 do 65267 je samo dio šifre 6526 i mora joj biti manji ili jednak u oba stupca podataka. | E46: =MAX(G46:K46) -> 0 | F46: =MAX(L46:O46) -> 0 | G46: =IF(ROUND(SUM('PR-RAS'!D723:D726),2)>ROUND('PR-RAS'!D117,2),1,0) -> 0 | H46: =IF(ROUND(SUM('PR-RAS'!E723:E726),2)>ROUND('PR-RAS'!E117,2),1,0) -> 0
A47: 240 | B47: =IF(E47=1,"Pogreška",IF(F47=1,"Provjera","O.K.")) -> O.K. | C47: Šifra 6634 mora biti jednaka zbroju šifri: 66341 do 66345 u oba stupca podataka. | E47: =MAX(G47:K47) -> 0 | F47: =MAX(L47:O47) -> 0 | G47: =IF(ABS('PR-RAS'!D133-SUM('PR-RAS'!D727:D731))>0.001,1,0) -> 0 | H47: =IF(ABS('PR-RAS'!E133-SUM('PR-RAS'!E727:E731))>0.001,1,0) -> 0
A48: 17 | B48: =IF(E48=1,"Pogreška",IF(F48=1,"Provjera","O.K.")) -> O.K. | C48: Zbroj šifri 31214 i 31215 je samo dio šifre 312 i mora joj biti manji ili jednak u oba stupca podataka. | E48: =MAX(G48:K48) -> 0 | F48: =MAX(L48:O48) -> 0 | G48: =IF(ROUND('PR-RAS'!D732+'PR-RAS'!D733,2)>ROUND('PR-RAS'!D159,2),1,0) -> 0 | H48: =IF(ROUND('PR-RAS'!E732+'PR-RAS'!E733,2)>ROUND('PR-RAS'!E159,2),1,0) -> 0
A49: 18 | B49: =IF(E49=1,"Pogreška",IF(F49=1,"Provjera","O.K.")) -> O.K. | C49: Šifra 32121 je samo dio šifre 3212 i mora joj biti manja ili jednaka u oba stupca podataka. | E49: =MAX(G49:K49) -> 0 | F49: =MAX(L49:O49) -> 0 | G49: =IF(ROUND('PR-RAS'!D734,2)>ROUND('PR-RAS'!D167,2),1,0) -> 0 | H49: =IF(ROUND('PR-RAS'!E734,2)>ROUND('PR-RAS'!E167,2),1,0) -> 0
A50: 19 | B50: =IF(E50=1,"Pogreška",IF(F50=1,"Provjera","O.K.")) -> O.K. | C50: Šifra 32351 je samo dio šifre 3235 i mora joj biti manja ili jednaka u oba stupca podataka. | E50: =MAX(G50:K50) -> 0 | F50: =MAX(L50:O50) -> 0 | G50: =IF(ROUND('PR-RAS'!D735,2)>ROUND('PR-RAS'!D183,2),1,0) -> 0 | H50: =IF(ROUND('PR-RAS'!E735,2)>ROUND('PR-RAS'!E183,2),1,0) -> 0
A51: 20 | B51: =IF(E51=1,"Pogreška",IF(F51=1,"Provjera","O.K.")) -> O.K. | C51: Šifra 32361 je samo dio šifre 3236 i mora joj biti manja ili jednaka u oba stupca podataka. | E51: =MAX(G51:K51) -> 0 | F51: =MAX(L51:O51) -> 0 | G51: =IF(ROUND('PR-RAS'!D736,2)>ROUND('PR-RAS'!D184,2),1,0) -> 0 | H51: =IF(ROUND('PR-RAS'!E736,2)>ROUND('PR-RAS'!E184,2),1,0) -> 0
A52: 21 | B52: =IF(E52=1,"Pogreška",IF(F52=1,"Provjera","O.K.")) -> O.K. | C52: Zbroj šifri 32371 do 32377 je samo dio šifre 3237 i mora joj biti manji ili jednak u oba stupca podataka. | E52: =MAX(G52:K52) -> 0 | F52: =MAX(L52:O52) -> 0 | G52: =IF(ROUND(SUM('PR-RAS'!D737:D739),2)>ROUND('PR-RAS'!D185,2),1,0) -> 0 | H52: =IF(ROUND(SUM('PR-RAS'!E737:E739),2)>ROUND('PR-RAS'!E185,2),1,0) -> 0
A53: 22 | B53: =IF(E53=1,"Pogreška",IF(F53=1,"Provjera","O.K.")) -> O.K. | C53: Šifra 32398 je samo dio šifre 3239 i mora joj biti manja ili jednaka u oba stupca podataka. | E53: =MAX(G53:K53) -> 0 | F53: =MAX(L53:O53) -> 0 | G53: =IF(ROUND('PR-RAS'!D740,2)>ROUND('PR-RAS'!D187,2),1,0) -> 0 | H53: =IF(ROUND('PR-RAS'!E740,2)>ROUND('PR-RAS'!E187,2),1,0) -> 0
A54: 23 | B54: =IF(E54=1,"Pogreška",IF(F54=1,"Provjera","O.K.")) -> O.K. | C54: Šifra 32911 je samo dio šifre 3291 i mora joj biti manja ili jednaka u oba stupca podataka. | E54: =MAX(G54:K54) -> 0 | F54: =MAX(L54:O54) -> 0 | G54: =IF(ROUND('PR-RAS'!D741,2)>ROUND('PR-RAS'!D195,2),1,0) -> 0 | H54: =IF(ROUND('PR-RAS'!E741,2)>ROUND('PR-RAS'!E195,2),1,0) -> 0
A55: 24 | B55: =IF(E55=1,"Pogreška",IF(F55=1,"Provjera","O.K.")) -> O.K. | C55: Šifra 32923 je samo dio šifre 3292 i mora joj biti manja ili jednaka u oba stupca podataka. | E55: =MAX(G55:K55) -> 0 | F55: =MAX(L55:O55) -> 0 | G55: =IF(ROUND('PR-RAS'!D742,2)>ROUND('PR-RAS'!D196,2),1,0) -> 0 | H55: =IF(ROUND('PR-RAS'!E742,2)>ROUND('PR-RAS'!E196,2),1,0) -> 0
A56: 263 | B56: =IF(E56=1,"Pogreška",IF(F56=1,"Provjera","O.K.")) -> O.K. | C56: Šifra 32942 je samo dio šifre 3294 i mora joj biti manja ili jednaka u oba stupca podataka. | E56: =MAX(G56:K56) -> 0 | F56: =MAX(L56:O56) -> 0 | G56: =IF(ROUND('PR-RAS'!D743,2)>ROUND('PR-RAS'!D198,2),1,0) -> 0 | H56: =IF(ROUND('PR-RAS'!E743,2)>ROUND('PR-RAS'!E198,2),1,0) -> 0
A57: 264 | B57: =IF(E57=1,"Pogreška",IF(F57=1,"Provjera","O.K.")) -> O.K. | C57: Šifra 32955 je samo dio šifre 3295 i mora joj biti manja ili jednaka u oba stupca podataka. | E57: =MAX(G57:K57) -> 0 | F57: =MAX(L57:O57) -> 0 | G57: =IF(ROUND('PR-RAS'!D744,2)>ROUND('PR-RAS'!D199,2),1,0) -> 0 | H57: =IF(ROUND('PR-RAS'!E744,2)>ROUND('PR-RAS'!E199,2),1,0) -> 0
A58: 25 | B58: =IF(E58=1,"Pogreška",IF(F58=1,"Provjera","O.K.")) -> O.K. | C58: Šifra 3411 mora biti jednaka zbroju šifri: 34111+34112 u oba stupca podataka. | E58: =MAX(G58:K58) -> 0 | F58: =MAX(L58:O58) -> 0 | G58: =IF(ABS('PR-RAS'!D745+'PR-RAS'!D746-'PR-RAS'!D204)>0.001,1,0) -> 0 | H58: =IF(ABS('PR-RAS'!E745+'PR-RAS'!E746-'PR-RAS'!E204)>0.001,1,0) -> 0
A59: 26 | B59: =IF(E59=1,"Pogreška",IF(F59=1,"Provjera","O.K.")) -> O.K. | C59: Šifra 3412 mora biti jednaka zbroju šifri: 34121+34122 u oba stupca podataka. | E59: =MAX(G59:K59) -> 0 | F59: =MAX(L59:O59) -> 0 | G59: =IF(ABS('PR-RAS'!D747+'PR-RAS'!D748-'PR-RAS'!D205)>0.001,1,0) -> 0 | H59: =IF(ABS('PR-RAS'!E747+'PR-RAS'!E748-'PR-RAS'!E205)>0.001,1,0) -> 0
A60: 27 | B60: =IF(E60=1,"Pogreška",IF(F60=1,"Provjera","O.K.")) -> O.K. | C60: Šifra 3413 mora biti jednaka zbroju šifri: 34131+34132 u oba stupca podataka. | E60: =MAX(G60:K60) -> 0 | F60: =MAX(L60:O60) -> 0 | G60: =IF(ABS('PR-RAS'!D749+'PR-RAS'!D750-'PR-RAS'!D206)>0.001,1,0) -> 0 | H60: =IF(ABS('PR-RAS'!E749+'PR-RAS'!E750-'PR-RAS'!E206)>0.001,1,0) -> 0
A61: 28 | B61: =IF(E61=1,"Pogreška",IF(F61=1,"Provjera","O.K.")) -> O.K. | C61: Šifra 3419 mora biti jednaka zbroju šifri: 34191+34192 u oba stupca podataka. | E61: =MAX(G61:K61) -> 0 | F61: =MAX(L61:O61) -> 0 | G61: =IF(ABS('PR-RAS'!D751+'PR-RAS'!D752-'PR-RAS'!D207)>0.001,1,0) -> 0 | H61: =IF(ABS('PR-RAS'!E751+'PR-RAS'!E752-'PR-RAS'!E207)>0.001,1,0) -> 0
A62: 29 | B62: =IF(E62=1,"Pogreška",IF(F62=1,"Provjera","O.K.")) -> O.K. | C62: Šifra 3421 mora biti jednaka zbroju šifri: 34213 do 34216 u oba stupca podataka. | E62: =MAX(G62:K62) -> 0 | F62: =MAX(L62:O62) -> 0 | G62: =IF(ABS('PR-RAS'!D209-SUM('PR-RAS'!D753:D756))>0.001,1,0) -> 0 | H62: =IF(ABS('PR-RAS'!E209-SUM('PR-RAS'!E753:E756))>0.001,1,0) -> 0
A63: 30 | B63: =IF(E63=1,"Pogreška",IF(F63=1,"Provjera","O.K.")) -> O.K. | C63: Šifra 3422 mora biti jednaka zbroju šifri: 34222 do 34224 u oba stupca podataka. | E63: =MAX(G63:K63) -> 0 | F63: =MAX(L63:O63) -> 0 | G63: =IF(ABS('PR-RAS'!D210-SUM('PR-RAS'!D757:D759))>0.001,1,0) -> 0 | H63: =IF(ABS('PR-RAS'!E210-SUM('PR-RAS'!E757:E759))>0.001,1,0) -> 0
A64: 31 | B64: =IF(E64=1,"Pogreška",IF(F64=1,"Provjera","O.K.")) -> O.K. | C64: Šifra 3423 mora biti jednaka zbroju šifri: 34233 do 34238 u oba stupca podataka. | E64: =MAX(G64:K64) -> 0 | F64: =MAX(L64:O64) -> 0 | G64: =IF(ABS('PR-RAS'!D211-SUM('PR-RAS'!D760:D765))>0.001,1,0) -> 0 | H64: =IF(ABS('PR-RAS'!E211-SUM('PR-RAS'!E760:E765))>0.001,1,0) -> 0
A65: 32 | B65: =IF(E65=1,"Pogreška",IF(F65=1,"Provjera","O.K.")) -> O.K. | C65: Zbroj šifri 34273 do 34275 je samo dio šifre 3427 i mora joj biti manji ili jednak u oba stupca podataka. | E65: =MAX(G65:K65) -> 0 | F65: =MAX(L65:O65) -> 0 | G65: =IF(ROUND(SUM('PR-RAS'!D766:D768),2)>ROUND('PR-RAS'!D214,2),1,0) -> 0 | H65: =IF(ROUND(SUM('PR-RAS'!E766:E768),2)>ROUND('PR-RAS'!E214,2),1,0) -> 0
A66: 33 | B66: =IF(E66=1,"Pogreška",IF(F66=1,"Provjera","O.K.")) -> O.K. | C66: Šifra 3428 mora biti jednaka zbroju šifri: 34281 do 34287 u oba stupca podataka. | E66: =MAX(G66:K66) -> 0 | F66: =MAX(L66:O66) -> 0 | G66: =IF(ABS('PR-RAS'!D215-SUM('PR-RAS'!D769:D775))>0.001,1,0) -> 0 | H66: =IF(ABS('PR-RAS'!E215-SUM('PR-RAS'!E769:E775))>0.001,1,0) -> 0
A67: 34 | B67: =IF(E67=1,"Pogreška",IF(F67=1,"Provjera","O.K.")) -> O.K. | C67: Šifra 34341 je samo dio šifre 3434 i mora joj biti manja ili jednaka u oba stupca podataka. | E67: =MAX(G67:K67) -> 0 | F67: =MAX(L67:O67) -> 0 | G67: =IF(ROUND('PR-RAS'!D776,2)>ROUND('PR-RAS'!D220,2),1,0) -> 0 | H67: =IF(ROUND('PR-RAS'!E776,2)>ROUND('PR-RAS'!E220,2),1,0) -> 0
A68: 35 | B68: =IF(E68=1,"Pogreška",IF(F68=1,"Provjera","O.K.")) -> O.K. | C68: Šifra 3523 mora biti jednaka zbroju šifri: 35231+35232 u oba stupca podataka. | E68: =MAX(G68:K68) -> 0 | F68: =MAX(L68:O68) -> 0 | G68: =IF(ABS('PR-RAS'!D228-'PR-RAS'!D777-'PR-RAS'!D778)>0.001,1,0) -> 0 | H68: =IF(ABS('PR-RAS'!E228-'PR-RAS'!E777-'PR-RAS'!E778)>0.001,1,0) -> 0
A69: 36 | B69: =IF(E69=1,"Pogreška",IF(F69=1,"Provjera","O.K.")) -> O.K. | C69: Šifra 3631 mora biti jednaka zbroju šifri: 36313 do 36319 u oba stupca podataka. | E69: =MAX(G69:K69) -> 0 | F69: =MAX(L69:O69) -> 0 | G69: =IF(ABS('PR-RAS'!D238-SUM('PR-RAS'!D779:D785))>0.001,1,0) -> 0 | H69: =IF(ABS('PR-RAS'!E238-SUM('PR-RAS'!E779:E785))>0.001,1,0) -> 0
A70: 37 | B70: =IF(E70=1,"Pogreška",IF(F70=1,"Provjera","O.K.")) -> O.K. | C70: Šifra 3632 mora biti jednaka zbroju šifri: 36323 do 36329 u oba stupca podataka. | E70: =MAX(G70:K70) -> 0 | F70: =MAX(L70:O70) -> 0 | G70: =IF(ABS('PR-RAS'!D239-SUM('PR-RAS'!D786:D792))>0.001,1,0) -> 0 | H70: =IF(ABS('PR-RAS'!E239-SUM('PR-RAS'!E786:E792))>0.001,1,0) -> 0
A71: 241 | B71: =IF(E71=1,"Pogreška",IF(F71=1,"Provjera","O.K.")) -> O.K. | C71: Šifra 3635 mora biti jednaka zbroju šifri: 36351 do 36356 u oba stupca podataka. | E71: =MAX(G71:K71) -> 0 | F71: =MAX(L71:O71) -> 0 | G71: =IF(ABS('PR-RAS'!D240-SUM('PR-RAS'!D793:D798))>0.001,1,0) -> 0 | H71: =IF(ABS('PR-RAS'!E240-SUM('PR-RAS'!E793:E798))>0.001,1,0) -> 0
A72: 242 | B72: =IF(E72=1,"Pogreška",IF(F72=1,"Provjera","O.K.")) -> O.K. | C72: Šifra 3636 mora biti jednaka zbroju šifri: 36361 do 36367 u oba stupca podataka. | E72: =MAX(G72:K72) -> 0 | F72: =MAX(L72:O72) -> 0 | G72: =IF(ABS('PR-RAS'!D241-SUM('PR-RAS'!D799:D805))>0.001,1,0) -> 0 | H72: =IF(ABS('PR-RAS'!E241-SUM('PR-RAS'!E799:E805))>0.001,1,0) -> 0
A73: 265 | B73: =IF(E73=1,"Pogreška",IF(F73=1,"Provjera","O.K.")) -> O.K. | C73: Šifra 3651 mora biti jednaka zbroju šifri: 36511 do 36513 u oba stupca podataka. | E73: =MAX(G73:K73) -> 0 | F73: =MAX(L73:O73) -> 0 | G73: =IF(ROUND('PR-RAS'!D243,2) = ROUND(SUM('PR-RAS'!D806:D808),2), 0, 1) -> 0 | H73: =IF(ROUND('PR-RAS'!E243,2) = ROUND(SUM('PR-RAS'!E806:E808),2), 0, 1) -> 0
A74: 266 | B74: =IF(E74=1,"Pogreška",IF(F74=1,"Provjera","O.K.")) -> O.K. | C74: Šifra 3652 mora biti jednaka zbroju šifri: 36521 do 36523 u oba stupca podataka. | E74: =MAX(G74:K74) -> 0 | F74: =MAX(L74:O74) -> 0 | G74: =IF(ROUND('PR-RAS'!D244,2) = ROUND(SUM('PR-RAS'!D809:D811),2), 0, 1) -> 0 | H74: =IF(ROUND('PR-RAS'!E244,2) = ROUND(SUM('PR-RAS'!E809:E811),2), 0, 1) -> 0
A75: 267 | B75: =IF(E75=1,"Pogreška",IF(F75=1,"Provjera","O.K.")) -> O.K. | C75: Šifra 3653 mora biti jednaka zbroju šifri: 36531 do 36533 u oba stupca podataka. | E75: =MAX(G75:K75) -> 0 | F75: =MAX(L75:O75) -> 0 | G75: =IF(ROUND('PR-RAS'!D245,2) = ROUND(SUM('PR-RAS'!D812:D814),2), 0, 1) -> 0 | H75: =IF(ROUND('PR-RAS'!E245,2) = ROUND(SUM('PR-RAS'!E812:E814),2), 0, 1) -> 0
A76: 243 | B76: =IF(E76=1,"Pogreška",IF(F76=1,"Provjera","O.K.")) -> O.K. | C76: Šifra 3663 mora biti jednaka zbroju šifri: 36631+36632 u oba stupca podataka. | E76: =MAX(G76:K76) -> 0 | F76: =MAX(L76:O76) -> 0 | G76: =IF(ABS('PR-RAS'!D249-SUM('PR-RAS'!D815:D816))>0.001,1,0) -> 0 | H76: =IF(ABS('PR-RAS'!E249-SUM('PR-RAS'!E815:E816))>0.001,1,0) -> 0
A77: 38 | B77: =IF(E77=1,"Pogreška",IF(F77=1,"Provjera","O.K.")) -> O.K. | C77: Šifra 3681 mora biti jednaka zbroju šifri: 36811 do 36819 u oba stupca podataka. | E77: =MAX(G77:K77) -> 0 | F77: =MAX(L77:O77) -> 0 | G77: =IF(ABS('PR-RAS'!D255-SUM('PR-RAS'!D817:D825))>0.001,1,0) -> 0 | H77: =IF(ABS('PR-RAS'!E255-SUM('PR-RAS'!E817:E825))>0.001,1,0) -> 0
A78: 39 | B78: =IF(E78=1,"Pogreška",IF(F78=1,"Provjera","O.K.")) -> O.K. | C78: Šifra 3682 mora biti jednaka zbroju šifri: 36821 do 36829 u oba stupca podataka. | E78: =MAX(G78:K78) -> 0 | F78: =MAX(L78:O78) -> 0 | G78: =IF(ABS('PR-RAS'!D256-SUM('PR-RAS'!D826:D834))>0.001,1,0) -> 0 | H78: =IF(ABS('PR-RAS'!E256-SUM('PR-RAS'!E826:E834))>0.001,1,0) -> 0
A79: 40 | B79: =IF(E79=1,"Pogreška",IF(F79=1,"Provjera","O.K.")) -> O.K. | C79: Šifra 3713 mora biti jednaka zbroju šifri: 37131 do 37139 u oba stupca podataka. | E79: =MAX(G79:K79) -> 0 | F79: =MAX(L79:O79) -> 0 | G79: =IF(ABS('PR-RAS'!D266-SUM('PR-RAS'!D835:D837))>0.001,1,0) -> 0 | H79: =IF(ABS('PR-RAS'!E266-SUM('PR-RAS'!E835:E837))>0.001,1,0) -> 0
A80: 41 | B80: =IF(E80=1,"Pogreška",IF(F80=1,"Provjera","O.K.")) -> O.K. | C80: Šifra 3714 mora biti jednaka zbroju šifri: 37141 do 37149 u oba stupca podataka. | E80: =MAX(G80:K80) -> 0 | F80: =MAX(L80:O80) -> 0 | G80: =IF(ABS('PR-RAS'!D267-SUM('PR-RAS'!D838:D841))>0.001,1,0) -> 0 | H80: =IF(ABS('PR-RAS'!E267-SUM('PR-RAS'!E838:E841))>0.001,1,0) -> 0
A81: 42 | B81: =IF(E81=1,"Pogreška",IF(F81=1,"Provjera","O.K.")) -> O.K. | C81: Šifra 3721 mora biti jednaka zbroju šifri: 37211 do 37219 u oba stupca podataka. | E81: =MAX(G81:K81) -> 0 | F81: =MAX(L81:O81) -> 0 | G81: =IF(ABS('PR-RAS'!D270-SUM('PR-RAS'!D842:D850))>0.001,1,0) -> 0 | H81: =IF(ABS('PR-RAS'!E270-SUM('PR-RAS'!E842:E850))>0.001,1,0) -> 0
A82: 43 | B82: =IF(E82=1,"Pogreška",IF(F82=1,"Provjera","O.K.")) -> O.K. | C82: Šifra 3722 mora biti jednaka zbroju šifri: 37221 do 37229 u oba stupca podataka. | E82: =MAX(G82:K82) -> 0 | F82: =MAX(L82:O82) -> 0 | G82: =IF(ABS('PR-RAS'!D271-SUM('PR-RAS'!D851:D855))>0.001,1,0) -> 0 | H82: =IF(ABS('PR-RAS'!E271-SUM('PR-RAS'!E851:E855))>0.001,1,0) -> 0
A83: 44 | B83: =IF(E83=1,"Pogreška",IF(F83=1,"Provjera","O.K.")) -> O.K. | C83: Šifra 38117 je samo dio šifre 3811 i mora joj biti manja ili jednaka u oba stupca podataka. | E83: =MAX(G83:K83) -> 0 | F83: =MAX(L83:O83) -> 0 | G83: =IF(ROUND('PR-RAS'!D856,2)>ROUND('PR-RAS'!D275,2),1,0) -> 0 | H83: =IF(ROUND('PR-RAS'!E856,2)>ROUND('PR-RAS'!E275,2),1,0) -> 0
A84: 45 | B84: =IF(E84=1,"Pogreška",IF(F84=1,"Provjera","O.K.")) -> O.K. | C84: Šifra 3861 mora biti jednaka zbroju šifri: 38612 do 38615 u oba stupca podataka. | E84: =MAX(G84:K84) -> 0 | F84: =MAX(L84:O84) -> 0 | G84: =IF(ABS('PR-RAS'!D290-SUM('PR-RAS'!D857:D860))>0.001,1,0) -> 0 | H84: =IF(ABS('PR-RAS'!E290-SUM('PR-RAS'!E857:E860))>0.001,1,0) -> 0
A85: 46 | B85: =IF(E85=1,"Pogreška",IF(F85=1,"Provjera","O.K.")) -> O.K. | C85: Šifra 3862 mora biti jednaka zbroju šifri: 38622 do 38626 u oba stupca podataka. | E85: =MAX(G85:K85) -> 0 | F85: =MAX(L85:O85) -> 0 | G85: =IF(ABS('PR-RAS'!D291-SUM('PR-RAS'!D861:D865))>0.001,1,0) -> 0 | H85: =IF(ABS('PR-RAS'!E291-SUM('PR-RAS'!E861:E865))>0.001,1,0) -> 0
A86: 47 | B86: =IF(E86=1,"Pogreška",IF(F86=1,"Provjera","O.K.")) -> O.K. | C86: Šifra 3863 mora biti jednaka zbroju šifri: 38631+38632 u oba stupca podataka. | E86: =MAX(G86:K86) -> 0 | F86: =MAX(L86:O86) -> 0 | G86: =IF(ABS('PR-RAS'!D292-SUM('PR-RAS'!D866:D867))>0.001,1,0) -> 0 | H86: =IF(ABS('PR-RAS'!E292-SUM('PR-RAS'!E866:E867))>0.001,1,0) -> 0
A87: 48 | B87: =IF(E87=1,"Pogreška",IF(F87=1,"Provjera","O.K.")) -> O.K. | C87: Šifra 3864 mora biti jednaka zbroju šifri: 38641+38642 u oba stupca podataka. | E87: =MAX(G87:K87) -> 0 | F87: =MAX(L87:O87) -> 0 | G87: =IF(ABS('PR-RAS'!D293-SUM('PR-RAS'!D868:D869))>0.001,1,0) -> 0 | H87: =IF(ABS('PR-RAS'!E293-SUM('PR-RAS'!E868:E869))>0.001,1,0) -> 0
A88: 244 | B88: =IF(E88=1,"Pogreška",IF(F88=1,"Provjera","O.K.")) -> O.K. | C88: Šifra 3865 mora biti jednaka zbroju šifri: 38651 do 38653 u oba stupca podataka. | E88: =MAX(G88:K88) -> 0 | F88: =MAX(L88:O88) -> 0 | G88: =IF(ABS('PR-RAS'!D294-SUM('PR-RAS'!D870:D872))>0.001,1,0) -> 0 | H88: =IF(ABS('PR-RAS'!E294-SUM('PR-RAS'!E870:E872))>0.001,1,0) -> 0
A89: 49 | B89: =IF(E89=1,"Pogreška",IF(F89=1,"Provjera","O.K.")) -> O.K. | C89: Šifra 81212 je samo dio šifre 8121 i mora joj biti manja ili jednaka u oba stupca podataka. | E89: =MAX(G89:K89) -> 0 | F89: =MAX(L89:O89) -> 0 | G89: =IF(ROUND('PR-RAS'!D873,2)>ROUND('PR-RAS'!D438,2),1,0) -> 0 | H89: =IF(ROUND('PR-RAS'!E873,2)>ROUND('PR-RAS'!E438,2),1,0) -> 0
A90: 50 | B90: =IF(E90=1,"Pogreška",IF(F90=1,"Provjera","O.K.")) -> O.K. | C90: Šifra 81322 je samo dio šifre 8132 i mora joj biti manja ili jednaka u oba stupca podataka. | E90: =MAX(G90:K90) -> 0 | F90: =MAX(L90:O90) -> 0 | G90: =IF(ROUND('PR-RAS'!D874,2)>ROUND('PR-RAS'!D441,2),1,0) -> 0 | H90: =IF(ROUND('PR-RAS'!E874,2)>ROUND('PR-RAS'!E441,2),1,0) -> 0
A91: 51 | B91: =IF(E91=1,"Pogreška",IF(F91=1,"Provjera","O.K.")) -> O.K. | C91: Šifra 81332 je samo dio šifre 8133 i mora joj biti manja ili jednaka u oba stupca podataka. | E91: =MAX(G91:K91) -> 0 | F91: =MAX(L91:O91) -> 0 | G91: =IF(ROUND('PR-RAS'!D875,2)>ROUND('PR-RAS'!D442,2),1,0) -> 0 | H91: =IF(ROUND('PR-RAS'!E875,2)>ROUND('PR-RAS'!E442,2),1,0) -> 0
A92: 52 | B92: =IF(E92=1,"Pogreška",IF(F92=1,"Provjera","O.K.")) -> O.K. | C92: Šifra 81342 je samo dio šifre 8134 i mora joj biti manja ili jednaka u oba stupca podataka. | E92: =MAX(G92:K92) -> 0 | F92: =MAX(L92:O92) -> 0 | G92: =IF(ROUND('PR-RAS'!D876,2)>ROUND('PR-RAS'!D443,2),1,0) -> 0 | H92: =IF(ROUND('PR-RAS'!E876,2)>ROUND('PR-RAS'!E443,2),1,0) -> 0
A93: 53 | B93: =IF(E93=1,"Pogreška",IF(F93=1,"Provjera","O.K.")) -> O.K. | C93: Šifra 814 mora biti jednaka zbroju šifri: 81411+81412 u oba stupca podataka. | E93: =MAX(G93:K93) -> 0 | F93: =MAX(L93:O93) -> 0 | G93: =IF(ABS('PR-RAS'!D444-SUM('PR-RAS'!D877:D878))>0.001,1,0) -> 0 | H93: =IF(ABS('PR-RAS'!E444-SUM('PR-RAS'!E877:E878))>0.001,1,0) -> 0
A94: 54 | B94: =IF(E94=1,"Pogreška",IF(F94=1,"Provjera","O.K.")) -> O.K. | C94: Šifra 81532 je samo dio šifre 8153 i mora joj biti manja ili jednaka u oba stupca podataka. | E94: =MAX(G94:K94) -> 0 | F94: =MAX(L94:O94) -> 0 | G94: =IF(ROUND('PR-RAS'!D879,2)>ROUND('PR-RAS'!D446,2),1,0) -> 0 | H94: =IF(ROUND('PR-RAS'!E879,2)>ROUND('PR-RAS'!E446,2),1,0) -> 0
A95: 55 | B95: =IF(E95=1,"Pogreška",IF(F95=1,"Provjera","O.K.")) -> O.K. | C95: Šifra 81542 je samo dio šifre 8154 i mora joj biti manja ili jednaka u oba stupca podataka. | E95: =MAX(G95:K95) -> 0 | F95: =MAX(L95:O95) -> 0 | G95: =IF(ROUND('PR-RAS'!D880,2)>ROUND('PR-RAS'!D447,2),1,0) -> 0 | H95: =IF(ROUND('PR-RAS'!E880,2)>ROUND('PR-RAS'!E447,2),1,0) -> 0
A96: 56 | B96: =IF(E96=1,"Pogreška",IF(F96=1,"Provjera","O.K.")) -> O.K. | C96: Šifra 81552 je samo dio šifre 8155 i mora joj biti manja ili jednaka u oba stupca podataka. | E96: =MAX(G96:K96) -> 0 | F96: =MAX(L96:O96) -> 0 | G96: =IF(ROUND('PR-RAS'!D881,2)>ROUND('PR-RAS'!D448,2),1,0) -> 0 | H96: =IF(ROUND('PR-RAS'!E881,2)>ROUND('PR-RAS'!E448,2),1,0) -> 0
A97: 57 | B97: =IF(E97=1,"Pogreška",IF(F97=1,"Provjera","O.K.")) -> O.K. | C97: Šifra 8163 mora biti jednaka zbroju šifri: 81631+81632 u oba stupca podataka. | E97: =MAX(G97:K97) -> 0 | F97: =MAX(L97:O97) -> 0 | G97: =IF(ABS('PR-RAS'!D453-SUM('PR-RAS'!D882:D883))>0.001,1,0) -> 0 | H97: =IF(ABS('PR-RAS'!E453-SUM('PR-RAS'!E882:E883))>0.001,1,0) -> 0
A98: 58 | B98: =IF(E98=1,"Pogreška",IF(F98=1,"Provjera","O.K.")) -> O.K. | C98: Šifra 8164 mora biti jednaka zbroju šifri: 81641+81642 u oba stupca podataka. | E98: =MAX(G98:K98) -> 0 | F98: =MAX(L98:O98) -> 0 | G98: =IF(ABS('PR-RAS'!D454-SUM('PR-RAS'!D884:D885))>0.001,1,0) -> 0 | H98: =IF(ABS('PR-RAS'!E454-SUM('PR-RAS'!E884:E885))>0.001,1,0) -> 0
A99: 59 | B99: =IF(E99=1,"Pogreška",IF(F99=1,"Provjera","O.K.")) -> O.K. | C99: Šifra 8171 mora biti jednaka zbroju šifri: 81711+81712 u oba stupca podataka. | E99: =MAX(G99:K99) -> 0 | F99: =MAX(L99:O99) -> 0 | G99: =IF(ABS('PR-RAS'!D458-SUM('PR-RAS'!D886:D887))>0.001,1,0) -> 0 | H99: =IF(ABS('PR-RAS'!E458-SUM('PR-RAS'!E886:E887))>0.001,1,0) -> 0
A100: 60 | B100: =IF(E100=1,"Pogreška",IF(F100=1,"Provjera","O.K.")) -> O.K. | C100: Šifra 8172 mora biti jednaka zbroju šifri: 81721+81722 u oba stupca podataka. | E100: =MAX(G100:K100) -> 0 | F100: =MAX(L100:O100) -> 0 | G100: =IF(ABS('PR-RAS'!D459-SUM('PR-RAS'!D888:D889))>0.001,1,0) -> 0 | H100: =IF(ABS('PR-RAS'!E459-SUM('PR-RAS'!E888:E889))>0.001,1,0) -> 0
...

Sheet Promjene
A1: PROMJENE
A2: Na ovom radnom listu dat će se popis svih, i najmanjih promjena Excel datoteke iz verzije u verziju (bilo da su nastale zbog promjene zakonskih propisa, ispravka pogrešaka u Excel datoteci, dodatnim kontrolama ili poboljšanjima obrasca.
A3: Verzija | B3: Opis promjene u odnosu na prethodnu verziju
A4: 2.0.0. | B4: Svi obrasci proračuna i proračunskih korisnika objedinjeni su zbog potreba kontrola između obrazaca te lakšu kontrolu obveznosti (koja razina je obvezna podnositi koji obrazac).
A5: 2.0.0. | B5: Uvedena su polja "Datum od" i "Datum do" svakog pojedinog razdoblja kako bi se moglo posebno prepoznati obveznike koji nisu poslovali cijelo navedeno razdoblje (novootvoreni obveznici i obveznici koji zbog statusnih promjena gube pravnu osobnost).
A6: 2.0.0. | B6: Programskim kućama koje izrađuju aplikacije za punjenje obrazaca olakšan je postao jer se za sve obrasce i sve vrste posla unosi jedno jedinstveno zaglavlje, u svakom obrascu AOP oznake upisane su u koloni "C", dok svi iznosi (bez obzira na broj kolona) počinju u koloni "D", u 12. retku. Od ovoga se više neće odstupati osim ako ne bude nikakve druge mogućnosti da se unesu potrebne promjene.
A7: 2.0.1. | B7: Popravljeni su pogrešni naslovi nekih obrazaca. Dodana je kontrola da se u poštanski broj ne može unijeti nešto što nije broj između 10000 i 60000. Popravljena je kontrola upozorenja na S-PR-RAS obrascu koja je krivo izračunavala razradu konta 32 (kontrola pod rednim brojem 90)
A8: 2.0.2. | B8: Ispravljena kontrola u PR-RAS obrascu koja je AOP 010 zbrajala u AOP oznaku 003, umjesto da je oduzimala od sume svih ostalih AOP oznaka.
A9: 2.0.3. | B9: Ispravljena kontrola upozorenja na broj zaposlenih u PR-RAS obrascu preko 1000 kada to nije. Ispravljena kontrola koja je za polugodište javljala pogrešku da se za razinu 23 ne predaje obrazac Obveze. Svi obveznici (ne više samo oni kojima je razdjel ujedno i glava) razina 11 i 12 trebaju upisati razdjel, a ostali obveznici ne mogu.
A10: 2.0.3. | B10: Upisom razine 11 ili 12 u zaglavlju obrasca obveze automatski se pojavljuje oznaka da je obrazac mjesečni, a ne kvartalni. Promijenjeni su opisi obveznosti predaje prema razinama, grupirani na mjesečnu obvezu, kvartalnu, polugodišnju i godišnju. Na obrazac obveze, na dnu obrasca dodana crta za potpis zakonskog predstavnika (za dostavu obrasca nadležnim ministarstvima).
A11: 2.0.3. | B11: Proširene upute tekstom o upotrebi ove Excel datoteke za dostavu podataka nadležnim ministarstvima ili za neke druge potrebe.
A12: 2.0.4. | B12: Popravljena kontrola broj 36 u PR-RAS-u koja je provjeravala pogrešne AOP pozicije. Popravljena kontrola koja je javljala pogrešku ako je bio popunjen polugodišnji obrazac NT za razine 22 i 23.
A13: 2.0.5. | B13: Popravljena kontrola broj 9 u kojoj je za razinu 23 traženo da bude upisan i obrazac NT, a stvarno ne treba biti.
A14: 2.0.6. | B14: Popravljene kontrole broj 7 i 12 (obveznost predaje po razinama 13 i 42) te kontrola 63 - iznosi planiranog za razdoblje i planiranog za cijelu godinu u obrascu PR-RAS moraju biti identični kod godišnjeg obrasca, a za ostala razdoblja iznos planirano za razdoblje mora biti manji ili jednak planiranom za cijelu godinu.
... A59: 8.3.0. | B59: Dodan novi financijski izvještaj (EU izvještaj) koji se predaje u zasebnom MS Excel dokumentu. Korekcija postojećih kontrola broj 137, 147, 151, 163, 168, 171 i 235 za obrazac PR-RAS. Dodana nova kontrola broj 55 za obrazac BILANCA.
